BEGIN:VCALENDAR
VERSION:2.0
PRODID:-//Verschickungsheime - ECPv6.15.20//NONSGML v1.0//EN
CALSCALE:GREGORIAN
METHOD:PUBLISH
X-ORIGINAL-URL:https://verschickungsheime.de
X-WR-CALDESC:Veranstaltungen für Verschickungsheime
REFRESH-INTERVAL;VALUE=DURATION:PT1H
X-Robots-Tag:noindex
X-PUBLISHED-TTL:PT1H
BEGIN:VTIMEZONE
TZID:Europe/Berlin
BEGIN:DAYLIGHT
TZOFFSETFROM:+0100
TZOFFSETTO:+0200
TZNAME:CEST
DTSTART:20240331T010000
END:DAYLIGHT
BEGIN:STANDARD
TZOFFSETFROM:+0200
TZOFFSETTO:+0100
TZNAME:CET
DTSTART:20241027T010000
END:STANDARD
BEGIN:DAYLIGHT
TZOFFSETFROM:+0100
TZOFFSETTO:+0200
TZNAME:CEST
DTSTART:20250330T010000
END:DAYLIGHT
BEGIN:STANDARD
TZOFFSETFROM:+0200
TZOFFSETTO:+0100
TZNAME:CET
DTSTART:20251026T010000
END:STANDARD
BEGIN:DAYLIGHT
TZOFFSETFROM:+0100
TZOFFSETTO:+0200
TZNAME:CEST
DTSTART:20260329T010000
END:DAYLIGHT
BEGIN:STANDARD
TZOFFSETFROM:+0200
TZOFFSETTO:+0100
TZNAME:CET
DTSTART:20261025T010000
END:STANDARD
END:VTIMEZONE
BEGIN:VEVENT
DTSTART;TZID=Europe/Berlin:20250505T110000
DTEND;TZID=Europe/Berlin:20250505T123000
DTSTAMP:20260421T172101
CREATED:20250404T200441Z
LAST-MODIFIED:20250413T151525Z
UID:10001394-1746442800-1746448200@verschickungsheime.de
SUMMARY:HOK-Dienst\, Vernetzung zum Erinnerungsaustausch in Heimortgruppen
DESCRIPTION:Erinnerungsaustausch. \n\n\n\nDas ist ein wichtiges Bedürfnis aller Betroffenen von Kinderverschickung. Daher gibt es den dringenden Wunsch\, Menschen aufzuspüren\, die in dasselbe Heim oder in denselben Heimort verschickt waren wie man selbst. \n\n\n\nDaher vernetzen wir uns gerne in Heimortgruppen; also Gruppen\, in denen sich Verschickungskinder zusammenfinden\, die in ein- und denselben Heimort verschickt wurden. HOKs (=Heimortkoordinator/innen) organisieren die Gruppen\, sie vernetzen die Mitglieder untereinander. \n\n\n\nZum Thema „VERNETZUNG in Heimort-Gruppen: Sinn und Zweck einer Heimortgruppe und wie sie funktionieren kann“ wollen wir in einen Austausch gehen. \n\n\n\nErfahrene und neue HOKs sollen zu Wort kommen und Stefan Müller (Mitglied im Vorstand des bundesweit tätigen Vereins „Initiative Verschickungskinder e.V.“) gibt eine Anleitung zur Mitwirkung durch Übernahme eines HOK-Dienstes. \n\n\n\nAnmeldung zur Veranstaltung unter:  \n\n\n\nvorstandsmitglied-fuer-vernetzung@verschickungsheime.de \n\n\n\nDauer etwa 1 Stunde bis 1\,5 Stunden.
URL:https://verschickungsheime.de/event/vernetzung-in-heimortgruppen/
CATEGORIES:Bundesweit
END:VEVENT
BEGIN:VEVENT
DTSTART;TZID=Europe/Berlin:20250505T170000
DTEND;TZID=Europe/Berlin:20250505T180000
DTSTAMP:20260421T172101
CREATED:20241106T141658Z
LAST-MODIFIED:20241107T121442Z
UID:10001195-1746464400-1746468000@verschickungsheime.de
SUMMARY:NRW: Innerlich ruhig und stabil - Achtsamkeits-Training mit Birgit Schönberger
DESCRIPTION:Aufarbeitung Kinderverschickungen NRW e.V. präsentiert:Online-Achtsamkeitskurs einmal im Monat montags von 17.00 bis 18.00 Uhr \n\n\n\nMit Birgit Schönberger \n\n\n\nWenn das Leben gerade verrücktspielt\, unser Alltag anstrengend ist oder belastende Erinnerungen hochkommen\, landen wir manchmal in einer Grübelspirale. Wir verlieren den Mut und den Kontakt zu unseren Stärken. Doch es gibt in uns einen inneren Kraftort und einen Ruhepol\, der immer da ist\, egal\, wieviel Turbulenzen wir erleben. Mit einfachen stärkenden Body-Mind- und Stressregulations-Übungen können wir wieder ins Gleichgewicht kommen. In dieser Workshop-Reihe üben wir\, die Gedanken zu beruhigen\, mit schwierigen Gefühlen umzugehen und uns wieder stabil zu fühlen. Wir erkunden\, was uns stärkt und uns hilft\, mit Herausforderungen umzugehen und daran zu wachsen. Gemeinsam in einer Gruppe in einem geschützten Raum zu üben\, wirkt bereits beruhigend und unterstützend. In jedem Workshop ist am Ende Raum für Austausch zu zweit. Es sind keine Vorkenntnisse nötig. \n\n\n\nHier die neuen Termine: \n\n\n\n25.11.2024/16.12.2024/03.02.2025/03.03.2025/07.04.2025/05.05.2025/02.06.2025 \n\n\n\nAnmeldungen an: Projekt@akv-nrw.deStichwort: Achtsamkeit Birgit \n\n\n\nDieses Angebot wird vom CSP-KV-NRW (Citizen Science Projekt-Kinderverschickungen-NRW) finanziert. Ein Projekt des AKV-NRW e.V.\, gefördert vom MAGS (Ministerium für Arbeit\, Gesundheit und Soziales)\, NRW. Es ist für Verschickungskinder mit NRW-Bezug kostenfrei. Das CSP-KV-NRW hat sich zum Ziel gesetzt\, die unheilvolle Geschichte der Kinderverschickungen aus NRW-Perspektive aufzuarbeiten und Betroffene zu unterstützen.
URL:https://verschickungsheime.de/event/innerlich-ruhig-und-stabil-achtsamkeits-training-mit-birgit-schoenberger/2025-05-05/
CATEGORIES:NRW
ATTACH;FMTTYPE=image/png:https://verschickungsheime.de/wp-content/uploads/2024/11/Achtsamkeit-2024-2025-IG-B.png
END:VEVENT
END:VCALENDAR