BEGIN:VCALENDAR
VERSION:2.0
PRODID:-//Verschickungsheime - ECPv6.15.20//NONSGML v1.0//EN
CALSCALE:GREGORIAN
METHOD:PUBLISH
X-ORIGINAL-URL:https://verschickungsheime.de
X-WR-CALDESC:Veranstaltungen für Verschickungsheime
REFRESH-INTERVAL;VALUE=DURATION:PT1H
X-Robots-Tag:noindex
X-PUBLISHED-TTL:PT1H
BEGIN:VTIMEZONE
TZID:Europe/Berlin
BEGIN:DAYLIGHT
TZOFFSETFROM:+0100
TZOFFSETTO:+0200
TZNAME:CEST
DTSTART:20240331T010000
END:DAYLIGHT
BEGIN:STANDARD
TZOFFSETFROM:+0200
TZOFFSETTO:+0100
TZNAME:CET
DTSTART:20241027T010000
END:STANDARD
BEGIN:DAYLIGHT
TZOFFSETFROM:+0100
TZOFFSETTO:+0200
TZNAME:CEST
DTSTART:20250330T010000
END:DAYLIGHT
BEGIN:STANDARD
TZOFFSETFROM:+0200
TZOFFSETTO:+0100
TZNAME:CET
DTSTART:20251026T010000
END:STANDARD
BEGIN:DAYLIGHT
TZOFFSETFROM:+0100
TZOFFSETTO:+0200
TZNAME:CEST
DTSTART:20260329T010000
END:DAYLIGHT
BEGIN:STANDARD
TZOFFSETFROM:+0200
TZOFFSETTO:+0100
TZNAME:CET
DTSTART:20261025T010000
END:STANDARD
END:VTIMEZONE
BEGIN:VEVENT
DTSTART;TZID=Europe/Berlin:20250506T193000
DTEND;TZID=Europe/Berlin:20250506T210000
DTSTAMP:20260421T173059
CREATED:20250325T103042Z
LAST-MODIFIED:20250325T104149Z
UID:10001381-1746559800-1746565200@verschickungsheime.de
SUMMARY:14. Treffen der Heimortgruppe Norderney am 6.5.25
DESCRIPTION:Hiermit lädt die Heimortgruppe Norderney ganz herzlich alle Betroffenen\, die nach Norderney verschickt wurden\, zu einer Zoomtreffen ein. Es ist schon das 14. Treffen der Heimortgruppe Norderney\, es wird am 06.05.2025 um 19.30 Uhr bis 21.00 Uhr stattfinden\, bitte meldet euch bei KIRSTEN an: Norderney@verschickungsheime.de\, dann bekommt ihr den Link\, wir freuen uns auf euch!
URL:https://verschickungsheime.de/event/14-treffen-der-norderney-gruppe/
CATEGORIES:Landeskoordination,Niedersachsen
END:VEVENT
END:VCALENDAR