BEGIN:VCALENDAR
VERSION:2.0
PRODID:-//Verschickungsheime - ECPv6.15.20//NONSGML v1.0//EN
CALSCALE:GREGORIAN
METHOD:PUBLISH
X-ORIGINAL-URL:https://verschickungsheime.de
X-WR-CALDESC:Veranstaltungen für Verschickungsheime
REFRESH-INTERVAL;VALUE=DURATION:PT1H
X-Robots-Tag:noindex
X-PUBLISHED-TTL:PT1H
BEGIN:VTIMEZONE
TZID:Europe/Berlin
BEGIN:DAYLIGHT
TZOFFSETFROM:+0100
TZOFFSETTO:+0200
TZNAME:CEST
DTSTART:20240331T010000
END:DAYLIGHT
BEGIN:STANDARD
TZOFFSETFROM:+0200
TZOFFSETTO:+0100
TZNAME:CET
DTSTART:20241027T010000
END:STANDARD
BEGIN:DAYLIGHT
TZOFFSETFROM:+0100
TZOFFSETTO:+0200
TZNAME:CEST
DTSTART:20250330T010000
END:DAYLIGHT
BEGIN:STANDARD
TZOFFSETFROM:+0200
TZOFFSETTO:+0100
TZNAME:CET
DTSTART:20251026T010000
END:STANDARD
BEGIN:DAYLIGHT
TZOFFSETFROM:+0100
TZOFFSETTO:+0200
TZNAME:CEST
DTSTART:20260329T010000
END:DAYLIGHT
BEGIN:STANDARD
TZOFFSETFROM:+0200
TZOFFSETTO:+0100
TZNAME:CET
DTSTART:20261025T010000
END:STANDARD
END:VTIMEZONE
BEGIN:VEVENT
DTSTART;TZID=Europe/Berlin:20250507T173000
DTEND;TZID=Europe/Berlin:20250507T193000
DTSTAMP:20260421T173012
CREATED:20250430T111426Z
LAST-MODIFIED:20250502T075110Z
UID:10001400-1746639000-1746646200@verschickungsheime.de
SUMMARY:NRW: Alles neu macht der Mai - Philosophisches Café mit Jens Helmig
DESCRIPTION:Präsentiert von Aufarbeitung Kinderverschickungen NRW e.V.:„Wie kann ich trotz Leiderfahrung Sinn im Leben finden?“ \n\n\n\nDer berühmte Psychiater Viktor Frankl hat darauf eine mögliche Antwort gefunden. Im Philosophischen Café wird uns Therapeut und Philosoph Jens Helmig Frankls Ideen vorstellen und sich mit uns über Werte und Sinnfragen austauschen. \n\n\n\nDatum: Mittwoch\, 07.05.2025Uhrzeit: 17:30 Uhr – 19:30 Uhrper Zoom \n\n\n\nAnmeldung unter: projekt@akv-nrw.deStichwort: „Frankl“Es sind noch wenige Plätze frei! \n\n\n\nHier findet Ihr einen interessanten Beitrag über Frankl aus der Zeitschrift GEO: \n\n\n\nWeitere Infos findet Ihr hier. \n\n\n\nDieses Angebot wird vom CSP-KV-NRW (Citizen Science Projekt-Kinderverschickungen-NRW) finanziert. Ein Projekt des AKV-NRW e.V.\, gefördert vom MAGS (Ministerium für Arbeit\, Gesundheit und Soziales)\, NRW. Es ist für Verschickungskinder mit NRW-Bezug kostenfrei. Das CSP-KV-NRW hat sich zum Ziel gesetzt\, die unheilvolle Geschichte der Kinderverschickungen aus NRW-Perspektive aufzuarbeiten und Betroffene zu unterstützen.
URL:https://verschickungsheime.de/event/alles-neu-macht-der-mai-philosophisches-cafe-mit-jens-helmig/
CATEGORIES:NRW
ATTACH;FMTTYPE=image/png:https://verschickungsheime.de/wp-content/uploads/2025/04/Philosophisches-Cafe-mit-Jens-Helmig-IG-B.png
END:VEVENT
BEGIN:VEVENT
DTSTART;TZID=Europe/Berlin:20250507T183000
DTEND;TZID=Europe/Berlin:20250507T200000
DTSTAMP:20260421T173012
CREATED:20250331T083442Z
LAST-MODIFIED:20250331T083809Z
UID:10001389-1746642600-1746648000@verschickungsheime.de
SUMMARY:24. Online-Treffen der BORKUM - Austauschgruppe
DESCRIPTION:Die Borkumaustauschgruppe wurde im November 2021 auf dem 3. Fachkongress „Das Elend der Verschickungskinder “ von den HOKs Silke\, Regina und Uwe ins Leben gerufen. \n\n\n\nMittlerweile sind über 100 Mitglieder dabei\, die alle in Borkumer Heime verschickt waren. \n\n\n\nWir veranstalten regelmäßig Zoomtreffen und teilen unsere Erlebnisse\,  Erfahrungen und tauschen uns über Rechercheergebnisse aus. \n\n\n\nGern könnt Ihr dabei sein. Wir freuen uns darauf Euch kennenzulernen. Bitte schreibt an \n\n\n\n borkum@verschickungsheime.de
URL:https://verschickungsheime.de/event/24-online-treffen-der-borkum-austauschgruppe/
CATEGORIES:Niedersachsen
ATTACH;FMTTYPE=image/png:https://verschickungsheime.de/wp-content/uploads/2022/07/Wappen_von_Niedersachsen.svg_.png
END:VEVENT
END:VCALENDAR