BEGIN:VCALENDAR
VERSION:2.0
PRODID:-//Verschickungsheime - ECPv6.15.20//NONSGML v1.0//EN
CALSCALE:GREGORIAN
METHOD:PUBLISH
X-WR-CALNAME:Verschickungsheime
X-ORIGINAL-URL:https://verschickungsheime.de
X-WR-CALDESC:Veranstaltungen für Verschickungsheime
REFRESH-INTERVAL;VALUE=DURATION:PT1H
X-Robots-Tag:noindex
X-PUBLISHED-TTL:PT1H
BEGIN:VTIMEZONE
TZID:Europe/Berlin
BEGIN:DAYLIGHT
TZOFFSETFROM:+0100
TZOFFSETTO:+0200
TZNAME:CEST
DTSTART:20240331T010000
END:DAYLIGHT
BEGIN:STANDARD
TZOFFSETFROM:+0200
TZOFFSETTO:+0100
TZNAME:CET
DTSTART:20241027T010000
END:STANDARD
BEGIN:DAYLIGHT
TZOFFSETFROM:+0100
TZOFFSETTO:+0200
TZNAME:CEST
DTSTART:20250330T010000
END:DAYLIGHT
BEGIN:STANDARD
TZOFFSETFROM:+0200
TZOFFSETTO:+0100
TZNAME:CET
DTSTART:20251026T010000
END:STANDARD
BEGIN:DAYLIGHT
TZOFFSETFROM:+0100
TZOFFSETTO:+0200
TZNAME:CEST
DTSTART:20260329T010000
END:DAYLIGHT
BEGIN:STANDARD
TZOFFSETFROM:+0200
TZOFFSETTO:+0100
TZNAME:CET
DTSTART:20261025T010000
END:STANDARD
END:VTIMEZONE
BEGIN:VEVENT
DTSTART;TZID=Europe/Berlin:20250509T180000
DTEND;TZID=Europe/Berlin:20250509T193000
DTSTAMP:20260421T182811
CREATED:20250407T140733Z
LAST-MODIFIED:20250407T141012Z
UID:10001395-1746813600-1746819000@verschickungsheime.de
SUMMARY:Online-Treffen der Heimortgruppe Wyk / Föhr
DESCRIPTION:Die Wyk – Austauschgruppe ist ein Zusammenschluss von Verschickungskindern oder Angehörigen\, die auf die Insel Föhr verschickt wurden. Sie wird derzeit von einem HOK – Team betreut. \n\n\n\nWir sind mittlerweile über 80 Mitglieder in der Gruppe und freuen uns auf neue Mitglieder. \n\n\n\nEine gemeinsame Reise in den Heimort fand 2024 statt. Seitdem hat die Gruppe viel erreicht. \n\n\n\nAlle haben sich verpflichtet\, über die ihnen bekannten persönlichen Daten der Gruppenmitglieder nur in der Gruppe zu sprechen! Für Nicht – Gruppenmitglieder sind diese Daten tabu. \n\n\n\nWir veranstalten regelmäßig Online-Treffen\, teilen unsere Erlebnisse und Erfahrungen und tauschen uns über Rechercheergebnisse aus. \n\n\n\nWer an einem Online – Treffen teilnehmen möchte\, wendet sich rechtzeitig vorher an  \n\n\n\nWyk@Verschickungsheime.de
URL:https://verschickungsheime.de/event/online-treffen-der-heimortgruppe-wyk-foehr/
CATEGORIES:Schleswig-Holstein
ATTACH;FMTTYPE=image/png:https://verschickungsheime.de/wp-content/uploads/2022/07/DEU_Schleswig-Holstein_COA.svg_.png
END:VEVENT
END:VCALENDAR