BEGIN:VCALENDAR
VERSION:2.0
PRODID:-//Verschickungsheime - ECPv6.15.20//NONSGML v1.0//EN
CALSCALE:GREGORIAN
METHOD:PUBLISH
X-ORIGINAL-URL:https://verschickungsheime.de
X-WR-CALDESC:Veranstaltungen für Verschickungsheime
REFRESH-INTERVAL;VALUE=DURATION:PT1H
X-Robots-Tag:noindex
X-PUBLISHED-TTL:PT1H
BEGIN:VTIMEZONE
TZID:Europe/Berlin
BEGIN:DAYLIGHT
TZOFFSETFROM:+0100
TZOFFSETTO:+0200
TZNAME:CEST
DTSTART:20240331T010000
END:DAYLIGHT
BEGIN:STANDARD
TZOFFSETFROM:+0200
TZOFFSETTO:+0100
TZNAME:CET
DTSTART:20241027T010000
END:STANDARD
BEGIN:DAYLIGHT
TZOFFSETFROM:+0100
TZOFFSETTO:+0200
TZNAME:CEST
DTSTART:20250330T010000
END:DAYLIGHT
BEGIN:STANDARD
TZOFFSETFROM:+0200
TZOFFSETTO:+0100
TZNAME:CET
DTSTART:20251026T010000
END:STANDARD
BEGIN:DAYLIGHT
TZOFFSETFROM:+0100
TZOFFSETTO:+0200
TZNAME:CEST
DTSTART:20260329T010000
END:DAYLIGHT
BEGIN:STANDARD
TZOFFSETFROM:+0200
TZOFFSETTO:+0100
TZNAME:CET
DTSTART:20261025T010000
END:STANDARD
END:VTIMEZONE
BEGIN:VEVENT
DTSTART;TZID=Europe/Berlin:20250605T183000
DTEND;TZID=Europe/Berlin:20250605T203000
DTSTAMP:20260421T155629
CREATED:20250518T001447Z
LAST-MODIFIED:20250605T120352Z
UID:10001407-1749148200-1749155400@verschickungsheime.de
SUMMARY:Auswirkung von NS-Erziehung und Erfahrung? Kindererholungsheime als Orte der Gewalt - Anja Röhl in Wien
DESCRIPTION:Vortrag und Lesung aus dem Buch: Das Elend der Verschickungskinder – Kindererholungsorte als Orte der Gewalt\, in Wien\, am 13.6.25 um 18.30 Uhr\, \n\n\n\nAnja Röhl spricht über Grundlagen des Systems der Kinderverschickungen in Westdeutschland\, wo 11 Millionen Verschickungen von Klein- und Vorschulkindern\, die allein\, in Sonderzügen\, meist gesund\, nur zur „Kräftigung“\, in weit entfernte Kindererholungsheime verbracht wurden\, sie liest aus Zeitzeugnissen\, beschreibt und analysiert das System der Kinderverschickungen\, mit anschließender Diskussion. Veranstalterin sind die : an.schläge – das feministische Magazin\,Wien\, e-Mail: redaktion@anschlaege.at\, www.anschlaege.at \n\n\n\nORT: WUK Werkstätten und Kulturhaus\, in der Währinger Straße 59\, 1090 Wien um 18.30 Uhr
URL:https://verschickungsheime.de/event/das-elend-der-verschickungskinder-kindererholungsorte-als-orte-der-gewalt-vortrag-in-wien/
CATEGORIES:Bundesweit,Vorträge
ATTACH;FMTTYPE=image/jpeg:https://verschickungsheime.de/wp-content/uploads/2025/05/IMG_0291.jpeg
END:VEVENT
END:VCALENDAR