BEGIN:VCALENDAR
VERSION:2.0
PRODID:-//Verschickungsheime - ECPv6.15.20//NONSGML v1.0//EN
CALSCALE:GREGORIAN
METHOD:PUBLISH
X-WR-CALNAME:Verschickungsheime
X-ORIGINAL-URL:https://verschickungsheime.de
X-WR-CALDESC:Veranstaltungen für Verschickungsheime
REFRESH-INTERVAL;VALUE=DURATION:PT1H
X-Robots-Tag:noindex
X-PUBLISHED-TTL:PT1H
BEGIN:VTIMEZONE
TZID:Europe/Berlin
BEGIN:DAYLIGHT
TZOFFSETFROM:+0100
TZOFFSETTO:+0200
TZNAME:CEST
DTSTART:20240331T010000
END:DAYLIGHT
BEGIN:STANDARD
TZOFFSETFROM:+0200
TZOFFSETTO:+0100
TZNAME:CET
DTSTART:20241027T010000
END:STANDARD
BEGIN:DAYLIGHT
TZOFFSETFROM:+0100
TZOFFSETTO:+0200
TZNAME:CEST
DTSTART:20250330T010000
END:DAYLIGHT
BEGIN:STANDARD
TZOFFSETFROM:+0200
TZOFFSETTO:+0100
TZNAME:CET
DTSTART:20251026T010000
END:STANDARD
BEGIN:DAYLIGHT
TZOFFSETFROM:+0100
TZOFFSETTO:+0200
TZNAME:CEST
DTSTART:20260329T010000
END:DAYLIGHT
BEGIN:STANDARD
TZOFFSETFROM:+0200
TZOFFSETTO:+0100
TZNAME:CET
DTSTART:20261025T010000
END:STANDARD
END:VTIMEZONE
BEGIN:VEVENT
DTSTART;TZID=Europe/Berlin:20250624T180000
DTEND;TZID=Europe/Berlin:20250624T200000
DTSTAMP:20260421T155348
CREATED:20250527T124337Z
LAST-MODIFIED:20250527T124855Z
UID:10001411-1750788000-1750795200@verschickungsheime.de
SUMMARY:Aktivenschalte Juni: Interne Auswertung der HU-Studie - Gespräch mit Doris Heinrich
DESCRIPTION:mit Gast Doris Heinrich (HOK Friedenweiler): Gibt es Ergänzungen\, Beschwerden\, Fragen? Wir erarbeiten uns Positionen zur Studie als Vorbereitung für den Bundeskongress 2025\, wo wir mit den Forschern der HU-Studie noch einmal ins Gespräch kommen.
URL:https://verschickungsheime.de/event/interne-auswertung-der-hu-studie-gespraech-mit-doris-heinrich/
CATEGORIES:Bundesweit
END:VEVENT
END:VCALENDAR