BEGIN:VCALENDAR
VERSION:2.0
PRODID:-//Verschickungsheime - ECPv6.15.20//NONSGML v1.0//EN
CALSCALE:GREGORIAN
METHOD:PUBLISH
X-ORIGINAL-URL:https://verschickungsheime.de
X-WR-CALDESC:Veranstaltungen für Verschickungsheime
REFRESH-INTERVAL;VALUE=DURATION:PT1H
X-Robots-Tag:noindex
X-PUBLISHED-TTL:PT1H
BEGIN:VTIMEZONE
TZID:Europe/Berlin
BEGIN:DAYLIGHT
TZOFFSETFROM:+0100
TZOFFSETTO:+0200
TZNAME:CEST
DTSTART:20240331T010000
END:DAYLIGHT
BEGIN:STANDARD
TZOFFSETFROM:+0200
TZOFFSETTO:+0100
TZNAME:CET
DTSTART:20241027T010000
END:STANDARD
BEGIN:DAYLIGHT
TZOFFSETFROM:+0100
TZOFFSETTO:+0200
TZNAME:CEST
DTSTART:20250330T010000
END:DAYLIGHT
BEGIN:STANDARD
TZOFFSETFROM:+0200
TZOFFSETTO:+0100
TZNAME:CET
DTSTART:20251026T010000
END:STANDARD
BEGIN:DAYLIGHT
TZOFFSETFROM:+0100
TZOFFSETTO:+0200
TZNAME:CEST
DTSTART:20260329T010000
END:DAYLIGHT
BEGIN:STANDARD
TZOFFSETFROM:+0200
TZOFFSETTO:+0100
TZNAME:CET
DTSTART:20261025T010000
END:STANDARD
END:VTIMEZONE
BEGIN:VEVENT
DTSTART;TZID=Europe/Berlin:20250629T153000
DTEND;TZID=Europe/Berlin:20250629T163000
DTSTAMP:20260421T155631
CREATED:20250617T095611Z
LAST-MODIFIED:20250617T100703Z
UID:10001417-1751211000-1751214600@verschickungsheime.de
SUMMARY:NRW: Bewegte Meditation mit Frauke Kretzer
DESCRIPTION:Präsentiert von Aufarbeitung Kinderverschickungen NRW e.V.:Bewegte Meditation mit Frauke Kretzer – Online per Zoom \n\n\n\nRuhig werden. Durchatmen. Bei sich selbst ankommen. \n\n\n\nUnser Zoom-Yoga-Angebot geht weiter! \n\n\n\nFrauke – selbst Verschickungskind und erfahrene Yogalehrerin – lädt euch ab Juni wieder jeden Monat zu einer sanften Stunde bewegter Meditation ein. Fließende Bewegungen helfen\, das Nervensystem zu beruhigen und innere Balance zu finden. \n\n\n\nNächster Termin: Sonntag\, 29. Juni 2025Uhrzeit: 15:30 – 16:30 Uhr (Zoom) \n\n\n\nAnmeldung: projekt@akv-nrw.deStichwort: Frauke \n\n\n\nAlle Infos findet ihr hier. \n\n\n\nEgal ob Anfänger:in oder erfahren – du bist herzlich willkommen! \n\n\n\nDieses Angebot wird vom CSP-KV-NRW (Citizen Science Projekt-Kinderverschickungen-NRW) finanziert. Ein Projekt des AKV-NRW e.V.\, gefördert vom MAGS (Ministerium für Arbeit\, Gesundheit und Soziales)\, NRW. Es ist für Verschickungskinder mit NRW-Bezug kostenfrei. Das CSP-KV-NRW hat sich zum Ziel gesetzt\, die unheilvolle Geschichte der Kinderverschickungen aus NRW-Perspektive aufzuarbeiten und Betroffene zu unterstützen.
URL:https://verschickungsheime.de/event/nrw-bewegte-meditation-mit-frauke-kretzer/
CATEGORIES:NRW
ATTACH;FMTTYPE=image/png:https://verschickungsheime.de/wp-content/uploads/2025/06/Bewegte-Meditation-mit-Frauke-Kretzer-Sommer-2025-IG-B.png
END:VEVENT
END:VCALENDAR