BEGIN:VCALENDAR
VERSION:2.0
PRODID:-//Verschickungsheime - ECPv6.15.20//NONSGML v1.0//EN
CALSCALE:GREGORIAN
METHOD:PUBLISH
X-ORIGINAL-URL:https://verschickungsheime.de
X-WR-CALDESC:Veranstaltungen für Verschickungsheime
REFRESH-INTERVAL;VALUE=DURATION:PT1H
X-Robots-Tag:noindex
X-PUBLISHED-TTL:PT1H
BEGIN:VTIMEZONE
TZID:Europe/Berlin
BEGIN:DAYLIGHT
TZOFFSETFROM:+0100
TZOFFSETTO:+0200
TZNAME:CEST
DTSTART:20240331T010000
END:DAYLIGHT
BEGIN:STANDARD
TZOFFSETFROM:+0200
TZOFFSETTO:+0100
TZNAME:CET
DTSTART:20241027T010000
END:STANDARD
BEGIN:DAYLIGHT
TZOFFSETFROM:+0100
TZOFFSETTO:+0200
TZNAME:CEST
DTSTART:20250330T010000
END:DAYLIGHT
BEGIN:STANDARD
TZOFFSETFROM:+0200
TZOFFSETTO:+0100
TZNAME:CET
DTSTART:20251026T010000
END:STANDARD
BEGIN:DAYLIGHT
TZOFFSETFROM:+0100
TZOFFSETTO:+0200
TZNAME:CEST
DTSTART:20260329T010000
END:DAYLIGHT
BEGIN:STANDARD
TZOFFSETFROM:+0200
TZOFFSETTO:+0100
TZNAME:CET
DTSTART:20261025T010000
END:STANDARD
END:VTIMEZONE
BEGIN:VEVENT
DTSTART;TZID=Europe/Berlin:20250702T173000
DTEND;TZID=Europe/Berlin:20250702T193000
DTSTAMP:20260421T155728
CREATED:20250617T100446Z
LAST-MODIFIED:20250617T100517Z
UID:10001418-1751477400-1751484600@verschickungsheime.de
SUMMARY:NRW: Philosophisches Café mit Jens Helmig
DESCRIPTION:Präsentiert von Aufarbeitung Kinderverschickungen NRW e.V.:Philosophisches Café mit Jens Helmig – „Sinn im Leben“ (Zoom) \n\n\n\nWas gibt unserem Leben Bedeutung? Und wie verändert sich unser Blick auf den Sinn\, wenn wir neue Perspektiven zulassen? \n\n\n\nAnfang Juli laden wir wieder ein zum Philosophischen Café – einem offenen Austausch in achtsamer Atmosphäre für ehemalige Verschickungskinder und alle Interessierten. \n\n\n\nWann? Mittwoch\, 2. Juli 2025\,Uhrzeit: 17:30-19:30 (Zoom) \n\n\n\nAnmeldung: projekt@akv-nrw.deStichwort: Jens \n\n\n\nAlle Infos findet ihr hier. \n\n\n\nKommt vorbei und entdeckt neue Perspektiven auf alte Fragen. \n\n\n\nDieses Angebot wird vom CSP-KV-NRW (Citizen Science Projekt-Kinderverschickungen-NRW) finanziert. Ein Projekt des AKV-NRW e.V.\, gefördert vom MAGS (Ministerium für Arbeit\, Gesundheit und Soziales)\, NRW. Es ist für Verschickungskinder mit NRW-Bezug kostenfrei. Das CSP-KV-NRW hat sich zum Ziel gesetzt\, die unheilvolle Geschichte der Kinderverschickungen aus NRW-Perspektive aufzuarbeiten und Betroffene zu unterstützen.
URL:https://verschickungsheime.de/event/nrw-philosophisches-cafe-mit-jens-helmig/
CATEGORIES:NRW
ATTACH;FMTTYPE=image/png:https://verschickungsheime.de/wp-content/uploads/2025/06/Philosophisches-Cafe-mit-Jens-Helmig-Juli-2025-IG-B.png
END:VEVENT
BEGIN:VEVENT
DTSTART;TZID=Europe/Berlin:20250702T183000
DTEND;TZID=Europe/Berlin:20250702T200000
DTSTAMP:20260421T155728
CREATED:20250520T132108Z
LAST-MODIFIED:20250520T132120Z
UID:10001408-1751481000-1751486400@verschickungsheime.de
SUMMARY:25. Online-Treffen der BORKUM - Austauschgruppe
DESCRIPTION:Die Borkumaustauschgruppe wurde im November 2021 auf dem 3. Fachkongress „Das Elend der Verschickungskinder “ von den HOKs Silke\, Regina und Uwe ins Leben gerufen. \n\n\n\nMittlerweile sind über 120 Mitglieder dabei\, die alle in Borkumer Heime verschickt waren. \n\n\n\nWir veranstalten regelmäßig Zoomtreffen und teilen unsere Erlebnisse\,  Erfahrungen und tauschen uns über Rechercheergebnisse aus. \n\n\n\nGern könnt Ihr dabei sein. Wir freuen uns darauf Euch kennenzulernen. Bitte schreibt an  borkum@verschickungsheime.de
URL:https://verschickungsheime.de/event/25-online-treffen-der-borkum-austauschgruppe/
CATEGORIES:Niedersachsen
ATTACH;FMTTYPE=image/png:https://verschickungsheime.de/wp-content/uploads/2025/04/niedersachsen.png
END:VEVENT
END:VCALENDAR