BEGIN:VCALENDAR
VERSION:2.0
PRODID:-//Verschickungsheime - ECPv6.15.20//NONSGML v1.0//EN
CALSCALE:GREGORIAN
METHOD:PUBLISH
X-ORIGINAL-URL:https://verschickungsheime.de
X-WR-CALDESC:Veranstaltungen für Verschickungsheime
REFRESH-INTERVAL;VALUE=DURATION:PT1H
X-Robots-Tag:noindex
X-PUBLISHED-TTL:PT1H
BEGIN:VTIMEZONE
TZID:Europe/Berlin
BEGIN:DAYLIGHT
TZOFFSETFROM:+0100
TZOFFSETTO:+0200
TZNAME:CEST
DTSTART:20240331T010000
END:DAYLIGHT
BEGIN:STANDARD
TZOFFSETFROM:+0200
TZOFFSETTO:+0100
TZNAME:CET
DTSTART:20241027T010000
END:STANDARD
BEGIN:DAYLIGHT
TZOFFSETFROM:+0100
TZOFFSETTO:+0200
TZNAME:CEST
DTSTART:20250330T010000
END:DAYLIGHT
BEGIN:STANDARD
TZOFFSETFROM:+0200
TZOFFSETTO:+0100
TZNAME:CET
DTSTART:20251026T010000
END:STANDARD
BEGIN:DAYLIGHT
TZOFFSETFROM:+0100
TZOFFSETTO:+0200
TZNAME:CEST
DTSTART:20260329T010000
END:DAYLIGHT
BEGIN:STANDARD
TZOFFSETFROM:+0200
TZOFFSETTO:+0100
TZNAME:CET
DTSTART:20261025T010000
END:STANDARD
END:VTIMEZONE
BEGIN:VEVENT
DTSTART;TZID=Europe/Berlin:20250813T190000
DTEND;TZID=Europe/Berlin:20250813T210000
DTSTAMP:20260422T030522
CREATED:20250812T075742Z
LAST-MODIFIED:20250812T094115Z
UID:10001469-1755111600-1755118800@verschickungsheime.de
SUMMARY:Krefeld: Verschickungskinder - fürs Leben gezeichnet
DESCRIPTION:Krefeld: Verschickungskinder – Fürs Leben gezeichnet \n\n\n\nAnja Röhl stellt das Thema Verschickungskinder zusammen mit dem Comic-Buch von Jari Banas vor: Verschickungskinder – fürs Leben gezeichnet\, welches der Zeichner und Maler Jari Banas\, der kürzlich überraschend verstorben ist\, aus 200 authentischen Zeitzeugenberichten künstlerisch zusammengestellt hat.  \n\n\n\nVeranstaltungsort: Mediothek Krefeld\, Theaterplatz 2\, Krefeld \n\n\n\nIn der Mediothek Krefeld\, Theaterplatz 2 Veranstalter: Mediothek und Der andere Buchladen Eintritt frei\, Spenden erwünscht. Bitte Anmelden: Der andere Buchladen\, Tel.: 02151 66842
URL:https://verschickungsheime.de/event/krefeld-verschickungskinder/
END:VEVENT
END:VCALENDAR