BEGIN:VCALENDAR
VERSION:2.0
PRODID:-//Verschickungsheime - ECPv6.15.20//NONSGML v1.0//EN
CALSCALE:GREGORIAN
METHOD:PUBLISH
X-ORIGINAL-URL:https://verschickungsheime.de
X-WR-CALDESC:Veranstaltungen für Verschickungsheime
REFRESH-INTERVAL;VALUE=DURATION:PT1H
X-Robots-Tag:noindex
X-PUBLISHED-TTL:PT1H
BEGIN:VTIMEZONE
TZID:Europe/Berlin
BEGIN:DAYLIGHT
TZOFFSETFROM:+0100
TZOFFSETTO:+0200
TZNAME:CEST
DTSTART:20240331T010000
END:DAYLIGHT
BEGIN:STANDARD
TZOFFSETFROM:+0200
TZOFFSETTO:+0100
TZNAME:CET
DTSTART:20241027T010000
END:STANDARD
BEGIN:DAYLIGHT
TZOFFSETFROM:+0100
TZOFFSETTO:+0200
TZNAME:CEST
DTSTART:20250330T010000
END:DAYLIGHT
BEGIN:STANDARD
TZOFFSETFROM:+0200
TZOFFSETTO:+0100
TZNAME:CET
DTSTART:20251026T010000
END:STANDARD
BEGIN:DAYLIGHT
TZOFFSETFROM:+0100
TZOFFSETTO:+0200
TZNAME:CEST
DTSTART:20260329T010000
END:DAYLIGHT
BEGIN:STANDARD
TZOFFSETFROM:+0200
TZOFFSETTO:+0100
TZNAME:CET
DTSTART:20261025T010000
END:STANDARD
END:VTIMEZONE
BEGIN:VEVENT
DTSTART;TZID=Europe/Berlin:20250831T153000
DTEND;TZID=Europe/Berlin:20250831T163000
DTSTAMP:20260422T120429
CREATED:20250829T120658Z
LAST-MODIFIED:20250829T120725Z
UID:10001471-1756654200-1756657800@verschickungsheime.de
SUMMARY:NRW: Bewegte Meditation – Workshop mit Frauke Kretzer
DESCRIPTION:Präsentiert von Aufarbeitung Kinderverschickungen NRW e.V.:Bewegte Meditation – Workshop mit Frauke Kretzer \n\n\n\nImmer am letzten Sonntag im Monat \n\n\n\nNächster Termin:31. August 2025\, 15:30–16:30 Uhr \n\n\n\nFrauke\, Verschickungskind und Yogalehrerin\, lädt erneut zu einer Stunde bewegter Meditation via Zoom ein. Diese sanften\, fließenden Übungen helfen dabei\, bei sich selbst anzukommen und das Nervensystem zu beruhigen. \n\n\n\nAnmeldung: projekt@akv-nrw.deStichwort: Frauke \n\n\n\nDieses Angebot wird vom CSP-KV-NRW (Citizen Science Projekt-Kinderverschickungen-NRW) finanziert. Ein Projekt des AKV-NRW e.V.\, gefördert vom MAGS (Ministerium für Arbeit\, Gesundheit und Soziales)\, NRW. Es ist für Verschickungskinder mit NRW-Bezug kostenfrei. Das CSP-KV-NRW hat sich zum Ziel gesetzt\, die unheilvolle Geschichte der Kinderverschickungen aus NRW-Perspektive aufzuarbeiten und Betroffene zu unterstützen.
URL:https://verschickungsheime.de/event/nrw-bewegte-meditation-workshop-mit-frauke-kretzer/
CATEGORIES:NRW
ATTACH;FMTTYPE=image/png:https://verschickungsheime.de/wp-content/uploads/2025/08/Bewegte-Meditation-mit-Frauke-Herbst-2025-IG-B.png
END:VEVENT
END:VCALENDAR