BEGIN:VCALENDAR
VERSION:2.0
PRODID:-//Verschickungsheime - ECPv6.15.20//NONSGML v1.0//EN
CALSCALE:GREGORIAN
METHOD:PUBLISH
X-WR-CALNAME:Verschickungsheime
X-ORIGINAL-URL:https://verschickungsheime.de
X-WR-CALDESC:Veranstaltungen für Verschickungsheime
REFRESH-INTERVAL;VALUE=DURATION:PT1H
X-Robots-Tag:noindex
X-PUBLISHED-TTL:PT1H
BEGIN:VTIMEZONE
TZID:Europe/Berlin
BEGIN:DAYLIGHT
TZOFFSETFROM:+0100
TZOFFSETTO:+0200
TZNAME:CEST
DTSTART:20250330T010000
END:DAYLIGHT
BEGIN:STANDARD
TZOFFSETFROM:+0200
TZOFFSETTO:+0100
TZNAME:CET
DTSTART:20251026T010000
END:STANDARD
BEGIN:DAYLIGHT
TZOFFSETFROM:+0100
TZOFFSETTO:+0200
TZNAME:CEST
DTSTART:20260329T010000
END:DAYLIGHT
BEGIN:STANDARD
TZOFFSETFROM:+0200
TZOFFSETTO:+0100
TZNAME:CET
DTSTART:20261025T010000
END:STANDARD
BEGIN:DAYLIGHT
TZOFFSETFROM:+0100
TZOFFSETTO:+0200
TZNAME:CEST
DTSTART:20270328T010000
END:DAYLIGHT
BEGIN:STANDARD
TZOFFSETFROM:+0200
TZOFFSETTO:+0100
TZNAME:CET
DTSTART:20271031T010000
END:STANDARD
END:VTIMEZONE
BEGIN:VEVENT
DTSTART;TZID=Europe/Berlin:20260423T190000
DTEND;TZID=Europe/Berlin:20260423T203000
DTSTAMP:20260423T012631
CREATED:20251222T144628Z
LAST-MODIFIED:20251225T123247Z
UID:10001514-1776970800-1776976200@verschickungsheime.de
SUMMARY:HOK-Austauschtreffen - Heimortkoordination\, was ist das? /Aktivenschalte im April
DESCRIPTION:Austauschtreffen aller Heimortkoordinatorinnen und -koordinatoren: HOK/HK-Treffen: Wie können wir voneinander lernen\, wie kann die Initiative Verschickungskinder e.V. helfen\, Wie kann man bei uns aktiv werden? Anmelden bei Renate Brueser vom Vorstand: buko@verschickungsheime.de
URL:https://verschickungsheime.de/event/aktivenschalte-im-april/
CATEGORIES:Bundesweit
ATTACH;FMTTYPE=image/jpeg:https://verschickungsheime.de/wp-content/uploads/2025/05/IMG_0038.jpeg
END:VEVENT
END:VCALENDAR