BEGIN:VCALENDAR
VERSION:2.0
PRODID:-//Verschickungsheime - ECPv6.15.20//NONSGML v1.0//EN
CALSCALE:GREGORIAN
METHOD:PUBLISH
X-ORIGINAL-URL:https://verschickungsheime.de
X-WR-CALDESC:Veranstaltungen für Verschickungsheime
REFRESH-INTERVAL;VALUE=DURATION:PT1H
X-Robots-Tag:noindex
X-PUBLISHED-TTL:PT1H
BEGIN:VTIMEZONE
TZID:Europe/Berlin
BEGIN:DAYLIGHT
TZOFFSETFROM:+0100
TZOFFSETTO:+0200
TZNAME:CEST
DTSTART:20200329T010000
END:DAYLIGHT
BEGIN:STANDARD
TZOFFSETFROM:+0200
TZOFFSETTO:+0100
TZNAME:CET
DTSTART:20201025T010000
END:STANDARD
BEGIN:DAYLIGHT
TZOFFSETFROM:+0100
TZOFFSETTO:+0200
TZNAME:CEST
DTSTART:20210328T010000
END:DAYLIGHT
BEGIN:STANDARD
TZOFFSETFROM:+0200
TZOFFSETTO:+0100
TZNAME:CET
DTSTART:20211031T010000
END:STANDARD
BEGIN:DAYLIGHT
TZOFFSETFROM:+0100
TZOFFSETTO:+0200
TZNAME:CEST
DTSTART:20220327T010000
END:DAYLIGHT
BEGIN:STANDARD
TZOFFSETFROM:+0200
TZOFFSETTO:+0100
TZNAME:CET
DTSTART:20221030T010000
END:STANDARD
END:VTIMEZONE
BEGIN:VEVENT
DTSTART;TZID=Europe/Berlin:20210302T180000
DTEND;TZID=Europe/Berlin:20210302T200000
DTSTAMP:20260423T224818
CREATED:20210206T000240Z
LAST-MODIFIED:20210206T000300Z
UID:10000571-1614708000-1614715200@verschickungsheime.de
SUMMARY:Berliner Selbsthilfe-Schalte
DESCRIPTION:Selbsthilfegruppe Berlin per Videoschalte Die Berliner Selbsthilfegruppe aus dem SEKIS trifft sich Corona bedingt leider momentan nur per Video\, trotzdem hören wir uns gegenseitig aufmerksam zu und lassen allen ihre Zeit für ihre Erinnerungen.  \n\n\n\nWir haben gute Erfahrungen mit Video gemacht. Es ist alles immer noch besser als sich gar nicht zu treffen. Alle sind willkommen! Link zur Schalte unter berlin@verschickungsheime.de
URL:https://verschickungsheime.de/event/berliner-selbsthilfe-schalte/
CATEGORIES:Berlin
END:VEVENT
BEGIN:VEVENT
DTSTART;TZID=Europe/Berlin:20210307T140000
DTEND;TZID=Europe/Berlin:20210307T160000
DTSTAMP:20260423T224818
CREATED:20210222T082658Z
LAST-MODIFIED:20210222T083323Z
UID:10000582-1615125600-1615132800@verschickungsheime.de
SUMMARY:Hessen: Selbsthilfegruppe
DESCRIPTION:Die Selbsthilfegruppe Hessen trifft sich am 7. März online. Auch in Hessen wollen wir uns trotz Corona sehen\, sprechen\, austauschen. Auch in Hessen wollen wir versuchen Politik und Träger auf ihre Verantwortung hinweisen und in die Pflicht nehmen. Kommt gern zu uns\, nur gemeinsam sind wir stark! Wir freuen uns auf euch! Anmeldung über: verschickungsheime-hessen@mail.com
URL:https://verschickungsheime.de/event/hessen-selbsthilfegruppe/
END:VEVENT
BEGIN:VEVENT
DTSTART;TZID=Europe/Berlin:20210309T180000
DTEND;TZID=Europe/Berlin:20210309T200000
DTSTAMP:20260423T224818
CREATED:20210228T084730Z
LAST-MODIFIED:20210228T084732Z
UID:10000584-1615312800-1615320000@verschickungsheime.de
SUMMARY:3. Videotreffen NRW
DESCRIPTION:Tagesordnung:1. Aktuelles2. Reflektion (z.B. Welche Auswirkungen hatte die Verschickung auf mein Leben?)3. Verschiedenes \n\n\n\nDiesmal werden neben dem Plenum auch Breakoutrooms eingerichtet\, in denen sich die Teilnehmer auf Wunsch in Kleingruppen besprechen können. \n\n\n\nAnmeldungen bitte an: detlef.lichtrauter@akv-nrw.de \, den Teilnahmelink schicke ich per Email.
URL:https://verschickungsheime.de/event/3-videotreffen-nrw/
CATEGORIES:NRW
END:VEVENT
BEGIN:VEVENT
DTSTART;TZID=Europe/Berlin:20210311T170000
DTEND;TZID=Europe/Berlin:20210311T190000
DTSTAMP:20260423T224818
CREATED:20210308T064259Z
LAST-MODIFIED:20210308T064302Z
UID:10000591-1615482000-1615489200@verschickungsheime.de
SUMMARY:Treffen der Hamburger Verschickungskinder
DESCRIPTION:Den Link zur Anmeldung bitte bei Peter (LKo-HH) unter verschickungskinder.hh@gmail.com anfordern. Die Teilnehmerzahl ist auf 20 begrenzt. Deshalb werden drei Termine angeboten. Für die ersten Treffen habe ich bewusst noch keine Tagesordnung erstellt. Ich werde aber zum bisherigen Sachstand der Verschickungsthematik berichten und dann haben wir Zeit abzufragen\, was euch bewegt und können unsere künftigen Aktivitäten abstimmen.
URL:https://verschickungsheime.de/event/treffen-der-hamburger-verschickungskinder-3/
CATEGORIES:Hamburg
END:VEVENT
BEGIN:VEVENT
DTSTART;TZID=Europe/Berlin:20210313T170000
DTEND;TZID=Europe/Berlin:20210313T183000
DTSTAMP:20260423T224818
CREATED:20210216T021551Z
LAST-MODIFIED:20210404T084735Z
UID:10000578-1615654800-1615660200@verschickungsheime.de
SUMMARY:Heimortgruppe St. Peter-Ording
DESCRIPTION:Alle die nach St. Peter-Ording verschickt wurden sind herzlich willkommen und melden sich bitte an unter Michaela Dintermichaela_dinter@yahoo.com
URL:https://verschickungsheime.de/event/regionalkonferenz-heimortgruppe-st-peter-ording/
CATEGORIES:Schleswig-Holstein
END:VEVENT
BEGIN:VEVENT
DTSTART;TZID=Europe/Berlin:20210315T180000
DTEND;TZID=Europe/Berlin:20210315T200000
DTSTAMP:20260423T224818
CREATED:20210308T064054Z
LAST-MODIFIED:20210308T064057Z
UID:10000590-1615831200-1615838400@verschickungsheime.de
SUMMARY:Treffen der Hamburger Verschickungskinder
DESCRIPTION:Den Link zur Anmeldung bitte bei Peter (LKo-HH) unter verschickungskinder.hh@gmail.com anfordern. Die Teilnehmerzahl ist auf 20 begrenzt. Deshalb werden drei Termine angeboten. Für die ersten Treffen habe ich bewusst noch keine Tagesordnung erstellt. Ich werde aber zum bisherigen Sachstand der Verschickungsthematik berichten und dann haben wir Zeit abzufragen\, was euch bewegt und können unsere künftigen Aktivitäten abstimmen.
URL:https://verschickungsheime.de/event/treffen-der-hamburger-verschickungskinder-2/
CATEGORIES:Hamburg
END:VEVENT
BEGIN:VEVENT
DTSTART;TZID=Europe/Berlin:20210316T180000
DTEND;TZID=Europe/Berlin:20210316T200000
DTSTAMP:20260423T224818
CREATED:20210308T063318Z
LAST-MODIFIED:20210308T063321Z
UID:10000588-1615917600-1615924800@verschickungsheime.de
SUMMARY:Selbsthilfegruppe Hannover
DESCRIPTION:Anmeldung über verschickungsheime-nds@outlook.comliebe Grüße Sabine
URL:https://verschickungsheime.de/event/selbsthilfegruppe-hannover/
CATEGORIES:Niedersachsen
END:VEVENT
BEGIN:VEVENT
DTSTART;TZID=Europe/Berlin:20210318T190000
DTEND;TZID=Europe/Berlin:20210318T210000
DTSTAMP:20260423T224818
CREATED:20210318T131116Z
LAST-MODIFIED:20210318T131118Z
UID:10000593-1616094000-1616101200@verschickungsheime.de
SUMMARY:Dass Elend der Verschickungskinder Online-Vortrag Rosa-Luxemburg-Stiftung Brandenburg
DESCRIPTION:Das Elend der Verschickungskinder – Vortrag und Buchvorstellung von Anja Röhl\, für Interessierte der Rosa-Luxemburg-Stiftung Brandenburg\,  Anmelden über diese Seite: https://brandenburg.rosalux.de/
URL:https://verschickungsheime.de/event/dass-elend-der-verschickungskinder-online-vortrag-rosa-luxemburg-stiftung-brandenburg/
END:VEVENT
BEGIN:VEVENT
DTSTART;TZID=Europe/Berlin:20210319T160000
DTEND;TZID=Europe/Berlin:20210319T180000
DTSTAMP:20260423T224818
CREATED:20210308T063755Z
LAST-MODIFIED:20210318T131259Z
UID:10000589-1616169600-1616176800@verschickungsheime.de
SUMMARY:Treffen der Hamburger Verschickungskinder
DESCRIPTION:Den Link zur Anmeldung bitte bei Peter (LKo-HH) unter: verschickungskinder.hh@gmail.com anfordern. Die Teilnehmerzahl ist auf 20 begrenzt. Deshalb werden drei Termine angeboten. Für die ersten Treffen habe ich bewusst noch keine Tagesordnung erstellt. Ich werde aber zum bisherigen Sachstand der Verschickungsthematik berichten und dann haben wir Zeit abzufragen\, was euch bewegt und können unsere künftigen Aktivitäten abstimmen.
URL:https://verschickungsheime.de/event/treffen-der-hamburger-verschickungskinder/
CATEGORIES:Hamburg
END:VEVENT
BEGIN:VEVENT
DTSTART;TZID=Europe/Berlin:20210320T150000
DTEND;TZID=Europe/Berlin:20210320T163000
DTSTAMP:20260423T224818
CREATED:20210222T072748Z
LAST-MODIFIED:20210222T081448Z
UID:10000580-1616252400-1616257800@verschickungsheime.de
SUMMARY:DDR-Kurkinder treffen sich
DESCRIPTION:Auch aus DDR-Kinderkurheimen kommen jetzt Berichte von erinnerten Grausamkeiten.  Auch diese Heime sind oft in Nachfolgeschaft der NSV betrieben worden. Nach 1945 brauchte man sie für die vielen Waisen und Flüchtlinge\, später wurden sie für Gesundheitskuren genutzt. Die DDR hat eine andere Gesetzgebung und ein anderes Staats- und Verwaltungssystem als in der BRD gehabt\, trotzdem klingen die Erinnerungen aus den Kureinrichtungen ähnlich.    Offenbar ist es auch in der DDR nicht gelungen\, trotz eines antifaschistischen Anspruchs\, Reliquien autoritärer und schwarzer NS-Pädagogik aus der Medizin und der Pädagogik  zu eliminieren. Wie verbreitet das war\, können nur die DDR-Kurkinder selbst an den Tag bringen. Wir sammeln Berichte\, positive und negative willkommen!  \n\n\n\nDer Arbeitskreis DDR-Kurkinder trifft sich\, um DDR-Kurkinder mit traumatischen Erinnerungen zu vernetzen\, mit dem Ziel der Aufarbeitung und Erforschung auch der Situation in der DDR.
URL:https://verschickungsheime.de/event/ddr-kurkinder-treffen-sich/
END:VEVENT
BEGIN:VEVENT
DTSTART;TZID=Europe/Berlin:20210323T180000
DTEND;TZID=Europe/Berlin:20210323T190000
DTSTAMP:20260423T224818
CREATED:20210301T125207Z
LAST-MODIFIED:20210301T125515Z
UID:10000586-1616522400-1616526000@verschickungsheime.de
SUMMARY:Nächstes Zoom-Treffen Kölner Gruppe
DESCRIPTION:Alle Verschickungskinder\, die sich für unsere Selbsthilfegruppe interessieren\, also nicht nur Kölner sondern auch Verschickungskinder\, die damals von Köln aus verschickt wurden\, und andere Interessierte sind herzlich willkommen. \n\n\n\nAnmeldung und Themenvorschläge unter: Verschickungskids.Koeln.NRW@gmx.de
URL:https://verschickungsheime.de/event/naechstes-zoom-treffen-koelner-gruppe/
CATEGORIES:NRW
END:VEVENT
BEGIN:VEVENT
DTSTART;TZID=Europe/Berlin:20210330T180000
DTEND;TZID=Europe/Berlin:20210330T200000
DTSTAMP:20260423T224818
CREATED:20210319T150742Z
LAST-MODIFIED:20210319T150744Z
UID:10000594-1617127200-1617134400@verschickungsheime.de
SUMMARY:Aktiventreff\, bundesweit
DESCRIPTION:Reguläres Bundestreffen  aller Aktiven der Initiative Verschickungskinder\, am letzten Dienstag im Monat\, melden über: buko@verschickungsheime.de
URL:https://verschickungsheime.de/event/aktiventreff-bundesweit/
END:VEVENT
END:VCALENDAR