BEGIN:VCALENDAR
VERSION:2.0
PRODID:-//Verschickungsheime - ECPv6.15.20//NONSGML v1.0//EN
CALSCALE:GREGORIAN
METHOD:PUBLISH
X-ORIGINAL-URL:https://verschickungsheime.de
X-WR-CALDESC:Veranstaltungen für Verschickungsheime
REFRESH-INTERVAL;VALUE=DURATION:PT1H
X-Robots-Tag:noindex
X-PUBLISHED-TTL:PT1H
BEGIN:VTIMEZONE
TZID:Europe/Berlin
BEGIN:DAYLIGHT
TZOFFSETFROM:+0100
TZOFFSETTO:+0200
TZNAME:CEST
DTSTART:20200329T010000
END:DAYLIGHT
BEGIN:STANDARD
TZOFFSETFROM:+0200
TZOFFSETTO:+0100
TZNAME:CET
DTSTART:20201025T010000
END:STANDARD
BEGIN:DAYLIGHT
TZOFFSETFROM:+0100
TZOFFSETTO:+0200
TZNAME:CEST
DTSTART:20210328T010000
END:DAYLIGHT
BEGIN:STANDARD
TZOFFSETFROM:+0200
TZOFFSETTO:+0100
TZNAME:CET
DTSTART:20211031T010000
END:STANDARD
BEGIN:DAYLIGHT
TZOFFSETFROM:+0100
TZOFFSETTO:+0200
TZNAME:CEST
DTSTART:20220327T010000
END:DAYLIGHT
BEGIN:STANDARD
TZOFFSETFROM:+0200
TZOFFSETTO:+0100
TZNAME:CET
DTSTART:20221030T010000
END:STANDARD
END:VTIMEZONE
BEGIN:VEVENT
DTSTART;TZID=Europe/Berlin:20210406T180000
DTEND;TZID=Europe/Berlin:20210406T193000
DTSTAMP:20260423T214014
CREATED:20210320T095015Z
LAST-MODIFIED:20210320T095244Z
UID:10000595-1617732000-1617737400@verschickungsheime.de
SUMMARY:Berliner Selbsthilfegruppe
DESCRIPTION:Die Selbsthilfegruppe Berlin trifft sich jeden ersten Dienstag im Monat. Leider nur online. Trotzdem sind Betroffene aus Berlin\, sowie solche\, die aus Berlin verschickt wurden\, herzlich eingeladen\, anmelden unter: buko@verschickungsheime.de
URL:https://verschickungsheime.de/event/berliner-selbsthilfegruppe/
END:VEVENT
BEGIN:VEVENT
DTSTART;TZID=Europe/Berlin:20210411T140000
DTEND;TZID=Europe/Berlin:20210411T160000
DTSTAMP:20260423T214014
CREATED:20210403T210219Z
LAST-MODIFIED:20210403T210221Z
UID:10000597-1618149600-1618156800@verschickungsheime.de
SUMMARY:Videotreffen in Hessen
DESCRIPTION:Für alle Verschickungskinder\, die in Hessen wohnen und nach Hessen verschickt wurden\, wir freuen uns\, euch alle kennenzulernen! Anmeldung hier: verschickungsheime-hessen@mail.de 
URL:https://verschickungsheime.de/event/videotreffen-in-hessen/
END:VEVENT
BEGIN:VEVENT
DTSTART;TZID=Europe/Berlin:20210413T180000
DTEND;TZID=Europe/Berlin:20210413T193000
DTSTAMP:20260423T214014
CREATED:20210320T153103Z
LAST-MODIFIED:20210320T153849Z
UID:10000596-1618336800-1618342200@verschickungsheime.de
SUMMARY:Berliner Aktiventreff
DESCRIPTION:Berliner Aktiventreff\, wo überlegt wird\, wie wir in Berlin politisch etwas für Verschickungskinder bewegen wollen\, anmelden über: berlin@verschickungsheime.de
URL:https://verschickungsheime.de/event/berliner-aktiventreff-2/
END:VEVENT
BEGIN:VEVENT
DTSTART;TZID=Europe/Berlin:20210414T180000
DTEND;TZID=Europe/Berlin:20210414T200000
DTSTAMP:20260423T214014
CREATED:20210316T083541Z
LAST-MODIFIED:20210316T083634Z
UID:10000592-1618423200-1618430400@verschickungsheime.de
SUMMARY:4. Videotreffen NRW
DESCRIPTION:Anmeldungen bitte an: detlef.lichtrauter@akv-nrw.de \, den Teilnahmelink schicke ich per Email.
URL:https://verschickungsheime.de/event/4-videotreffen-nrw/
CATEGORIES:NRW
END:VEVENT
BEGIN:VEVENT
DTSTART;TZID=Europe/Berlin:20210414T193000
DTEND;TZID=Europe/Berlin:20210414T193000
DTSTAMP:20260423T214014
CREATED:20210413T113452Z
LAST-MODIFIED:20210413T114119Z
UID:10000599-1618428600-1618428600@verschickungsheime.de
SUMMARY:Videobeitrag über Verschickungserlebnisse und ein Studiogespräch. WDR Lokalzeit Köln
DESCRIPTION:Am Mittwoch\, den 14.04.21 wird in der WDR Lokalzeit Köln Beginn 19:30 Uhr ein Videobeitrag über unsere Verschickungserlebnisse gesendet\, dann folgt ein kurzes Studiogespräch. 
URL:https://verschickungsheime.de/event/videobeitrag-ueber-verschickungserlebnisse-und-ein-studiogespraech/
END:VEVENT
BEGIN:VEVENT
DTSTART;TZID=Europe/Berlin:20210415T190000
DTEND;TZID=Europe/Berlin:20210415T200000
DTSTAMP:20260423T214014
CREATED:20210407T212202Z
LAST-MODIFIED:20210407T212504Z
UID:10000598-1618513200-1618516800@verschickungsheime.de
SUMMARY:TV Scala - Sendereihe Kinderverschickungen
DESCRIPTION:Schaut mal auf facebook: Einladung zur Teilnahme an einer TV-Online-Veranstaltung\, Verschickungskinder sind herzlich eingeladen mitzuwirken.    \n\n\n\nhttps://www.facebook.com/events/2869904286613378/
URL:https://verschickungsheime.de/event/tv-scala-sendereihe-kinderverschickungen/
END:VEVENT
BEGIN:VEVENT
DTSTART;TZID=Europe/Berlin:20210420T180000
DTEND;TZID=Europe/Berlin:20210420T200000
DTSTAMP:20260423T214014
CREATED:20210415T195413Z
LAST-MODIFIED:20210415T195548Z
UID:10000513-1618941600-1618948800@verschickungsheime.de
SUMMARY:Zoom-Treffen Kölner Gruppe
DESCRIPTION:Liebe Verschickungskinder\,im Namen der Selbsthilfegruppe in Köln möchten wir euch ganz herzlich zu unserem Zoom-Treffen am Dienstag\, den 20.04.2021 einladen.Alle Verschickungskinder\, die sich für unsere Selbsthilfegruppe interessieren\, also nicht nur Kölner sondern auch Verschickungskinder\, die damals von Köln aus verschickt wurden und andere Interessierte sind herzlich willkommen.Anmeldung unter: Verschickungskids.Koeln.NRW@gmx.de oder ute-kur-verschickungskinder-nrw@outlook.de \n\n\n\nMit lieben GrüßenUte und Angelika
URL:https://verschickungsheime.de/event/zoom-treffen-koelner-gruppe-2/
CATEGORIES:NRW
END:VEVENT
BEGIN:VEVENT
DTSTART;TZID=Europe/Berlin:20210427T180000
DTEND;TZID=Europe/Berlin:20210427T200000
DTSTAMP:20260423T214014
CREATED:20210414T232510Z
LAST-MODIFIED:20210415T201400Z
UID:10000600-1619546400-1619553600@verschickungsheime.de
SUMMARY:Bundesweite Aktivenschalte
DESCRIPTION:Jeden letzten Dienstag im Monat treffen sich FunktionsträgerInnen (LKs\, HOVs\, AKs\, Buko und Vereinsmitglieder) sowie auch andere Aktive der „Initiative Verschickungskinder“ per Zoom um sich auszutauschen und politisch etwas voranzubringen\, den Zoomlink bekommt ihr hier: buko@verschickungsheime.de
URL:https://verschickungsheime.de/event/bundesweite-aktivenschalte/
END:VEVENT
BEGIN:VEVENT
DTSTART;TZID=Europe/Berlin:20210428T180000
DTEND;TZID=Europe/Berlin:20210428T200000
DTSTAMP:20260423T214014
CREATED:20210420T213557Z
LAST-MODIFIED:20210420T213632Z
UID:10000515-1619632800-1619640000@verschickungsheime.de
SUMMARY:Verschickungskinder Wyk auf Föhr treffen sich
DESCRIPTION:Erstmals eine Schalte für alle\, die in Wyk auf Föhr waren. Wir wollen uns Austauschen und gemeinsames Vorgehen besprechen. Link bei Peter (HOV Wyk auf Föhr und LK Hamburg) verschickungskinder.hh@gmail.com
URL:https://verschickungsheime.de/event/verschickungskinder-wyk-auf-foehr-treffen-sich/
CATEGORIES:Schleswig-Holstein
END:VEVENT
END:VCALENDAR