BEGIN:VCALENDAR
VERSION:2.0
PRODID:-//Verschickungsheime - ECPv6.15.20//NONSGML v1.0//EN
CALSCALE:GREGORIAN
METHOD:PUBLISH
X-ORIGINAL-URL:https://verschickungsheime.de
X-WR-CALDESC:Veranstaltungen für Verschickungsheime
REFRESH-INTERVAL;VALUE=DURATION:PT1H
X-Robots-Tag:noindex
X-PUBLISHED-TTL:PT1H
BEGIN:VTIMEZONE
TZID:Europe/Berlin
BEGIN:DAYLIGHT
TZOFFSETFROM:+0100
TZOFFSETTO:+0200
TZNAME:CEST
DTSTART:20200329T010000
END:DAYLIGHT
BEGIN:STANDARD
TZOFFSETFROM:+0200
TZOFFSETTO:+0100
TZNAME:CET
DTSTART:20201025T010000
END:STANDARD
BEGIN:DAYLIGHT
TZOFFSETFROM:+0100
TZOFFSETTO:+0200
TZNAME:CEST
DTSTART:20210328T010000
END:DAYLIGHT
BEGIN:STANDARD
TZOFFSETFROM:+0200
TZOFFSETTO:+0100
TZNAME:CET
DTSTART:20211031T010000
END:STANDARD
BEGIN:DAYLIGHT
TZOFFSETFROM:+0100
TZOFFSETTO:+0200
TZNAME:CEST
DTSTART:20220327T010000
END:DAYLIGHT
BEGIN:STANDARD
TZOFFSETFROM:+0200
TZOFFSETTO:+0100
TZNAME:CET
DTSTART:20221030T010000
END:STANDARD
END:VTIMEZONE
BEGIN:VEVENT
DTSTART;TZID=Europe/Berlin:20210501T120000
DTEND;TZID=Europe/Berlin:20210501T120000
DTSTAMP:20260423T203012
CREATED:20210502T171304Z
LAST-MODIFIED:20210502T171418Z
UID:10000518-1619870400-1619870400@verschickungsheime.de
SUMMARY:
DESCRIPTION:
URL:https://verschickungsheime.de/event/testeintrag/
END:VEVENT
BEGIN:VEVENT
DTSTART;TZID=Europe/Berlin:20210502T140000
DTEND;TZID=Europe/Berlin:20210502T160000
DTSTAMP:20260423T203012
CREATED:20210429T132400Z
LAST-MODIFIED:20210429T132554Z
UID:10000516-1619964000-1619971200@verschickungsheime.de
SUMMARY:Zoom-Treffen der hessischen Verschickungskinder
DESCRIPTION:Zoom-Treffen der hessischen VerschickungskinderLink zur Schalte bei Claudia unter Verschickungsheime-hessen@mail.de
URL:https://verschickungsheime.de/event/zoom-treffen-der-hessischen-verschickungskinder/
CATEGORIES:Hessen
END:VEVENT
BEGIN:VEVENT
DTSTART;TZID=Europe/Berlin:20210504T180000
DTEND;TZID=Europe/Berlin:20210504T193000
DTSTAMP:20260423T203012
CREATED:20210415T194328Z
LAST-MODIFIED:20210415T194809Z
UID:10000511-1620151200-1620156600@verschickungsheime.de
SUMMARY:Berliner Selbsthilfe-Schalte
DESCRIPTION:Immer am ersten Dienstag im Monat treffen wir uns in der Selbsthilfe-Schalte Berlin. Hier ist der Ort und die Zeit uns gegenseitig unsere Erlebnisse zu erzählen. Link dazu unter berlin@verschickungsheime.de
URL:https://verschickungsheime.de/event/berliner-selbsthilfe-schalte-2/
CATEGORIES:Berlin
END:VEVENT
BEGIN:VEVENT
DTSTART;TZID=Europe/Berlin:20210507T180000
DTEND;TZID=Europe/Berlin:20210507T193000
DTSTAMP:20260423T203012
CREATED:20210303T101244Z
LAST-MODIFIED:20210303T102141Z
UID:10000587-1620410400-1620415800@verschickungsheime.de
SUMMARY:Online Vortrag: Das Elend der Verschickungskinder
DESCRIPTION:Im Rahmen des Arbeitskreises für intergenerationelle Folgen des Holocaust\, ehem. PAKH e.V. ist ein Vortrag zum Buch: Das Elend der Verschickungskinder über online vorgesehen. Gern hier anmelden\, unter info@pakh.de
URL:https://verschickungsheime.de/event/online-vortrag-das-elend-der-verschickungskinder/
END:VEVENT
BEGIN:VEVENT
DTSTART;TZID=Europe/Berlin:20210508T110000
DTEND;TZID=Europe/Berlin:20210508T130000
DTSTAMP:20260423T203012
CREATED:20210504T181146Z
LAST-MODIFIED:20210504T181147Z
UID:10000520-1620471600-1620478800@verschickungsheime.de
SUMMARY:Online Selbsthilfetreffen Ba.-Wü.
DESCRIPTION:Anmeldung unter mail@verschickungsheime-bw.de
URL:https://verschickungsheime.de/event/online-selbsthilfetreffen-ba-wue/
END:VEVENT
BEGIN:VEVENT
DTSTART;TZID=Europe/Berlin:20210511T180000
DTEND;TZID=Europe/Berlin:20210511T200000
DTSTAMP:20260423T203012
CREATED:20210415T194927Z
LAST-MODIFIED:20210415T213257Z
UID:10000512-1620756000-1620763200@verschickungsheime.de
SUMMARY:Berliner Aktiven-Schalte
DESCRIPTION:In der Berliner Aktiven-Schalte organisieren und besprechen wir unserer politischen und forschenden Aktivitäten. Es ist für alle offen\, die mittun möchten. In dieser Schalte geht es\, anderes als in der Selbsthilfe-Schalte\, nicht um den Austausch unserer persönlichen Erfahrungen. Link gibt es unter berlin@verschickungsheime.de
URL:https://verschickungsheime.de/event/berliner-selbsthilfe-schalte-3/
CATEGORIES:Berlin
END:VEVENT
BEGIN:VEVENT
DTSTART;TZID=Europe/Berlin:20210511T180000
DTEND;TZID=Europe/Berlin:20210511T200000
DTSTAMP:20260423T203012
CREATED:20210509T210933Z
LAST-MODIFIED:20210509T210934Z
UID:10000606-1620756000-1620763200@verschickungsheime.de
SUMMARY:5.Videotreffen NRW
DESCRIPTION:Liebe Verschickungskinder\,ich lade alle Betroffenen mit NRW-Relevanz (aus NRW in ein anderes Bundesland\, oder aus einem anderen Bundesland nach NRW verschickt\, oder keins von beiden\, jedoch aktueller Wohnort in NRW und interessiert) zum 5. Videotreffen am Diensrag\, den 11.05.2021\, 18.00 – 20.00 Uhr ein.Tagesordnung:1. Aktuelles2. Reflexion3. VerschiedenesWer den Einladungslink nicht per NRW-Verteiler erhalten hat\, kann sich gerne unter detlef.lichtrauter@akv-nrw.de anmelden.Ich hoffe auf rege Teilnahme und grüße ganz herzlich.Detlef Lichtrauter 
URL:https://verschickungsheime.de/event/5-videotreffen-nrw/
END:VEVENT
BEGIN:VEVENT
DTSTART;TZID=Europe/Berlin:20210511T214500
DTEND;TZID=Europe/Berlin:20210511T223000
DTSTAMP:20260423T203012
CREATED:20210508T205411Z
LAST-MODIFIED:20210508T205749Z
UID:10000605-1620769500-1620772200@verschickungsheime.de
SUMMARY:ARD / Report Mainz : Vergewaltigt im Sanatorium- Das Leiden eines Verschickungskindes
DESCRIPTION:
URL:https://verschickungsheime.de/event/report-mainz-vergewaltigt-im-sanatorium-das-leiden-eines-verschickungskindes/
END:VEVENT
BEGIN:VEVENT
DTSTART;TZID=Europe/Berlin:20210514T170000
DTEND;TZID=Europe/Berlin:20210514T190000
DTSTAMP:20260423T203012
CREATED:20210504T181404Z
LAST-MODIFIED:20210504T181405Z
UID:10000601-1621011600-1621018800@verschickungsheime.de
SUMMARY:Online Selbsthilfetreffen Ba.-Wü
DESCRIPTION: Anmeldung unter mail@verschickungsheime-bw.de
URL:https://verschickungsheime.de/event/online-selbsthilfetreffen-ba-wue-2/
END:VEVENT
BEGIN:VEVENT
DTSTART;TZID=Europe/Berlin:20210518T170000
DTEND;TZID=Europe/Berlin:20210518T183000
DTSTAMP:20260423T203012
CREATED:20210504T181718Z
LAST-MODIFIED:20210504T181730Z
UID:10000602-1621357200-1621362600@verschickungsheime.de
SUMMARY:Online-Führung: Wanderausstellung "Verwahrlost und gefährdet?"                     Projekt Heimerziehung durch Nora Wohlfarth vom Landesarchiv Ba.-Wü.
DESCRIPTION:    Anmeldung unter:  https://www.landesarchiv-bw.de/de/aktuelles/termine/72743  
URL:https://verschickungsheime.de/event/online-fuehrung-wanderausstellung-verwahrlost-und-gefaehrdet-projekt-heimerziehung-durch-nora-wohlfarth-vom-landesarchiv-ba-wue/
END:VEVENT
BEGIN:VEVENT
DTSTART;TZID=Europe/Berlin:20210518T180000
DTEND;TZID=Europe/Berlin:20210518T193000
DTSTAMP:20260423T203012
CREATED:20210503T042311Z
LAST-MODIFIED:20210503T044226Z
UID:10000519-1621360800-1621366200@verschickungsheime.de
SUMMARY:Zoom-Treffen Kölner Gruppe
DESCRIPTION:Alle Verschickungskinder\, die sich für unsere Selbsthilfegruppe interessieren\,also nicht nur Kölner sondern auch Verschickungskinder\, die damals von Köln aus verschickt wurden\,und andere Interessierte sind herzlich willkommen.Anmeldung unter: Verschickungskids.Koeln.NRW@gmx.de oder ute-kur-verschickungskinder-nrw@outlook.de
URL:https://verschickungsheime.de/event/zoom-treffen-koelner-gruppe-3/
CATEGORIES:NRW
END:VEVENT
BEGIN:VEVENT
DTSTART;TZID=Europe/Berlin:20210520T190000
DTEND;TZID=Europe/Berlin:20210520T201500
DTSTAMP:20260423T203012
CREATED:20210504T182305Z
LAST-MODIFIED:20210504T182306Z
UID:10000603-1621537200-1621541700@verschickungsheime.de
SUMMARY:SCALA TV Live Stream "Wie beeinflusst das Trauma aus der Kindheit das Leben als Erwachsene?"
DESCRIPTION:Anmeldelink unter: Sendereihe „Kinderverschickungen“ – Scala Ludwigsburg
URL:https://verschickungsheime.de/event/scala-tv-live-stream-wie-beeinflusst-das-trauma-aus-der-kindheit-das-leben-als-erwachsene/
END:VEVENT
BEGIN:VEVENT
DTSTART;TZID=Europe/Berlin:20210521T190000
DTEND;TZID=Europe/Berlin:20210521T203000
DTSTAMP:20260423T203012
CREATED:20210429T140038Z
LAST-MODIFIED:20210429T141736Z
UID:10000517-1621623600-1621629000@verschickungsheime.de
SUMMARY:Buchvorstellung online: Die Akte Verschickungskinder von Hilke Lorenz (Verschoben)
DESCRIPTION:Schätzungsweise acht Millionen Kinder wurden zwischen den 1950er- und 1980er-Jahren auf Anweisung von Ärzten in sogenannte Kindererholungsheime verschickt. Was viele dort erleben mussten\, prägt sie bis heute: militärischer Drill\, harte Strafen wie Essen von Erbrochenem\, Einsperren im dunklen Keller\, Schläge. Wie war das möglich und wer war dafür verantwortlich? Dabei geht es nicht nur um die NS-Erziehungsmethoden\, die durch die Kontinuität des Personals fortgeführt wurden. Lorenz deckt auch das profitable Geschäft auf\, das mit dem Verschicken von Kindern gemacht wurde\, und in das Ärzte\, Heimbetreiber\, Krankenkassen und Verbände involviert waren. \n\n\n\nBuchtipp: Hilke Lorenz\, Die Akte Verschickungskinder\, Beltz Verlag\, 2021 \n\n\n\nKOOPERATION: Verlagsgruppe Beltz Weinheim\, Evang. Bildungszentrum Hospitalhof StuttgartDie Veranstaltung findet online statt: Sie benötigen zur Teilnahme einen Computer oder Laptop mit Internetzugang sowie ggfs. Kamera und Mikrofon. Mit: Hilke Lorenz\, Historikerin und Journalistin\, ist Redakteurin bei der Stuttgarter Zeitung. Für ihren Artikel »Ausgeliefert« über die Verschickungskinder gewinnt sie den Diakonie Journalistenpreis Kategorie Print 2020.  \n\n\n\nModeration: Stefanie Meinecke\, SWRKontakt: info@hospitalhof.de Tel. 0711 / 2068-150https://www.hospitalhof.de/programm/300421-die-akte-verschickungskinder/ \n\n\n\nDen Zugangslink erhalten Sie 1-3 Tage vor der Veranstaltung zugesandt.Kostenbeitrag entfällt
URL:https://verschickungsheime.de/event/buchvorstellung-online-die-akte-verschickungskinder-von-hilke-lorenz/
END:VEVENT
BEGIN:VEVENT
DTSTART;TZID=Europe/Berlin:20210525T180000
DTEND;TZID=Europe/Berlin:20210525T200000
DTSTAMP:20260423T203012
CREATED:20210513T092017Z
LAST-MODIFIED:20210513T092019Z
UID:10000607-1621965600-1621972800@verschickungsheime.de
SUMMARY:Bundesweites Aktiven-Treffen
DESCRIPTION:Hier treffen sich die Landeskoordinator:innen\, Heimortverantwortliche und andere Aktive\, um sich über die Aktivitäten auszutauschen und Richtungsentscheidungen zu treffen.
URL:https://verschickungsheime.de/event/bundesweites-aktiven-treffen/
END:VEVENT
BEGIN:VEVENT
DTSTART;TZID=Europe/Berlin:20210527T180000
DTEND;TZID=Europe/Berlin:20210527T200000
DTSTAMP:20260423T203012
CREATED:20210507T200147Z
LAST-MODIFIED:20210512T054355Z
UID:10000604-1622138400-1622145600@verschickungsheime.de
SUMMARY:Treffen der Verschickungskinder aus Heimen in Rheinland- Pfalz
DESCRIPTION:Videotreffen für Verschickungskinder die in Heimen in Rheinland- Pfalz waren und natürlich für alle anderen auch.Anmelden unter: verschickung-viktoriastift@posteo.deDanke und viele GrüßeBirgit Hof und Stephan Rothe
URL:https://verschickungsheime.de/event/treffen-der-heime-in-rheinland-pfalz/
CATEGORIES:Rheinland- Pfalz
END:VEVENT
BEGIN:VEVENT
DTSTART;TZID=Europe/Berlin:20210528T160000
DTEND;TZID=Europe/Berlin:20210528T173000
DTSTAMP:20260423T203012
CREATED:20210415T211925Z
LAST-MODIFIED:20210415T212443Z
UID:10000514-1622217600-1622223000@verschickungsheime.de
SUMMARY:Konkrete Ideen zur Recherche und Einblick in die Geschichte der DDR-Kuren
DESCRIPTION:Wir wollen eine Veranstaltung machen\, auf der wir konkrete Ideen zur Recherche sammeln und auch vorstellen wollen und einen Einblick in die Geschichte der DDR-Kuren nehmen\, herstellen\, gemeinsam entwickeln. Wir freuen uns über rege Teilnahme! Anmelden über: Kinderkurheim-aufarbeitung@web.de
URL:https://verschickungsheime.de/event/konkrete-ideen-zur-recherche-und-einblick-in-die-geschichte-der-ddr-kuren/
END:VEVENT
BEGIN:VEVENT
DTSTART;TZID=Europe/Berlin:20210529T170000
DTEND;TZID=Europe/Berlin:20210529T180000
DTSTAMP:20260423T203012
CREATED:20210525T203051Z
LAST-MODIFIED:20210525T203053Z
UID:10000523-1622307600-1622311200@verschickungsheime.de
SUMMARY:Hörspiel über Verschickungskinder auf "Okerwelle-104\,6"
DESCRIPTION:Good Vibrations
URL:https://verschickungsheime.de/event/hoerspiel-ueber-verschickungskinder-auf-okerwelle-1046/
END:VEVENT
END:VCALENDAR