BEGIN:VCALENDAR
VERSION:2.0
PRODID:-//Verschickungsheime - ECPv6.15.20//NONSGML v1.0//EN
CALSCALE:GREGORIAN
METHOD:PUBLISH
X-WR-CALNAME:Verschickungsheime
X-ORIGINAL-URL:https://verschickungsheime.de
X-WR-CALDESC:Veranstaltungen für Verschickungsheime
REFRESH-INTERVAL;VALUE=DURATION:PT1H
X-Robots-Tag:noindex
X-PUBLISHED-TTL:PT1H
BEGIN:VTIMEZONE
TZID:Europe/Berlin
BEGIN:DAYLIGHT
TZOFFSETFROM:+0100
TZOFFSETTO:+0200
TZNAME:CEST
DTSTART:20200329T010000
END:DAYLIGHT
BEGIN:STANDARD
TZOFFSETFROM:+0200
TZOFFSETTO:+0100
TZNAME:CET
DTSTART:20201025T010000
END:STANDARD
BEGIN:DAYLIGHT
TZOFFSETFROM:+0100
TZOFFSETTO:+0200
TZNAME:CEST
DTSTART:20210328T010000
END:DAYLIGHT
BEGIN:STANDARD
TZOFFSETFROM:+0200
TZOFFSETTO:+0100
TZNAME:CET
DTSTART:20211031T010000
END:STANDARD
BEGIN:DAYLIGHT
TZOFFSETFROM:+0100
TZOFFSETTO:+0200
TZNAME:CEST
DTSTART:20220327T010000
END:DAYLIGHT
BEGIN:STANDARD
TZOFFSETFROM:+0200
TZOFFSETTO:+0100
TZNAME:CET
DTSTART:20221030T010000
END:STANDARD
END:VTIMEZONE
BEGIN:VEVENT
DTSTART;TZID=Europe/Berlin:20210807T100000
DTEND;TZID=Europe/Berlin:20210807T120000
DTSTAMP:20260423T164309
CREATED:20210709T073438Z
LAST-MODIFIED:20210709T073442Z
UID:10000532-1628330400-1628337600@verschickungsheime.de
SUMMARY:Selbsthilfe-Berlin endlich wieder in Präsenz (2.Termin)
DESCRIPTION:im Sekis Bismarckstraße 101\, 10625 Berlin. Die Gruppe dient dem Austausch der persönlichen Geschichte. Wir nehmen uns viel Zeit den anderen zuzuhören und uns gegenseitig zu stärken. Es dürfen zur Zeit nur 10 Personen an den Treffen teilnehmen\, von daher ist eine Anmeldung unter Berlin@verschickungsheime.de bei Valerie nötig.
URL:https://verschickungsheime.de/event/selbsthilfe-berlin-endlich-wieder-in-praesenz-2-termin/
END:VEVENT
BEGIN:VEVENT
DTSTART;TZID=Europe/Berlin:20210808T140000
DTEND;TZID=Europe/Berlin:20210808T160000
DTSTAMP:20260423T164309
CREATED:20210725T155510Z
LAST-MODIFIED:20210725T160240Z
UID:10000537-1628431200-1628438400@verschickungsheime.de
SUMMARY:Selbsthilfegruppe Hessen
DESCRIPTION:Die Selbsthilfegruppe Hessen trifft sich jeden 1. Sonntag im Monat\, abwechselnd in Präsenz\, in Marburg\, Waggonhalle\, und per Zoom\, diesmal treffen wir uns per Zoom\, anmelden über: verschickungsheime-hessen@mail.de
URL:https://verschickungsheime.de/event/selbsthilfegruppe-hessen/
END:VEVENT
BEGIN:VEVENT
DTSTART;TZID=Europe/Berlin:20210810T180000
DTEND;TZID=Europe/Berlin:20210810T200000
DTSTAMP:20260423T164309
CREATED:20210805T214127Z
LAST-MODIFIED:20210805T214130Z
UID:10000538-1628618400-1628625600@verschickungsheime.de
SUMMARY:Berliner AktivenSchalte
DESCRIPTION:In der Berliner Aktivengruppe bereiten wir gerade die Veranstaltung zum Haus Schöneberg vor und planen und besprechen weitere Aktivitäten
URL:https://verschickungsheime.de/event/berliner-aktivenschalte-2/
END:VEVENT
BEGIN:VEVENT
DTSTART;TZID=Europe/Berlin:20210816T190000
DTEND;TZID=Europe/Berlin:20210816T210000
DTSTAMP:20260423T164309
CREATED:20210724T115601Z
LAST-MODIFIED:20210724T120238Z
UID:10000535-1629140400-1629147600@verschickungsheime.de
SUMMARY:Borkum-Vorbereitungsgruppe
DESCRIPTION:Die Borkum-Vorbereitungsgruppe lädt zur Vorbereitungsschalte ein. Wir planen eine Ausstellung von Erfahrungs- und Erlebnisberichten von Borkum-Betroffenen\, die dort in einem öffentlichen Ausstellungsraum arrangiert wird\, beteiligt euch gern mit Euren Ideen. Anmeldung über: kongress-borkum@verschickungsheime.de
URL:https://verschickungsheime.de/event/borkum-vorbereitungsgruppe-2/
END:VEVENT
BEGIN:VEVENT
DTSTART;TZID=Europe/Berlin:20210817T180000
DTEND;TZID=Europe/Berlin:20210817T200000
DTSTAMP:20260423T164309
CREATED:20210725T073808Z
LAST-MODIFIED:20210806T132245Z
UID:10000536-1629223200-1629230400@verschickungsheime.de
SUMMARY:8. NRW-Videotreffen
DESCRIPTION:Für alle Betroffenen mit NRW-Relevanz: Aus NRW verschickt\, nach NRW verschickt und/oder in NRW wohnhaft. Anmelden unter: Detlef.lichtrauter@akv-nrw.de
URL:https://verschickungsheime.de/event/8-nrw-videotreffen/
END:VEVENT
BEGIN:VEVENT
DTSTART;TZID=Europe/Berlin:20210825T180000
DTEND;TZID=Europe/Berlin:20210825T200000
DTSTAMP:20260423T164309
CREATED:20210814T211749Z
LAST-MODIFIED:20210815T114701Z
UID:10000633-1629914400-1629921600@verschickungsheime.de
SUMMARY:Videotreffen RLP + Thema: Verschickung und Essverhalten
DESCRIPTION:Videotreffen für Verschickungskinder die in Heimen in Rheinland-Pfalz waren und für alle anderen Interessierten am Thema \n\n\n\nThema:   Wie hat sich die Verschickung auf das spätere Essverhalten ausgewirkt? \n\n\n\nAnmelden unter: verschickung-viktoriastift@posteo.de
URL:https://verschickungsheime.de/event/verschickung-und-essverhalten/
END:VEVENT
BEGIN:VEVENT
DTSTART;TZID=Europe/Berlin:20210828T210000
DTEND;TZID=Europe/Berlin:20210828T210000
DTSTAMP:20260423T164309
CREATED:20210819T085353Z
LAST-MODIFIED:20210823T070945Z
UID:10000634-1630184400-1630184400@verschickungsheime.de
SUMMARY:Szenische Lesung: Der Plumpsack geht um in Chemnitz
DESCRIPTION:Hörspiel über Verschickungsheim Waldhaus live in Chemnitz \n\n\n\nDie 16. Chemnitzer Hörspielinsel lädt zu einer Zeitreise ein: Am Samstag\, 28. August um 21 Uhrwird auf der Schlossteichinsel in Chemnitz das für die HörNixe nominierte Stück „Der Plumpsack geht um“ erstmals als Szenische Lesung vor Publikum präsentiert. Die wahre Geschichte erzählt vom Leiden vieler Kinder im Verschickungsheim Waldhaus (Bad Salzdetfurth) und die Erinnerungen an Heimweh\, Angst und Gewalt. Alle Sprecher*innen auf der Bühne haben selbst eine Kinderverschickung durchlebt. Das Live-Hörspiel schließt mit einem Hintergrundgespräch über die Erlebnisse der Mitwirkenden und die künstlerische Verarbeitung. Im Vorfeld findet die Verleihung der Chemnitzer HörNixen statt sowie die Phantasieinsel\, welche ein buntes interaktives Programm rund um das Thema Hörspiel bietet. \n\n\n\nDer Plumpsack geht um – Am 28. August live auf der Hörspielinsel in ChemnitzMit Werner Wilkening\, Michaela Alpendorf\, Sabine Schwemm & Eckart DuxModeration: Sebastian Barnstorf – Kostüme: Athena Macke – Studioaufnahme: Oliver Ilnicki – Buch\, Regie & Akkordeon: Silas DegenGefördert durch den Kulturraum Stadt Chemnitz und die Kulturstiftung des Freistaates Sachsen\, mit Unterstützung von Radio t\, dem Theater für Niedersachsen und dem Flüsterfunk Hannover
URL:https://verschickungsheime.de/event/szenische-lesung-der-plumpssack-geht-um-in-chemnitz/
END:VEVENT
BEGIN:VEVENT
DTSTART;TZID=Europe/Berlin:20210831T180000
DTEND;TZID=Europe/Berlin:20210831T200000
DTSTAMP:20260423T164309
CREATED:20210819T095006Z
LAST-MODIFIED:20210828T171331Z
UID:10000635-1630432800-1630440000@verschickungsheime.de
SUMMARY:Aktivenschalte
DESCRIPTION:Am 31.8.21: Für alle\, die sich aktivieren wollen\, sie können uns kennenlernen in der Aktivenschalte:  Austausch der Landesvereine untereinander und mit den Heimort- und  Landeskoordinatoren und anderer Menschen\, die sich bei uns aktiv beteiligen wollen\, alle sind hier herzlich eingeladen. Anmeldung über: Buko@verschickungsheime.de
URL:https://verschickungsheime.de/event/aktivenschalte/
END:VEVENT
END:VCALENDAR