BEGIN:VCALENDAR
VERSION:2.0
PRODID:-//Verschickungsheime - ECPv6.15.20//NONSGML v1.0//EN
CALSCALE:GREGORIAN
METHOD:PUBLISH
X-ORIGINAL-URL:https://verschickungsheime.de
X-WR-CALDESC:Veranstaltungen für Verschickungsheime
REFRESH-INTERVAL;VALUE=DURATION:PT1H
X-Robots-Tag:noindex
X-PUBLISHED-TTL:PT1H
BEGIN:VTIMEZONE
TZID:Europe/Berlin
BEGIN:DAYLIGHT
TZOFFSETFROM:+0100
TZOFFSETTO:+0200
TZNAME:CEST
DTSTART:20200329T010000
END:DAYLIGHT
BEGIN:STANDARD
TZOFFSETFROM:+0200
TZOFFSETTO:+0100
TZNAME:CET
DTSTART:20201025T010000
END:STANDARD
BEGIN:DAYLIGHT
TZOFFSETFROM:+0100
TZOFFSETTO:+0200
TZNAME:CEST
DTSTART:20210328T010000
END:DAYLIGHT
BEGIN:STANDARD
TZOFFSETFROM:+0200
TZOFFSETTO:+0100
TZNAME:CET
DTSTART:20211031T010000
END:STANDARD
BEGIN:DAYLIGHT
TZOFFSETFROM:+0100
TZOFFSETTO:+0200
TZNAME:CEST
DTSTART:20220327T010000
END:DAYLIGHT
BEGIN:STANDARD
TZOFFSETFROM:+0200
TZOFFSETTO:+0100
TZNAME:CET
DTSTART:20221030T010000
END:STANDARD
END:VTIMEZONE
BEGIN:VEVENT
DTSTART;TZID=Europe/Berlin:20210910T180000
DTEND;TZID=Europe/Berlin:20210910T180000
DTSTAMP:20260423T153713
CREATED:20210701T080006Z
LAST-MODIFIED:20210805T214322Z
UID:10000628-1631296800-1631296800@verschickungsheime.de
SUMMARY:Rätsel um das Haus Schöneberg
DESCRIPTION:Einladender: Der Stadtrat von Tempelhof-Schöneberg\, Oliver Schworck: Aufklärung des Geschehens um die Kinderheilstätte Haus Schöneberg. Der Stadtrat hat den Verein AEKV e.V. und die Berliner Aktiven- und Selbsthilfegruppe Verschickungskinder zu einer Podiumsdiskussion geladen. Thema: Rätsel um das Haus Schöneberg- Verschickungen aus Berlin. Die Veranstaltung ist im John-F.-Kennedy Saal im Rathaus Schöneberg. Eingeladen zu Vorträgen sind u.a. Frau Prof. Christiane Dienel\, Anja Röhl vom Forschungsverein und Valerie Lenck von der Initiative Verschickungskinder.  Es wird um Fragen zum „Haus Schöneberg“ gehen\, einem Verschickungsheim auf der Insel Wyk auf Föhr. Erste Nachforschungen zu diesem Haus ergaben\, dass dorthin\, aus Berlin zuerst TBC- Kranke\, dann Verschickungskinder\, dann Kinder aus der Kinder- und Jugendpsychiatrie und schließlich allgemein als „ Behinderte“ titulierte Kinder hin„verschickt“ wurden.  Zum Teil wurden aus geplanten 6 Wochen mehrere Jahre. Touristen beschwerten sich\, dass Kinder auf der Fähre gefesselt transportiert wurden. Wir fordern die Aktensichtung und lückenlose Aufarbeitung dieses Geschehens. Es werden auch Zeuginnen aus diesem Heim zu Wort kommen.
URL:https://verschickungsheime.de/event/raetsel-um-das-haus-schoeneberg/
END:VEVENT
BEGIN:VEVENT
DTSTART;TZID=Europe/Berlin:20210911T120000
DTEND;TZID=Europe/Berlin:20210911T120000
DTSTAMP:20260423T153713
CREATED:20210906T193327Z
LAST-MODIFIED:20210906T193429Z
UID:10000640-1631361600-1631361600@verschickungsheime.de
SUMMARY:Selbsthilfe Präsenz Veranstaltung Stuttgart
DESCRIPTION:im KISS in Stuttgart\, anmelden unter: mail@verschickungsheime-bw.de\, Heike und Helmut
URL:https://verschickungsheime.de/event/selbsthilfe-praesenz-veranstaltung-stuttgart/
END:VEVENT
BEGIN:VEVENT
DTSTART;TZID=Europe/Berlin:20210914T180000
DTEND;TZID=Europe/Berlin:20210914T200000
DTSTAMP:20260423T153713
CREATED:20210911T204510Z
LAST-MODIFIED:20210911T204734Z
UID:10000641-1631642400-1631649600@verschickungsheime.de
SUMMARY:Berliner Aktiven-Schalte
DESCRIPTION:Hier treffen sich die Berliner Verschickungskinder\, um sich zu organisieren und Aktivitäten zu besprechen. Diesmal wird es u.a. einen Bericht zur Veranstaltung „Rätsel um das Haus Schöneberg“ geben. Link zur Schalte unter berlin@verschickungsheime.de
URL:https://verschickungsheime.de/event/berliner-aktiven-schalte-2/
END:VEVENT
BEGIN:VEVENT
DTSTART;TZID=Europe/Berlin:20210918T130000
DTEND;TZID=Europe/Berlin:20210918T190000
DTSTAMP:20260423T153713
CREATED:20210906T083349Z
LAST-MODIFIED:20210906T193118Z
UID:10000638-1631970000-1631991600@verschickungsheime.de
SUMMARY:Symposium Baden-Württemberg
DESCRIPTION:Ein Symposium findet über zwei Tage in Baden-Württemberg statt. Anmeldung über die Landesgruppe in Bawü\, den Landesverein AKV-BW e.V.\, hier das Programm für beide Tage. Weitere Infos hier.
URL:https://verschickungsheime.de/event/symposium-baden-wuerttemberg/
END:VEVENT
BEGIN:VEVENT
DTSTART;TZID=Europe/Berlin:20210919T100000
DTEND;TZID=Europe/Berlin:20210919T170000
DTSTAMP:20260423T153713
CREATED:20210906T084107Z
LAST-MODIFIED:20210919T083457Z
UID:10000639-1632045600-1632070800@verschickungsheime.de
SUMMARY:Symposium Baden-Württemberg 2. Tag
DESCRIPTION:Der zweite Tag des Symposiums in Bawü\, heute auch als online-Veranstaltung möglich\, alle Informationen ausführlich im Programm
URL:https://verschickungsheime.de/event/symposium-baden-wuerttemberg-2-tag/
END:VEVENT
BEGIN:VEVENT
DTSTART;TZID=Europe/Berlin:20210920T180000
DTEND;TZID=Europe/Berlin:20210920T200000
DTSTAMP:20260423T153713
CREATED:20210911T205110Z
LAST-MODIFIED:20210917T092916Z
UID:10000642-1632160800-1632168000@verschickungsheime.de
SUMMARY:Berliner Selbsthilfegruppe Präsenzveranstaltung
DESCRIPTION:Im Sekis in Charlottenburg. Immer am dritten Montag im Monat um 18Uhr und/oder am ersten Samstag im Monat um 10Uhr gibt es die Gelegenheit uns über unsere Erfahrungen mit der Verschickung auszutauschen und uns wohlwollend und wertschätzend zu begegnen . Neue Verschickungskinder heißen wir herzlich Willkommen. Ansprechperson für die Selbsthilfe ist Valerie Lenck\, die die Termine auch begleitet. Anmeldung sind aus Pandemiegründen erforderlich unter Selbsthilfe-Berlin@verschickungsheime.de
URL:https://verschickungsheime.de/event/berliner-selbsthilfegruppe-in-praesenz/
END:VEVENT
BEGIN:VEVENT
DTSTART;TZID=Europe/Berlin:20210923T190000
DTEND;TZID=Europe/Berlin:20210923T210000
DTSTAMP:20260423T153713
CREATED:20210805T214614Z
LAST-MODIFIED:20210805T230921Z
UID:10000539-1632423600-1632430800@verschickungsheime.de
SUMMARY:Geldern                                           Buchvorstellung: Das Elend der Verschickungskinder
DESCRIPTION:Buchvorstellung: Das Elend der Verschickungskinder von Anja Röhl\, UHRZEIT: 19.00–21.00 Uhr ORT: Volkshochschule Geldern\, Raum 106\, Kapuzinerstr. 34\, Geldern: Programm und Anmeldung hier.
URL:https://verschickungsheime.de/event/geldern-buchvorstellung-das-elend-der-verschickunsgkinder/
END:VEVENT
BEGIN:VEVENT
DTSTART;TZID=Europe/Berlin:20210927T183000
DTEND;TZID=Europe/Berlin:20210927T200000
DTSTAMP:20260423T153713
CREATED:20210921T140843Z
LAST-MODIFIED:20210921T140934Z
UID:10000663-1632767400-1632772800@verschickungsheime.de
SUMMARY:Einladung zur Videokonferenz der St. Peter-Ording Heimortgruppe
DESCRIPTION:Die SPO-Gruppe arbeitet an der gesellschaftlichen und politischen Aufarbeitung unseres Themas\, Michaela und Claudia laden Dich herzlich ein\, dabei zu sein. Wenn Du nach St. Peter-Ording (SPO) verschickt worden bist und an der Videokonferenz am Montag\, 27.9.21 um 18:30 Uhr teilnehmen möchtest\, erhältst Du den Link zur Einwahl von Claudia cl.johansson.hok.spo@gmx.de
URL:https://verschickungsheime.de/event/einladung-zur-videokonferenz-der-st-peter-ording-heimortgruppe-2/
CATEGORIES:Schleswig-Holstein
END:VEVENT
BEGIN:VEVENT
DTSTART;TZID=Europe/Berlin:20210928T180000
DTEND;TZID=Europe/Berlin:20210928T200000
DTSTAMP:20260423T153713
CREATED:20210915T075925Z
LAST-MODIFIED:20210915T080426Z
UID:10000643-1632852000-1632859200@verschickungsheime.de
SUMMARY:Bundesweite Aktivenschalte
DESCRIPTION:Jeden letzten Dienstag im Monat laden wir zur bundesweiten Aktivenschalte ein. Eingeladen sind alle HOKs\, alle LKs und alle sonstigen Menschen\, die sich bei uns aktiv politisch einsetzen wollen. Die Aktivenschalte dient der Koordinierung von Bundesaktivitäten\, dem Gedanken- und Informationsaustausch. Sie ist offen für alle\, anmelden über Buko@verschickungsheime.de
URL:https://verschickungsheime.de/event/bundesweite-aktivenschalte-2/
END:VEVENT
BEGIN:VEVENT
DTSTART;TZID=Europe/Berlin:20210929T190000
DTEND;TZID=Europe/Berlin:20210929T210000
DTSTAMP:20260423T153713
CREATED:20210828T145943Z
LAST-MODIFIED:20210830T124316Z
UID:10000636-1632942000-1632949200@verschickungsheime.de
SUMMARY:Gesprächsaustausch RLP über die Podiumsdiskussion Verschickungskinder auf ScalaTV
DESCRIPTION:Videotreffen Rheinland-Pfalz lädt ein zum: „Gesprächsaustausch über die Podiumsdiskussion im Scala TV“ anmelden unter: verschickung-viktoriastift@posteo.de
URL:https://verschickungsheime.de/event/podiumsdiskussion-verschickungskinder-teil-1-4-auf-scalatv/
END:VEVENT
BEGIN:VEVENT
DTSTART;TZID=Europe/Berlin:20210930T190000
DTEND;TZID=Europe/Berlin:20210930T210000
DTSTAMP:20260423T153713
CREATED:20210924T141412Z
LAST-MODIFIED:20210924T141450Z
UID:10000664-1633028400-1633035600@verschickungsheime.de
SUMMARY:Buchvorstellung: Das Elend der Verschickungskinder mit Anja Röhl
DESCRIPTION:30.9.21: FULDA \n\n\n\nBuchvorstellung und Vortrag zum Elend der Verschickungskinder – Uhrzeit 19 Uhr: Bonifatiushaus\, im Haus der Weiterbildung der Diözese Fulda\, Neuenberger Str. 3-5 • 36041 Fulda\, Telefon: 0661 8398 – 120 • Telefax: 0661 8398 – 136\, Mail: info@bonifatiushaus.de
URL:https://verschickungsheime.de/event/buchvorstellung-das-elend-der-verschickungskinder/
END:VEVENT
END:VCALENDAR