BEGIN:VCALENDAR
VERSION:2.0
PRODID:-//Verschickungsheime - ECPv6.15.20//NONSGML v1.0//EN
CALSCALE:GREGORIAN
METHOD:PUBLISH
X-WR-CALNAME:Verschickungsheime
X-ORIGINAL-URL:https://verschickungsheime.de
X-WR-CALDESC:Veranstaltungen für Verschickungsheime
REFRESH-INTERVAL;VALUE=DURATION:PT1H
X-Robots-Tag:noindex
X-PUBLISHED-TTL:PT1H
BEGIN:VTIMEZONE
TZID:Europe/Berlin
BEGIN:DAYLIGHT
TZOFFSETFROM:+0100
TZOFFSETTO:+0200
TZNAME:CEST
DTSTART:20200329T010000
END:DAYLIGHT
BEGIN:STANDARD
TZOFFSETFROM:+0200
TZOFFSETTO:+0100
TZNAME:CET
DTSTART:20201025T010000
END:STANDARD
BEGIN:DAYLIGHT
TZOFFSETFROM:+0100
TZOFFSETTO:+0200
TZNAME:CEST
DTSTART:20210328T010000
END:DAYLIGHT
BEGIN:STANDARD
TZOFFSETFROM:+0200
TZOFFSETTO:+0100
TZNAME:CET
DTSTART:20211031T010000
END:STANDARD
BEGIN:DAYLIGHT
TZOFFSETFROM:+0100
TZOFFSETTO:+0200
TZNAME:CEST
DTSTART:20220327T010000
END:DAYLIGHT
BEGIN:STANDARD
TZOFFSETFROM:+0200
TZOFFSETTO:+0100
TZNAME:CET
DTSTART:20221030T010000
END:STANDARD
END:VTIMEZONE
BEGIN:VEVENT
DTSTART;TZID=Europe/Berlin:20211204T100000
DTEND;TZID=Europe/Berlin:20211204T120000
DTSTAMP:20260423T120056
CREATED:20210917T091913Z
LAST-MODIFIED:20211121T222302Z
UID:10000649-1638612000-1638619200@verschickungsheime.de
SUMMARY:ABGESAGT Berliner Selbsthilfegruppe in Präsenz ABGESAGT
DESCRIPTION:Wir treffen uns erstmal nur noch Online am 3.Montag im Monat. Der nächste Termin ist der 20.12. um 18Uhr. Anmeldung und Link bei Valerie unter  Selbsthilfe-Berlin@verschickungsheime.de
URL:https://verschickungsheime.de/event/berliner-selbsthilfegruppe-praesenzveranstaltung-3/
END:VEVENT
BEGIN:VEVENT
DTSTART;TZID=Europe/Berlin:20211207T180000
DTEND;TZID=Europe/Berlin:20211207T203000
DTSTAMP:20260423T120056
CREATED:20211126T160810Z
LAST-MODIFIED:20211126T162321Z
UID:10000577-1638900000-1638909000@verschickungsheime.de
SUMMARY:Buchvorstellung: Heimweh-Verschickungskinder erzählen (online-Lesung) mit Anja Röhl
DESCRIPTION:Buchvorstellung und Vortrag mit Anja Röhl\, Veranstalterin: Rosa-Luxemburg-Stiftung Brandenburg in Potsdam\, Online-Veranstaltung\, Anmeldung hier
URL:https://verschickungsheime.de/event/buchvorstellung-heimweh-verschickungskinder-erzaehlen-online-lesung-mit-anja-roehl/
END:VEVENT
BEGIN:VEVENT
DTSTART;TZID=Europe/Berlin:20211209T180000
DTEND;TZID=Europe/Berlin:20211209T200000
DTSTAMP:20260423T120056
CREATED:20211101T055011Z
LAST-MODIFIED:20211101T055042Z
UID:10000570-1639072800-1639080000@verschickungsheime.de
SUMMARY:Berliner Aktivenschalte
DESCRIPTION:Die in Berlin wohnenden und aus Berlin Verschickten wollen in dieser Gruppe aktiv werden\, um eine individuelle und gesellschaftlich verantwortungsvolle Aufarbeitung zu erreichen\, Menschen mit Interesse an Aufarbeitung von Kinderverschickungen aus Berlin sind herzlich willkommen: berlin@verschickungsheime.de
URL:https://verschickungsheime.de/event/berliner-aktivenschalte-4/
END:VEVENT
BEGIN:VEVENT
DTSTART;TZID=Europe/Berlin:20211211T110000
DTEND;TZID=Europe/Berlin:20211211T140000
DTSTAMP:20260423T120056
CREATED:20211126T164349Z
LAST-MODIFIED:20211126T164352Z
UID:10000679-1639220400-1639231200@verschickungsheime.de
SUMMARY:Selbsthilfe Baden-Württemberg Präsenzveranstaltung im KISS
DESCRIPTION:Reguläre Landes-Selbsthilfegruppe: Anmeldung über E-Mail: mail@verschickungsheime-bw.de
URL:https://verschickungsheime.de/event/selbsthilfe-baden-wuerttemberg-praesenzveranstaltung-im-kiss/
END:VEVENT
BEGIN:VEVENT
DTSTART;TZID=Europe/Berlin:20211214T180000
DTEND;TZID=Europe/Berlin:20211214T200000
DTSTAMP:20260423T120056
CREATED:20211129T003454Z
LAST-MODIFIED:20211129T003631Z
UID:10000687-1639504800-1639512000@verschickungsheime.de
SUMMARY:Aktivenschalte
DESCRIPTION:Hier sind bundesweit alle eingeladen\, die dabei mithelfen wollen\, das Thema Verschickungen aufzuarbeiten\, wir freuen uns sehr über neue Interessierte\, über neue Diskussionen und Anregungen\, anmelden über buko@verschickungsheime.de\, beachtet: Diesmal wegen Jahreswechsel und Feiertagen ausnahmsweise Mitte des Monats\, sonst immer am letzten Dienstag im Monat
URL:https://verschickungsheime.de/event/aktivenschalte-2/
END:VEVENT
BEGIN:VEVENT
DTSTART;TZID=Europe/Berlin:20211215T180000
DTEND;TZID=Europe/Berlin:20211215T200000
DTSTAMP:20260423T120056
CREATED:20211124T203604Z
LAST-MODIFIED:20211124T203607Z
UID:10000573-1639591200-1639598400@verschickungsheime.de
SUMMARY:Videotreffen Rheinland-Pfalz
DESCRIPTION:Thema:  Das innere Kind. \n\n\n\nAnmelden unter: verschickung-viktoriastift@posteo.de \n\n\n\n\n\nFür alle\, die heute in Rheinland-Pfalz wohnen\, von dort aus verschickt oder in ein Heim in RLP verschickt wurden\, wir arbeiten thematisch und freuen uns\, wenn weitere Betroffene dazukommen\, Grüße\, Birgit und Stefan
URL:https://verschickungsheime.de/event/videotreffen-rheinland-pfalz/
END:VEVENT
BEGIN:VEVENT
DTSTART;TZID=Europe/Berlin:20211216T193000
DTEND;TZID=Europe/Berlin:20211216T210000
DTSTAMP:20260423T120056
CREATED:20211126T164551Z
LAST-MODIFIED:20211126T164554Z
UID:10000681-1639683000-1639688400@verschickungsheime.de
SUMMARY:Online AKV-BW Orga-Gruppe
DESCRIPTION:In Bawü haben wir eine Selbsthilfe- und eine Orga-Gruppe\, Interessierte sind herzlich eingeladen\, Anmelden: E-Mail: mail@verschickungsheime-bw.de
URL:https://verschickungsheime.de/event/online-akv-bw-orga-gruppe/
END:VEVENT
BEGIN:VEVENT
DTSTART;TZID=Europe/Berlin:20211217T170000
DTEND;TZID=Europe/Berlin:20211217T190000
DTSTAMP:20260423T120056
CREATED:20211126T164747Z
LAST-MODIFIED:20211126T165057Z
UID:10000683-1639760400-1639767600@verschickungsheime.de
SUMMARY:Online-Selbsthilfegruppe Bawü
DESCRIPTION:Auch online laden wir herzlich alle Interessierten ein: Diejenigen\, die in Bawü weohnen\, aus Bawü verschickt wurden und in Bawü in Verschickungsheimen waren\, Anmeldung per E-Mail: mail@verschickungsheime-bw.de
URL:https://verschickungsheime.de/event/online-selbsthilfegruppe-bawue/
END:VEVENT
BEGIN:VEVENT
DTSTART;TZID=Europe/Berlin:20211217T180000
DTEND;TZID=Europe/Berlin:20211217T200000
DTSTAMP:20260423T120056
CREATED:20211206T085343Z
LAST-MODIFIED:20211207T102946Z
UID:10000689-1639764000-1639771200@verschickungsheime.de
SUMMARY:Online-Treffen - DRK-Heime Schleswig-Holstein
DESCRIPTION:Liebe ehemaligen Verschickungskinder\, die Ihr in einem DRK-Heim in Schleswig-Holstein gewesen seid\,wir laden euch herzlich zu einer Videokonferenz am Freitag\, den 17.12.2021 um 18:00 Uhr ein.Bist Du in ein Heim des Deutschen Roten Kreuzes nach Schleswig-Holstein verschickt worden\, z. B. Wittdün auf Amrum\, Goldene Schlüssel in St. Peter-Ording\, Lafrenz in Burg auf Fehmarn\, Glücksburg Ostsee oder Nieblum auf Föhr dann laden Angela und Michaela Dich zu einer Videokonferenz am Freitag\, den 17.12.2021 um 18:00 Uhr ein. Den Link erhältst Du bei michaela_dinter@yahoo.com Wir freuen uns\, Dich zu sehen!Beste Grüße Angela (Wittdün) und Michaela (Goldene Schlüssel\, SPO)
URL:https://verschickungsheime.de/event/selbthilfe-treffen-drk-heime-schleswig-holstein/
END:VEVENT
BEGIN:VEVENT
DTSTART;TZID=Europe/Berlin:20211220T180000
DTEND;TZID=Europe/Berlin:20211220T200000
DTSTAMP:20260423T120056
CREATED:20210917T092035Z
LAST-MODIFIED:20211121T221922Z
UID:10000650-1640023200-1640030400@verschickungsheime.de
SUMMARY:Berliner Selbsthilfegruppe als Onlineveranstaltung
DESCRIPTION:Wir treffen uns erstmal wieder nur online am 3.Montag im Monat. Anmeldung und Link bei Valerie unter Selbsthilfe-Berlin@verschickungsheime.de
URL:https://verschickungsheime.de/event/berliner-selbsthilfegruppe-praesenzveranstaltung-4/
END:VEVENT
END:VCALENDAR