BEGIN:VCALENDAR
VERSION:2.0
PRODID:-//Verschickungsheime - ECPv6.15.20//NONSGML v1.0//EN
CALSCALE:GREGORIAN
METHOD:PUBLISH
X-ORIGINAL-URL:https://verschickungsheime.de
X-WR-CALDESC:Veranstaltungen für Verschickungsheime
REFRESH-INTERVAL;VALUE=DURATION:PT1H
X-Robots-Tag:noindex
X-PUBLISHED-TTL:PT1H
BEGIN:VTIMEZONE
TZID:Europe/Berlin
BEGIN:DAYLIGHT
TZOFFSETFROM:+0100
TZOFFSETTO:+0200
TZNAME:CEST
DTSTART:20210328T010000
END:DAYLIGHT
BEGIN:STANDARD
TZOFFSETFROM:+0200
TZOFFSETTO:+0100
TZNAME:CET
DTSTART:20211031T010000
END:STANDARD
BEGIN:DAYLIGHT
TZOFFSETFROM:+0100
TZOFFSETTO:+0200
TZNAME:CEST
DTSTART:20220327T010000
END:DAYLIGHT
BEGIN:STANDARD
TZOFFSETFROM:+0200
TZOFFSETTO:+0100
TZNAME:CET
DTSTART:20221030T010000
END:STANDARD
BEGIN:DAYLIGHT
TZOFFSETFROM:+0100
TZOFFSETTO:+0200
TZNAME:CEST
DTSTART:20230326T010000
END:DAYLIGHT
BEGIN:STANDARD
TZOFFSETFROM:+0200
TZOFFSETTO:+0100
TZNAME:CET
DTSTART:20231029T010000
END:STANDARD
END:VTIMEZONE
BEGIN:VEVENT
DTSTART;TZID=Europe/Berlin:20220203T160000
DTEND;TZID=Europe/Berlin:20220203T180000
DTSTAMP:20260423T093514
CREATED:20220131T093358Z
LAST-MODIFIED:20220131T093623Z
UID:10000717-1643904000-1643911200@verschickungsheime.de
SUMMARY:Landes-Koordinatoren-Veranstaltung
DESCRIPTION:Zusammen mit dem Ministerium für Arbeit\, Gesundheit und Soziales\, MAGS NRW\, lädt der Verein „Aufarbeitung Kinderverschickungen NRW e.V.“ alle LandeskoordinatorInnen zu einer Informationsveranstaltung zur Kurzstudie-NRW ein. Prof. Dr. Marc von Miquel wird seine Studie vorstellen\, anschließend ist eine Fragestunde mit offener Diskussion. Ziel der Veranstaltung ist es\, den LandeskoordinatorInnen Informationen zukommen zu lassen\, die sie motivieren und befähigen\, in ihren Bundesländern ähnliche Projekte mit Unterstützung der jeweiligen Landespolitik anzustoßen. Alle LKs haben den Einladungslink bekommen\, wir freuen uns über rege Teilnahme.
URL:https://verschickungsheime.de/event/landes-koordinatoren-veranstaltung/
END:VEVENT
BEGIN:VEVENT
DTSTART;TZID=Europe/Berlin:20220207T181500
DTEND;TZID=Europe/Berlin:20220207T194500
DTSTAMP:20260423T093514
CREATED:20220131T080853Z
LAST-MODIFIED:20220131T082454Z
UID:10000712-1644257700-1644263100@verschickungsheime.de
SUMMARY:Heimorttreffen Villingen-Schwenningen
DESCRIPTION:Für alle\, die in Kindererholungsheimen des Kurortes Villingen-Schwemmingen waren\, findet am Montag\, 07.02.2022\, von 18:15 bis 19:45 Uhr ein Onlinetreffen statt. Den Zugangslink erhaltet ihr von der Heimortverantwortlichen Martina. Schreibt ihr eine Mail unter: villingen.schwenningen@verschickungsheime-bw.de.
URL:https://verschickungsheime.de/event/heimorttreffen-villingen-schwenningen/
END:VEVENT
BEGIN:VEVENT
DTSTART;TZID=Europe/Berlin:20220208T180000
DTEND;TZID=Europe/Berlin:20220208T200000
DTSTAMP:20260423T093514
CREATED:20220116T140102Z
LAST-MODIFIED:20220116T140104Z
UID:10000707-1644343200-1644350400@verschickungsheime.de
SUMMARY:LÜBECK Onlinetreffen
DESCRIPTION:Herzliche Einladung zur Videokonferenz am Dienstag\, den 08.02.2022 von 18:00 Uhr bis 20:00 Uhr an alle\, die aus Lübeck verschickt wurden oder in Lübeck wohnen. Den Link gibt es bei Michaela michaela_dinter@yahoo.com
URL:https://verschickungsheime.de/event/luebeck-onlinetreffen/
END:VEVENT
BEGIN:VEVENT
DTSTART;TZID=Europe/Berlin:20220209T190000
DTEND;TZID=Europe/Berlin:20220209T210000
DTSTAMP:20260423T093514
CREATED:20220131T202443Z
LAST-MODIFIED:20220131T202446Z
UID:10000718-1644433200-1644440400@verschickungsheime.de
SUMMARY:Zoom-Meeting HOK Bad Sassendorf
DESCRIPTION:Videotreffen der Heimortkoordination für Bad Sassendorf von 19:00 – 21:00 Uhr. Anmeldung unter BadSassendorf@verschickungsheime.de.
URL:https://verschickungsheime.de/event/zoom-meeting-hok-bad-sassendorf/
END:VEVENT
BEGIN:VEVENT
DTSTART;TZID=Europe/Berlin:20220210T174500
DTEND;TZID=Europe/Berlin:20220210T191500
DTSTAMP:20260423T093514
CREATED:20220131T085121Z
LAST-MODIFIED:20220131T221608Z
UID:10000713-1644515100-1644520500@verschickungsheime.de
SUMMARY:Heimorttreffen Kindersolbad Bad Friedrichshall/Jagstfeld
DESCRIPTION:Zum Heimorttreffen Kindersolbad Bad Friedrichshall/Jagstfeld – Recherche und Forschung – mit Gästen: Hilke Lorenz und Sina Fritsche – aden wir herzlich alle interessierten ein. Es ist eine Online-Veranstaltung am Donnerstag\, 10.02.2022\, von 17:45 bis 19:15 Uhr. Ein Zugangslink wurde an alle Betroffenen Kindersolbad Bad Friedrichshall/Jagstfeld versendet. Welche\, die noch Interesse haben\, können sich hier anmelden:  HOK Andrea: mail@andreaweyrauch.de
URL:https://verschickungsheime.de/event/heimorttreffen-kindersolbad-bad-friedrichshall-jagstfeld/
END:VEVENT
BEGIN:VEVENT
DTSTART;TZID=Europe/Berlin:20220210T180000
DTEND;TZID=Europe/Berlin:20220210T193000
DTSTAMP:20260423T093514
CREATED:20220131T085536Z
LAST-MODIFIED:20220131T085539Z
UID:10000714-1644516000-1644521400@verschickungsheime.de
SUMMARY:Online Workshop Entwicklung Fragebogen / Interviewleitfaden
DESCRIPTION:Die Baden-Württemberg-Landesgruppe/Verein AKV – Bawü e.V.\, lädt zu einem Online Workshop ein\, Thema:  Entwicklung eines Fragebogens / Interviewleitfadens\, am Donnerstag\, den 10.02.2022\, von 19:30 – 21:00 Uhr. Wir freuen uns über Anmeldungen von Betroffenen\, die hierzu Erfahrungen und Kompetenzen mitbringen. Meldet euch bitte unter mail@verschickungsheime-bw.de an und ihr erhaltet den Zugangslink.
URL:https://verschickungsheime.de/event/online-workshop-entwicklung-fragebogen-interviewleitfaden/
END:VEVENT
BEGIN:VEVENT
DTSTART;TZID=Europe/Berlin:20220210T180000
DTEND;TZID=Europe/Berlin:20220210T200000
DTSTAMP:20260423T093514
CREATED:20211222T114420Z
LAST-MODIFIED:20211222T114423Z
UID:10000696-1644516000-1644523200@verschickungsheime.de
SUMMARY:Videotreffen Berlin aktiv
DESCRIPTION:Für alle\, die in Berlin wohnen und mit uns politisch für unsere Sache aktiv werden wollen\, für alle\, die von Berlin aus verschickt wurden und für alle\, die in Berliner Verschickungsheime verschickt wurden: Herzliche Einladung zum Videotreffen „Berlin aktiv“: Am 10.02.2022 von 18 bis 20 Uhr. Anmelden hier: berlin@verschickungsheime.de
URL:https://verschickungsheime.de/event/videotreffen-berlin-aktiv-2/
END:VEVENT
BEGIN:VEVENT
DTSTART;TZID=Europe/Berlin:20220212T110000
DTEND;TZID=Europe/Berlin:20220212T140000
DTSTAMP:20260423T093514
CREATED:20220131T090416Z
LAST-MODIFIED:20220131T090420Z
UID:10000715-1644663600-1644674400@verschickungsheime.de
SUMMARY:Selbsthilfe Baden-Württemberg Präsenz-Veranstaltung im KISS Stuttgart
DESCRIPTION:Die Selbsthilfe Baden-Württemberg lädt zur Präsenz-Veranstaltung im KISS Stuttgart\, in die Tübinger Str. 15 – Gebäude Yeanshalle – Seiteneingang 4. Stock\, am Samstag\, 12. Februar 2022\, von 11:00 bis 14:00 Uhr ein. Coronabedingt können an unseren Selbsthilfetreffen in Präsenz momentan leider nur maximal 10 Personen pro Termin teilnehmen. Bitte meldet euch unter mail@verschickungsheime-bw.de an. Wenn ihr KEINE Antwort bekommt\, seid ihr dabei. Heike und Helmut werden das Treffen moderieren.
URL:https://verschickungsheime.de/event/selbsthilfe-baden-wuerttemberg-praesenz-veranstaltung-im-kiss-stuttgart/
END:VEVENT
BEGIN:VEVENT
DTSTART;TZID=Europe/Berlin:20220214T220000
DTEND;TZID=Europe/Berlin:20220214T224500
DTSTAMP:20260423T093514
CREATED:20220214T121705Z
LAST-MODIFIED:20220214T121708Z
UID:10000726-1644876000-1644878700@verschickungsheime.de
SUMMARY:'45 Min' Reportage: Das Leid der Verschickungskinder im NDR Fernsehen
DESCRIPTION:„Bis in die 1980er-Jahre wurden Millionen Kinder im Rahmen staatlicher Gesundheitsprogramme auf Erholungskuren geschickt. Dort misshandelte und quälte man viele von ihnen systematisch. Noch heute leiden sie unter den Folgen. Die Aufarbeitung beginnt erst jetzt.“
URL:https://verschickungsheime.de/event/45-min-reportage-das-leid-der-verschickungskinder-im-ndr-fernsehen/
END:VEVENT
BEGIN:VEVENT
DTSTART;TZID=Europe/Berlin:20220215T180000
DTEND;TZID=Europe/Berlin:20220215T200000
DTSTAMP:20260423T093514
CREATED:20220126T104050Z
LAST-MODIFIED:20220131T101758Z
UID:10000710-1644948000-1644955200@verschickungsheime.de
SUMMARY:13. Videotreffen NRW
DESCRIPTION:Wir laden alle Betroffenen mit NRW-Relevanz (aus NRW in ein anderes Bundesland\, oder aus einem anderen Bundesland nach NRW verschickt\, oder keins von beiden\, jedoch aktueller Wohnort in NRW und interessiert) zum 13. Videotreffen am Dienstag\, den 15.02.2022\, 18.00 – 20.00 Uhr ein.Wer den Einladungslink nicht per NRW-Verteiler automatisch erhält\, kann sich gerne unter detlef.lichtrauter@akv-nrw.de oder unter jutta.redecker@akv-nrw anmelden.
URL:https://verschickungsheime.de/event/13-videotreffen-nrw/
END:VEVENT
BEGIN:VEVENT
DTSTART;TZID=Europe/Berlin:20220216T183000
DTEND;TZID=Europe/Berlin:20220216T203000
DTSTAMP:20260423T093514
CREATED:20220126T140018Z
LAST-MODIFIED:20220126T140043Z
UID:10000711-1645036200-1645043400@verschickungsheime.de
SUMMARY:Video-Treffen Rheinland-Pfalz
DESCRIPTION:Thema: Sympatisierung mit den Tätern. Anmeldung unter:  verschickung-viktoriastift@posteo.de
URL:https://verschickungsheime.de/event/video-treffen-rheinland-pfalz/
END:VEVENT
BEGIN:VEVENT
DTSTART;TZID=Europe/Berlin:20220221T180000
DTEND;TZID=Europe/Berlin:20220221T200000
DTSTAMP:20260423T093514
CREATED:20220201T213112Z
LAST-MODIFIED:20220201T213115Z
UID:10000720-1645466400-1645473600@verschickungsheime.de
SUMMARY:Berliner Selbsthilfegruppe als Onlineveranstaltung
DESCRIPTION:In dieser Gruppe geben wir uns den Raum uns gegenseitig zuzuhören und in den Austausch über unsere eigenen Erlebnisse\, Erinnerungen und den Umgang damit zu gehen. Wir treffen uns erstmal wieder nur online am 3.Montag im Monat. Anmeldung und Link bei Valerie unter Selbsthilfe-Berlin@verschickungsheime.de
URL:https://verschickungsheime.de/event/berliner-selbsthilfegruppe-als-onlineveranstaltung-3/
END:VEVENT
BEGIN:VEVENT
DTSTART;TZID=Europe/Berlin:20220222T180000
DTEND;TZID=Europe/Berlin:20220222T200000
DTSTAMP:20260423T093514
CREATED:20220215T101236Z
LAST-MODIFIED:20220218T194459Z
UID:10000728-1645552800-1645560000@verschickungsheime.de
SUMMARY:Bundes-Aktivenschalte Februar
DESCRIPTION:Für alle Funktionsträger:innen in unserer Initiative\, und alle\, die sich aktivieren möchten\, lädt die Bundeskoordination zum monatlichen AKTIVENTREFF ein: Den ZOOM-Link dazu gibt es hier: buko@verschickungsheime.de
URL:https://verschickungsheime.de/event/aktivenschalte-februar/
END:VEVENT
BEGIN:VEVENT
DTSTART;TZID=Europe/Berlin:20220223T183000
DTEND;TZID=Europe/Berlin:20220223T200000
DTSTAMP:20260423T093514
CREATED:20220116T113851Z
LAST-MODIFIED:20220116T113931Z
UID:10000706-1645641000-1645646400@verschickungsheime.de
SUMMARY:2. ONLINETREFFEN der Borkumausauschgruppe
DESCRIPTION:2. ONLINETREFFEN der Borkumausauschgruppe am Mittwoch 23 Februar um 18.30. Interessierte melden sich bitte bei den HOKs Regina\, Silke\, Uwe unter borkum@verschickungsheime.de 
URL:https://verschickungsheime.de/event/2-onlinetreffen-der-borkumausauschgruppe/
END:VEVENT
BEGIN:VEVENT
DTSTART;TZID=Europe/Berlin:20220224T193000
DTEND;TZID=Europe/Berlin:20220224T210000
DTSTAMP:20260423T093514
CREATED:20220131T090955Z
LAST-MODIFIED:20220131T090959Z
UID:10000716-1645731000-1645736400@verschickungsheime.de
SUMMARY:AKVBW e.V. ORGA-Treffen – Online-Veranstaltung
DESCRIPTION:Der Verein AKVBW e.V. in Baden-Württemberg lädt zum ORGA-Treffen – Online-Veranstaltung am Donnerstag\, 24. Februar 2022 von 19:30 bis 21:00 Uhr ein. Die Online Orga-Treffen sind für alle gedacht\, die sich aktiv und ehrenamtlich an der Aufarbeitung Kinderverschickungen in BW beteiligen möchten. Bitte meldet euch unter mail@verschickungsheime-bw.de an und ihr erhaltet den Zugangslink per Mail.
URL:https://verschickungsheime.de/event/akvbw-e-v-orga-treffen-online-veranstaltung/
END:VEVENT
BEGIN:VEVENT
DTSTART;TZID=Europe/Berlin:20220226T150000
DTEND;TZID=Europe/Berlin:20220226T163000
DTSTAMP:20260423T093514
CREATED:20211214T121542Z
LAST-MODIFIED:20211214T121737Z
UID:10000691-1645887600-1645893000@verschickungsheime.de
SUMMARY:DDR-Kurkindertreffen
DESCRIPTION:Am 26.2. um 15-16.30 Uhr wird es wieder ein ZOOM -Treffen der ehemaligen DDR-Kur-Kinder geben\, meldet euch hierfür an\, den Link dafür erhaltet ihr bei Diana\, einfach schreiben an: kinderkurheim-aufarbeitung@web.de
URL:https://verschickungsheime.de/event/ddr-kurkindertreffen/
END:VEVENT
END:VCALENDAR