BEGIN:VCALENDAR
VERSION:2.0
PRODID:-//Verschickungsheime - ECPv6.15.20//NONSGML v1.0//EN
CALSCALE:GREGORIAN
METHOD:PUBLISH
X-WR-CALNAME:Verschickungsheime
X-ORIGINAL-URL:https://verschickungsheime.de
X-WR-CALDESC:Veranstaltungen für Verschickungsheime
REFRESH-INTERVAL;VALUE=DURATION:PT1H
X-Robots-Tag:noindex
X-PUBLISHED-TTL:PT1H
BEGIN:VTIMEZONE
TZID:Europe/Berlin
BEGIN:DAYLIGHT
TZOFFSETFROM:+0100
TZOFFSETTO:+0200
TZNAME:CEST
DTSTART:20210328T010000
END:DAYLIGHT
BEGIN:STANDARD
TZOFFSETFROM:+0200
TZOFFSETTO:+0100
TZNAME:CET
DTSTART:20211031T010000
END:STANDARD
BEGIN:DAYLIGHT
TZOFFSETFROM:+0100
TZOFFSETTO:+0200
TZNAME:CEST
DTSTART:20220327T010000
END:DAYLIGHT
BEGIN:STANDARD
TZOFFSETFROM:+0200
TZOFFSETTO:+0100
TZNAME:CET
DTSTART:20221030T010000
END:STANDARD
BEGIN:DAYLIGHT
TZOFFSETFROM:+0100
TZOFFSETTO:+0200
TZNAME:CEST
DTSTART:20230326T010000
END:DAYLIGHT
BEGIN:STANDARD
TZOFFSETFROM:+0200
TZOFFSETTO:+0100
TZNAME:CET
DTSTART:20231029T010000
END:STANDARD
END:VTIMEZONE
BEGIN:VEVENT
DTSTART;TZID=Europe/Berlin:20220301T180000
DTEND;TZID=Europe/Berlin:20220301T200000
DTSTAMP:20260423T080827
CREATED:20220116T140737Z
LAST-MODIFIED:20220228T095521Z
UID:10000708-1646157600-1646164800@verschickungsheime.de
SUMMARY:SCHLESWIG-HOLSTEIN Landesvideokonferenz
DESCRIPTION:Die Landeskoordinatorinnen Michaela und Susanne laden Euch herzlich zur Videokonferenz am Dienstag\, den 01.03.2022 von 18:00 Uhr bis 20:00 Uhr ein. Wenn Du nach Schleswig-Holstein verschickt wurdest\, in Schleswig-Holstein wohnst\, aus Schleswig-Holstein verschickt wurdest oder bereits aktiv in der Heimkoordination oder Heimortkoordination bist\, erhältst Du den Link unter schleswig-holstein@verschickungsheime.de Wir freuen uns auf Deine Teilnahme.
URL:https://verschickungsheime.de/event/schleswig-holstein-regionalvideokonferenz/
CATEGORIES:Schleswig-Holstein
END:VEVENT
BEGIN:VEVENT
DTSTART;TZID=Europe/Berlin:20220303T193000
DTEND;TZID=Europe/Berlin:20220303T213000
DTSTAMP:20260423T080827
CREATED:20220301T154248Z
LAST-MODIFIED:20220301T154252Z
UID:10000615-1646335800-1646343000@verschickungsheime.de
SUMMARY:Online-meeting in Hessen
DESCRIPTION:Wer als Verschickungskind in Hessen wohnt\, nach Hessen und aus Hessen verschickt wurde\, ist herzlich dazu eingeladen\, sich mit uns im Netz zu einer Austauschgruppe im Onlinemeeting zu treffen\, anmelden über die LK Hessen Claudia: Verschickungsheime-hessen@mail.de
URL:https://verschickungsheime.de/event/online-meeting-in-hessen/
END:VEVENT
BEGIN:VEVENT
DTSTART;TZID=Europe/Berlin:20220308T193000
DTEND;TZID=Europe/Berlin:20220308T210000
DTSTAMP:20260423T080827
CREATED:20211126T163108Z
LAST-MODIFIED:20211126T163110Z
UID:10000583-1646767800-1646773200@verschickungsheime.de
SUMMARY:Digitaler Vortragsabend Offenburg
DESCRIPTION:Digitaler Vortrags- und Gesprächsabend: Traumatische Erinnerungen an Kindererholungsheime und -heilstätten. Im Rahmen des „Forum Ethik in der Auferstehungsgemeinde“ am Dienstag\, 8.3.22\, 19.30-21.00 Uhr. mit Anja Röhl\, Anmeldung: Tel.: 0781/31109
URL:https://verschickungsheime.de/event/digitaler-vortragsabend-offenburg/
END:VEVENT
BEGIN:VEVENT
DTSTART;TZID=Europe/Berlin:20220309T180000
DTEND;TZID=Europe/Berlin:20220309T200000
DTSTAMP:20260423T080827
CREATED:20220213T132030Z
LAST-MODIFIED:20220228T095936Z
UID:10000724-1646848800-1646856000@verschickungsheime.de
SUMMARY:Orgagruppe St. Peter-Ording
DESCRIPTION:Wir treffen uns an jedem 2. Mittwoch im Monat. Anmeldeschluss für März ist der 02.März 22 unter Cl.johansson.HOK.SPO.gmx.de\, weitere Infos über uns auch unter:  https://www.verschickungsheime-spo.de
URL:https://verschickungsheime.de/event/orgagruppe-st-peter-ording/
CATEGORIES:Schleswig-Holstein
END:VEVENT
BEGIN:VEVENT
DTSTART;TZID=Europe/Berlin:20220310T180000
DTEND;TZID=Europe/Berlin:20220310T200000
DTSTAMP:20260423T080827
CREATED:20220228T170242Z
LAST-MODIFIED:20220228T210014Z
UID:10000611-1646935200-1646942400@verschickungsheime.de
SUMMARY:Berliner Aktivenschalte
DESCRIPTION:Onlinetreffen\, für alle\, die in Berlin politisch für das Verschickungsthema aktiv werden wollen\, jeweils immer den zweiten Donnerstag im Monat\, anmelden über: berlin@verschickungsheime.de
URL:https://verschickungsheime.de/event/berliner-aktivenschalte-5/
CATEGORIES:Berlin
END:VEVENT
BEGIN:VEVENT
DTSTART;TZID=Europe/Berlin:20220311T180000
DTEND;TZID=Europe/Berlin:20220311T200000
DTSTAMP:20260423T080827
CREATED:20220308T211444Z
LAST-MODIFIED:20220308T211500Z
UID:10000623-1647021600-1647028800@verschickungsheime.de
SUMMARY:AKV - Baden-Württemberg lädt ein: Gedenkveranstanltung zu Ernst Klee
DESCRIPTION:Ernst Klee ist der bedeutendste Biographie-Forscher von NS-Persönlichkeiten. Seine Bücher tragen Titel\, wie: “Was sie taten – was sie wurden” Er hat fast für jeden Berufszweig (Journalisten\, Ärzte\, Lehrer)\, aufgedeckt und enthüllt\, wer was wann war in der NS-Zeit. Er kam von der Behindertenbewegung her\, war der erste\, der ihnen eine Stimme von Würde und Selbstbestimmung gab. Über die Erforschung der Euthanasie-Verbrechen kam er dann dazu\, dass er immer mehr hochgestellte Persönlichkeiten der Nachkriegszeit als NS-Funktionäre und Mittäter entlarvte. Wenn wir nach Heimleiterinnen und Funktionären der Verschickungsindustrie suchten\, sind wir nicht selten fündig geworden in seinen Büchern. Sein Verdienst um die Aufarbeitung der NS-Zeit ist nicht hoch genug einzuschätzen. Jetzt lädt die Baden-Württemberger Landesgruppe der Initiative Verschickungskinder mit ein: \n\n\n\nEinladung zur Podiumsdiskussion am 11. März\, anlässlich des 80. Geburtstages von Ernst Klee. \n\n\n\nDie Veranstaltung findet in hybrider Form statt und wird auf unserem YouTube-Kanal gestreamt. Sie können den Stream unter www.youtube.com/gedenkstättehadamar zeitgleich mit der Veranstaltung verfolgen.
URL:https://verschickungsheime.de/event/akv-baden-wuerttemberg-laedt-ein-gedenkveranstanltung-zu-ernst-klee/
END:VEVENT
BEGIN:VEVENT
DTSTART;TZID=Europe/Berlin:20220312T110000
DTEND;TZID=Europe/Berlin:20220312T140000
DTSTAMP:20260423T080827
CREATED:20220228T161229Z
LAST-MODIFIED:20220228T205727Z
UID:10000737-1647082800-1647093600@verschickungsheime.de
SUMMARY:Selbsthilfe Baden-Württemberg
DESCRIPTION:Wir laden herzlich ein zur Selbsthilfe Baden-Württemberg Präsenz-Veranstaltung im KISS Stuttgart\, Tübinger Straße 15\, 70178 Stuttgart
URL:https://verschickungsheime.de/event/12472/
CATEGORIES:Baden-Württemberg
END:VEVENT
BEGIN:VEVENT
DTSTART;TZID=Europe/Berlin:20220312T150000
DTEND;TZID=Europe/Berlin:20220312T170000
DTSTAMP:20260423T080827
CREATED:20220307T120845Z
LAST-MODIFIED:20220307T140014Z
UID:10000621-1647097200-1647104400@verschickungsheime.de
SUMMARY:Hamburger Onlineschalte
DESCRIPTION:Für alle\, die in Hamburg wohnen und als Kinder von Hamburg verschickt wurden\, wir freuen uns! Meldet euch! Für alle Hamburgerinnen\, das Thalia-Theater sucht noch dringend eine Statistin\, sie soll über 60 Jahre alt sein und in Hamburg wohnen\, meldet euch bei: verschickungskinder.hh@gmail.com
URL:https://verschickungsheime.de/event/hamburger-onlineschalte/
END:VEVENT
BEGIN:VEVENT
DTSTART;TZID=Europe/Berlin:20220316T180000
DTEND;TZID=Europe/Berlin:20220316T200000
DTSTAMP:20260423T080827
CREATED:20220315T081614Z
LAST-MODIFIED:20220315T081618Z
UID:10000741-1647453600-1647460800@verschickungsheime.de
SUMMARY:Zoom-Webinar: Jugend an die Macht!
DESCRIPTION:Die SPD-Landtagsfraktion NRW lädt zu ihrer Veranstaltungsreihe „SPD-Fraktion im Gespräch“ ein:„Im Rahmen verschiedener kurzer Fachgespräche möchten wir mit Expert:innen über die Herausforderungen der Bedürfnisse von Jugendlichen und den Schutz von Kindern in NRW sprechen.“„Wie können junge Menschen unsere Gesellschaft mitgestalten? Wie schaffen wir es\, ihre Meinung und ihre Bedürfnisse zu berücksichtigen? Und wie kann NRW jugendgerechter werden? Das möchten wir diskutieren: mit Max Pilger\, dem Vorsitzenden des Landesjugendrings NRW\, und Prof. Jan Ziekow\, der als Direktor des Deutschen Forschungsinstituts für öffentliche Verwaltung unter anderem mit dem Kompetenzzentrum Jugend-Check befasst ist.“ ­­“Mit mehr Beteiligung und einem Jugend-Check zu einem jugendgerechterem NRW – darüber diskutieren Eva-Maria Voigt-Küppers\, stellvertretende Fraktionsvorsitzende\, und Dr. Dennis Maelzer\, jugendpolitischer Sprecher\, mit unseren Gästen – und natürlich auch mit Euch! Diskutiert mit uns!“Anmeldung unter: www.machen-wir.de/jugend
URL:https://verschickungsheime.de/event/zoom-webinar-jugend-an-die-macht/
END:VEVENT
BEGIN:VEVENT
DTSTART;TZID=Europe/Berlin:20220317T163000
DTEND;TZID=Europe/Berlin:20220317T183000
DTSTAMP:20260423T080827
CREATED:20220315T082056Z
LAST-MODIFIED:20220315T082059Z
UID:10000742-1647534600-1647541800@verschickungsheime.de
SUMMARY:Zoom-Webinar: Kinderschutz in NRW – wie können wir unsere Kinder schützen?
DESCRIPTION:Die SPD-Landtagsfraktion NRW lädt zu ihrer Veranstaltungsreihe „SPD-Fraktion im Gespräch“ ein: \n\n\n\n„Im Rahmen verschiedener kurzer Fachgespräche möchten wir mit Expert:innen über die Herausforderungen der Bedürfnisse von Jugendlichen und den Schutz von Kindern in NRW sprechen.“ \n\n\n\n„Kinderschutz ist immer eine Aufgabe der gesamten Gesellschaft – finden wir. Wie muss daher ein gutes Kinderschutzgesetz für NRW aussehen? Wie Heinz Hilgers\, Präsident des Deutschen Kinderschutzbundes\, dazu steht\, diskutieren wir mit ihm auf unserer Veranstaltung zum Kinderschutz in NRW. Mit dabei: Britta Altenkamp\, Vorsitzende der Kommission zur Wahrnehmung der Belange der Kinder\, und Dr. Dennis Maelzer\, unser familienpolitischer Sprecher.“ ­­“Diskutiert mit uns auch darüber\, was Familie und Freundeskreis dazu beitragen können\, um Kinder zu schützen und zu stärken.“Anmeldung unter: www.machen-wir.de/kinderschutz
URL:https://verschickungsheime.de/event/zoom-webinar-kinderschutz-in-nrw-wie-koennen-wir-unsere-kinder-schuetzen/
END:VEVENT
BEGIN:VEVENT
DTSTART;TZID=Europe/Berlin:20220321T180000
DTEND;TZID=Europe/Berlin:20220321T200000
DTSTAMP:20260423T080827
CREATED:20220311T075046Z
LAST-MODIFIED:20220311T075050Z
UID:10000627-1647885600-1647892800@verschickungsheime.de
SUMMARY:Berliner Selbsthilfe Gruppe online
DESCRIPTION:In dieser Gruppe geben wir uns den Raum uns gegenseitig zuzuhören und in den Austausch über unsere eigenen Erlebnisse\, Erinnerungen und den Umgang damit zu gehen. Wir treffen uns erstmal wieder nur online am 3.Montag im Monat. Anmeldung und Link bei Valerie unter Selbsthilfe-Berlin@verschickungsheime.de
URL:https://verschickungsheime.de/event/berliner-selbsthilfe-gruppe-online/
END:VEVENT
BEGIN:VEVENT
DTSTART;TZID=Europe/Berlin:20220321T193000
DTEND;TZID=Europe/Berlin:20220321T210000
DTSTAMP:20260423T080827
CREATED:20211126T163313Z
LAST-MODIFIED:20220321T180959Z
UID:10000585-1647891000-1647896400@verschickungsheime.de
SUMMARY:Online-Buchvorstellung mit ANJA RÖHL: Das vergessene Elend der Verschickungskinder\,  VHS Reutlingen
DESCRIPTION:Vortrag und Lesung zum Thema: Vergessene traumatische Erinnerungen an Kindererholungsheime. In der VHS Reutlingen: Umgestellt auf Online-Lesung und Buchvorstellung: „Das Elend der Verschickungskinder-Kindererholungsheime als Orte der Gewalt“ Erstes grundlegendes Werk über Kinder-Verschickungen. Lesung auch aus dem Buch: Heimweh-Verschickungskinder erzählen. In der Volkshochschule Reutlingen\, in der Spendhausstraße 6\, D 72764 Reutlingen\, Anmeldung: 07121 336-117\, oder per mail: ikarki@vhsrt.de \n\n\n\nHier der link zur Veranstaltung in der VHS Reutlingen: https://www.vhsrt.de/Veranstaltung/cmx604a1e27817b3.html
URL:https://verschickungsheime.de/event/vergessene-traumatische-erinnerungen-an-kindererholungsheime-in-der-vhs-reutlingen-mit-anja-roehl/
CATEGORIES:Thüringen
END:VEVENT
BEGIN:VEVENT
DTSTART;TZID=Europe/Berlin:20220322T180000
DTEND;TZID=Europe/Berlin:20220322T200000
DTSTAMP:20260423T080827
CREATED:20220217T080541Z
LAST-MODIFIED:20220228T100016Z
UID:10000733-1647972000-1647979200@verschickungsheime.de
SUMMARY:14. Videotreffen NRW
DESCRIPTION:Wir laden alle Betroffenen mit NRW-Relevanz (aus NRW in ein anderes Bundesland\, oder aus einem anderen Bundesland nach NRW verschickt\, oder keins von beiden\, jedoch aktueller Wohnort in NRW und interessiert) zum 14. Videotreffen am Dienstag\, den 22.03.2022\, 18.00 – 20.00 Uhr ein.Wer den Einladungslink nicht per NRW-Verteiler automatisch erhält\, kann sich gerne unter detlef.lichtrauter@akv-nrw.de oder unter jutta.redecker@akv-nrw anmelden.
URL:https://verschickungsheime.de/event/14-videotreffen-nrw/
CATEGORIES:NRW
END:VEVENT
BEGIN:VEVENT
DTSTART;TZID=Europe/Berlin:20220323T183000
DTEND;TZID=Europe/Berlin:20220323T203000
DTSTAMP:20260423T080827
CREATED:20220303T093546Z
LAST-MODIFIED:20220303T093551Z
UID:10000617-1648060200-1648067400@verschickungsheime.de
SUMMARY:Videotreffen Rheinland-Pfalz
DESCRIPTION:Thema: Kraftquellen
URL:https://verschickungsheime.de/event/videotreffen-rheinland-pfalz-3/
END:VEVENT
BEGIN:VEVENT
DTSTART;TZID=Europe/Berlin:20220324T183000
DTEND;TZID=Europe/Berlin:20220324T203000
DTSTAMP:20260423T080827
CREATED:20211126T162828Z
LAST-MODIFIED:20220312T094603Z
UID:10000581-1648146600-1648153800@verschickungsheime.de
SUMMARY:Hamburg - Ahrensburg: Buchvorstellung ANJA RÖHL: Das lange vergessene Elend der Verschickungskinder
DESCRIPTION:Vortrag\, Lesung\, Diskussion zum Thema: Das Elend der Verschickungskinder\, mit Lesung aus dem Buch: Heimweh-Verschickungskinder erzählen. Am 24.03.22 um 18.30 Uhr im Peter-Rantzau-Haus\, AWO Ahrensburg e. V.\, Manfred-Samusch-Str. 9\, 22926 Ahrensburg\, Anmeldung: Tel.: 04102 – 21 15 10
URL:https://verschickungsheime.de/event/vortrag-lesung-diskussion-zum-thema-das-elend-der-verschickungskinder-in-ahrensburg/
CATEGORIES:Baden-Württemberg
END:VEVENT
BEGIN:VEVENT
DTSTART;TZID=Europe/Berlin:20220324T193000
DTEND;TZID=Europe/Berlin:20220324T210000
DTSTAMP:20260423T080827
CREATED:20220228T163041Z
LAST-MODIFIED:20220228T163058Z
UID:10000738-1648150200-1648155600@verschickungsheime.de
SUMMARY:Online AKV-BW e.V. Orga-Treffen
DESCRIPTION:Online AKVBW e.V. ORGA-Treffen\, Anmelden unter: mail@verschickungsheime-bw.de
URL:https://verschickungsheime.de/event/online-akv-bw-e-v-orga-treffen/
END:VEVENT
BEGIN:VEVENT
DTSTART;TZID=Europe/Berlin:20220325T170000
DTEND;TZID=Europe/Berlin:20220325T190000
DTSTAMP:20260423T080827
CREATED:20220228T163640Z
LAST-MODIFIED:20220228T204927Z
UID:10000739-1648227600-1648234800@verschickungsheime.de
SUMMARY:Online Selbsthilfetreffen Baden-Württemberg
DESCRIPTION:Online Selbsthilfetreffen Baden-Württemberg\, für alle\, die aus Bawü und nach Bawü verschickt worden\, und alle die in Bawü wohnen
URL:https://verschickungsheime.de/event/online-selbsthilfetreffen/
CATEGORIES:Baden-Württemberg
END:VEVENT
BEGIN:VEVENT
DTSTART;TZID=Europe/Berlin:20220326T090000
DTEND;TZID=Europe/Berlin:20220326T100000
DTSTAMP:20260423T080827
CREATED:20220312T101309Z
LAST-MODIFIED:20220312T101525Z
UID:10000629-1648285200-1648288800@verschickungsheime.de
SUMMARY:Online-Vortrag: ANJA RÖHL: Das Elend der Verschickungskinder - Angsterzeugung als Mittel der Disziplinierung
DESCRIPTION:Vortrag auf der Online-Jahrestagung der GESELLSCHAFT FÜR PSYCHOHISTORIE UND POLITISCHE PSYCHOLOGIE (GPPP) mit dem Titel:  „Erziehung der Angst – Transgenerationale Weitergabe einer kinderfeindlichen Haltung (36. Jahrestagung) Hier das ganze Tagungsprogramm zum Runterladen: TAGUNGSPROGRAMM \n\n\n\nAnmelden bei: Doris Dietzel-Wolf\, Glogauerstr. 953117 Bonn: DorisDietzelWolf@gmail.com \n\n\n\n\n\nVortrag auf der Tagung
URL:https://verschickungsheime.de/event/online-vortrag-anja-roehl-das-elend-der-verschickungskinder-angsterzeugung-als-mittel-der-disziplinierung/
END:VEVENT
BEGIN:VEVENT
DTSTART;TZID=Europe/Berlin:20220329T180000
DTEND;TZID=Europe/Berlin:20220329T200000
DTSTAMP:20260423T080827
CREATED:20220308T212118Z
LAST-MODIFIED:20220308T212122Z
UID:10000625-1648576800-1648584000@verschickungsheime.de
SUMMARY:Bundesweite Aktivenschalte
DESCRIPTION:Menschen\, die etwas bewegen wollen\, sich bei uns engagieren wollen und helfen wollen\, dass sich etwas bewegt\, engagieren sich in Erinnerungsaustausch-\, Bundesländer-\, Recherche- und Heimortgruppen. In der Aktivenschalte treffen sie sich\, um diese Arbeiten zu koordinieren und aufeinander abzustimmen. Anmeldung unter: buko@verschickungsheime.de
URL:https://verschickungsheime.de/event/bundesweite-aktivenschalte-3/
END:VEVENT
END:VCALENDAR