BEGIN:VCALENDAR
VERSION:2.0
PRODID:-//Verschickungsheime - ECPv6.15.20//NONSGML v1.0//EN
CALSCALE:GREGORIAN
METHOD:PUBLISH
X-ORIGINAL-URL:https://verschickungsheime.de
X-WR-CALDESC:Veranstaltungen für Verschickungsheime
REFRESH-INTERVAL;VALUE=DURATION:PT1H
X-Robots-Tag:noindex
X-PUBLISHED-TTL:PT1H
BEGIN:VTIMEZONE
TZID:Europe/Berlin
BEGIN:DAYLIGHT
TZOFFSETFROM:+0100
TZOFFSETTO:+0200
TZNAME:CEST
DTSTART:20210328T010000
END:DAYLIGHT
BEGIN:STANDARD
TZOFFSETFROM:+0200
TZOFFSETTO:+0100
TZNAME:CET
DTSTART:20211031T010000
END:STANDARD
BEGIN:DAYLIGHT
TZOFFSETFROM:+0100
TZOFFSETTO:+0200
TZNAME:CEST
DTSTART:20220327T010000
END:DAYLIGHT
BEGIN:STANDARD
TZOFFSETFROM:+0200
TZOFFSETTO:+0100
TZNAME:CET
DTSTART:20221030T010000
END:STANDARD
BEGIN:DAYLIGHT
TZOFFSETFROM:+0100
TZOFFSETTO:+0200
TZNAME:CEST
DTSTART:20230326T010000
END:DAYLIGHT
BEGIN:STANDARD
TZOFFSETFROM:+0200
TZOFFSETTO:+0100
TZNAME:CET
DTSTART:20231029T010000
END:STANDARD
END:VTIMEZONE
BEGIN:VEVENT
DTSTART;TZID=Europe/Berlin:20220602T183000
DTEND;TZID=Europe/Berlin:20220602T193000
DTSTAMP:20260423T041958
CREATED:20220522T114017Z
LAST-MODIFIED:20220522T114021Z
UID:10000788-1654194600-1654198200@verschickungsheime.de
SUMMARY:SPO Gesprächsgruppe
DESCRIPTION:Bei Interesse bitte melden bei Cl.johansson.HOK.SPO@gmx.de
URL:https://verschickungsheime.de/event/spo-gespraechsgruppe/
END:VEVENT
BEGIN:VEVENT
DTSTART;TZID=Europe/Berlin:20220603T180000
DTEND;TZID=Europe/Berlin:20220603T180000
DTSTAMP:20260423T041958
CREATED:20220418T213101Z
LAST-MODIFIED:20220418T213104Z
UID:10000772-1654279200-1654279200@verschickungsheime.de
SUMMARY:Videotreffen Betroffener von sexualisierter Gewalt
DESCRIPTION:Anmeldung erbeten unter verschickung-wessobrunn@gmx.de
URL:https://verschickungsheime.de/event/videotreffen-betroffener-von-sexualisierter-gewalt-2/
END:VEVENT
BEGIN:VEVENT
DTSTART;TZID=Europe/Berlin:20220607T170000
DTEND;TZID=Europe/Berlin:20220607T190000
DTSTAMP:20260423T041958
CREATED:20220329T152052Z
LAST-MODIFIED:20220329T152055Z
UID:10000748-1654621200-1654628400@verschickungsheime.de
SUMMARY:Selbsthilfegruppe Verschickungskinder Köln
DESCRIPTION:
URL:https://verschickungsheime.de/event/selbsthilfegruppe-verschickungskinder-koeln-3/
END:VEVENT
BEGIN:VEVENT
DTSTART;TZID=Europe/Berlin:20220607T190000
DTEND;TZID=Europe/Berlin:20220607T210000
DTSTAMP:20260423T041958
CREATED:20220519T070421Z
LAST-MODIFIED:20220519T070537Z
UID:10000782-1654628400-1654635600@verschickungsheime.de
SUMMARY:HOK-Treffen Bad Sassendorf\, NRW
DESCRIPTION:Anmeldung bzw. Zoomlink zum Videotreffen über Isabelle Nünninghoff per Mail: isabelle.nuenninghoff@akv-nrw.de
URL:https://verschickungsheime.de/event/hok-treffen-bad-sassendorf-nrw/
CATEGORIES:NRW
END:VEVENT
BEGIN:VEVENT
DTSTART;TZID=Europe/Berlin:20220608T180000
DTEND;TZID=Europe/Berlin:20220608T200000
DTSTAMP:20260423T041958
CREATED:20220505T072556Z
LAST-MODIFIED:20220505T072628Z
UID:10000779-1654711200-1654718400@verschickungsheime.de
SUMMARY:16. Videotreffen NRW
DESCRIPTION:Wir laden alle Betroffenen mit NRW-Relevanz (aus NRW in ein anderes Bundesland\, oder aus einem anderen Bundesland nach NRW verschickt\, oder keins von beiden\, jedoch aktueller Wohnort in NRW und interessiert) zum 16. Videotreffen am Mittwoch\, den 08.06.2022\, 18.00 – 20.00 Uhr ein.Wer den Einladungslink nicht per NRW-Verteiler automatisch erhält\, kann sich gerne unter detlef.lichtrauter@akv-nrw.de oder unter jutta.redecker@akv-nrw anmelden.
URL:https://verschickungsheime.de/event/16-videotreffen-nrw/
CATEGORIES:NRW
END:VEVENT
BEGIN:VEVENT
DTSTART;TZID=Europe/Berlin:20220608T180000
DTEND;TZID=Europe/Berlin:20220608T200000
DTSTAMP:20260423T041958
CREATED:20220522T113541Z
LAST-MODIFIED:20220522T113545Z
UID:10000787-1654711200-1654718400@verschickungsheime.de
SUMMARY:SPO Orgagruppe
DESCRIPTION:Bei Interesse bitte melden unter: Cl.johansson.HOK.SPO@gmx.de
URL:https://verschickungsheime.de/event/spo-orgagruppe/
END:VEVENT
BEGIN:VEVENT
DTSTART;TZID=Europe/Berlin:20220608T193000
DTEND;TZID=Europe/Berlin:20220608T193000
DTSTAMP:20260423T041958
CREATED:20220607T215538Z
LAST-MODIFIED:20220607T220557Z
UID:10000652-1654716600-1654716600@verschickungsheime.de
SUMMARY:Aktuelle Aufführung „Heim Weh“ in Hamburg\, anschließend Gespräch mit Anja Röhl
DESCRIPTION:zu einem Gespräch mit der Autorin Anja Röhl lädt das Thalia Theater diesmal nach dem Stück Heim Weh ein. Welche wissenschaftlichen Grundlagen\, welche Forschungen\, welche Erfahrungen mit Betroffenen liegen dem Stück zugrunde? Anja Röhl ist Initiatorin der Bewegung der Verschickungskinder. Sie hat die ersten Forschungen dazu betrieben und angeregt. Unter anderem in ihren Büchern: „Das Elend der Verschickungskinder – Kindererholungsheime als Orte der Gewalt“ und „Heimweh- Verschickungskinder erzählen“\, (Psychosozial-Verlag)\, auch hat sie kürzlich einen aktuellen wissenschaftlichen Aufsatz über erwachsene Zeitzeugenschaft veröffentlicht. Sie ist Gründerin und Redakteurin der Webseite: www.Verschickungsheime.de\, auf der sich Tausende von Betroffenenberichten traumatischen Inhalts finden.
URL:https://verschickungsheime.de/event/aktuelle-auffuehrung-heim-weh-in-hamburg-anschliessend-gespraech-mit-anja-roehl/
END:VEVENT
BEGIN:VEVENT
DTSTART;TZID=Europe/Berlin:20220609T193000
DTEND;TZID=Europe/Berlin:20220609T210000
DTSTAMP:20260423T041958
CREATED:20220105T160555Z
LAST-MODIFIED:20220607T222130Z
UID:10000704-1654803000-1654808400@verschickungsheime.de
SUMMARY:Hamburg-Harburg: Lesung aus Heimweh-Verschickungskinder erzählen
DESCRIPTION:Anja Röhl hat 23 Verschickungskindern eine Stimme gegeben. Sie hat berührende Interviews geführt und die darin erzählten Lebens- und Leidensgeschichten literarisiert. Dazu gibt sie Infos\, Dokumentationen und Ursachenforschung\, Lesung mit Anja Röhl. In der Bücherhalle Harburg / Leitung\, Eddelbüttelstraße 47a\, 21073 Hamburg. Man kann auch spontan kommen! Anmelden noch möglich\, über: 040 77 29 23\, anke.zumdohme@buecherhallen.de\, www.buecherhallen.de \n\n\n\nDen Link zur Veranstaltung können Sie direkt  \n\n\n\nhier  \n\n\n\nherunterladen.  Das Buch können Sie hier ansehen
URL:https://verschickungsheime.de/event/das-elend-der-verschickungskinder-_-kinderkurheime-als-orte-der-gewalt/
END:VEVENT
BEGIN:VEVENT
DTSTART;TZID=Europe/Berlin:20220613T200000
DTEND;TZID=Europe/Berlin:20220613T220000
DTSTAMP:20260423T041958
CREATED:20220523T102912Z
LAST-MODIFIED:20220523T103050Z
UID:10000790-1655150400-1655157600@verschickungsheime.de
SUMMARY:Theateraufführung in Spiekeroog: Theaterstück SANDBANK\, mit Besuch der Autorin Anja Röhl
DESCRIPTION:20:00 Uhr: Vorstellung SANDBANK in der Strandsporthalle mit Besuch der Autorin Anja Röhl und anschließender Gesprächsgelegenheit\, am nächsten Tag: Dienstag\, 14. Juni um 16:00 Uhr Lesung mit Anja Röhl im örtlichen Kino der Insel
URL:https://verschickungsheime.de/event/theaterauffuehrung-in-spiekeroog-des-theaters-sandbank-mit-besuch-der-autorin-anja-roehl/
END:VEVENT
BEGIN:VEVENT
DTSTART;TZID=Europe/Berlin:20220614T160000
DTEND;TZID=Europe/Berlin:20220614T180000
DTSTAMP:20260423T041958
CREATED:20220523T102609Z
LAST-MODIFIED:20220523T103316Z
UID:10000789-1655222400-1655229600@verschickungsheime.de
SUMMARY:Lesung aus dem Buch: „Heimweh-Verschickungskinder erzählen“\, in Spiekeroog
DESCRIPTION:Zum Thema Kinderverschickungen: Veranstaltung mit der Autorin Anja Röhl auf Spiekeroog:  \n\n\n\nAm Montag\, den 13. Juni ist die Autorin um 20:00 Uhr in die Vorstellung des Theaters SANDBANK in der Strandsporthalle in Spiekeroog eingeladen. Gern auch zum Beantworten von Fragen. Am nächsten Tag\, am Dienstag\, den 14. Juni um 16:00 Uhr findet dann eine Lesung zum Thema Kinderverschickungen im örtlichen Kino statt.  Der Ost ist leicht zu finden: \n\n\n\n Das Inselkino der Insel SPIEKEROOG\, Noorderpad 25\, 26474 Spiekeroog
URL:https://verschickungsheime.de/event/lesung-aus-dem-buch-heimweh-verschickungskinder-erzaehlen-in-spiekeroog/
END:VEVENT
BEGIN:VEVENT
DTSTART;TZID=Europe/Berlin:20220614T180000
DTEND;TZID=Europe/Berlin:20220614T200000
DTSTAMP:20260423T041958
CREATED:20220505T073551Z
LAST-MODIFIED:20220505T103002Z
UID:10000780-1655229600-1655236800@verschickungsheime.de
SUMMARY:Videotreffen NDS
DESCRIPTION:Wir laden alle Betroffenen mit Niedersachsen-Relevanz (aus Niedersachsen in ein anderes Bundesland\, oder aus einem anderen Bundesland nach Niedersachsen verschickt\, oder keins von beiden\, jedoch aktueller Wohnort in Niedersachsen und interessiert) zum Videotreffen am Dienstag\, den 14.06.2022\, 18.00 – 20.00 Uhr ein.Leitung des Treffens:Sabine Schwemm\, Landeskoordinatorin NiedersachsenDen Einladungslink erhaltet ihr unter:verschickungsheime-nds@outlook.com
URL:https://verschickungsheime.de/event/videotreffen-der-verschickungskinder-niedersachsen/
CATEGORIES:Niedersachsen
END:VEVENT
BEGIN:VEVENT
DTSTART;TZID=Europe/Berlin:20220614T193000
DTEND;TZID=Europe/Berlin:20220614T210000
DTSTAMP:20260423T041958
CREATED:20220608T073635Z
LAST-MODIFIED:20220609T062705Z
UID:10000653-1655235000-1655240400@verschickungsheime.de
SUMMARY:Hessen - Landesveranstaltung mit Lesung
DESCRIPTION:Di. 14.6.2022\, 19.30 Uhr\, laden wir in die Waggonhalle Marburg\, in der Rudolf-Bultmannstr. 2a ein\, es gibt eine Lesung mit Willi Schmidt. Der Hessische Landesverein AKV-Hessen stellt sich vor. Einfach hinkommen\, keine Anmeldung nötig!  \n\n\n\nHier  \n\n\n\nder veranstaltungsflyer zum herunterladen.
URL:https://verschickungsheime.de/event/hessen-landesveranstaltung-mit-lesung/
END:VEVENT
BEGIN:VEVENT
DTSTART;TZID=Europe/Berlin:20220620T180000
DTEND;TZID=Europe/Berlin:20220620T200000
DTSTAMP:20260423T041958
CREATED:20220503T211106Z
LAST-MODIFIED:20220503T211109Z
UID:10000778-1655748000-1655755200@verschickungsheime.de
SUMMARY:Berliner Selbsthilfe-Gruppe Online
DESCRIPTION:In dieser Gruppe geben wir uns den Raum uns gegenseitig zuzuhören und in den Austausch über unsere eigenen Erlebnisse\, Erinnerungen und den Umgang damit zu gehen. Wir treffen uns erstmal wieder nur online am 3. Montag im Monat. Anmeldung und Link bei Valerie unter Selbsthilfe-Berlin@verschickungsheime.de
URL:https://verschickungsheime.de/event/berliner-selbsthilfe-gruppe-online-5/
END:VEVENT
BEGIN:VEVENT
DTSTART;TZID=Europe/Berlin:20220621T180000
DTEND;TZID=Europe/Berlin:20220621T200000
DTSTAMP:20260423T041958
CREATED:20220609T063350Z
LAST-MODIFIED:20220609T064008Z
UID:10000655-1655834400-1655841600@verschickungsheime.de
SUMMARY:Ortsgruppe Nürnberg
DESCRIPTION:Du bist ein Verschickungskind und lebst jetzt im Großraum Nürnberg / Fürth / Erlangen (Schweinfurt/ Würzburg / Bamberg) und hast Interesse an einem Austauschtreffen? Wir starten online am 21. Juni 2022 um 18 Uhr via Zoom. Danach möchten wir auch Treffen vor Ort in Nürnberg organisieren. Wenn du dich angesprochen fühlst\, dann schreib mir gerne\, ich bin Kerstin: Anmeldung unter: verschickungskinder.nuernberg@gmail.com
URL:https://verschickungsheime.de/event/ortsgruppe-nuernberg-gruenden/
END:VEVENT
BEGIN:VEVENT
DTSTART;TZID=Europe/Berlin:20220628T180000
DTEND;TZID=Europe/Berlin:20220628T200000
DTSTAMP:20260423T041958
CREATED:20220601T191330Z
LAST-MODIFIED:20220601T191617Z
UID:10000651-1656439200-1656446400@verschickungsheime.de
SUMMARY:Aktivenschalte
DESCRIPTION:Online-Treffen aller derjenigen in unserer Initiative\, die gern aktiv werden wollen. Meldet euch hier\, wenn Ihr den Link zu dieser Veranstaltung zugeschickt bekommen wollt. Aktiv werden heißt: Öffentlichkeitsarbeit zur Anerkennung des Leids der Verschickungskinder zu übernehmen\, eine Regionalgruppe\, eine Selbsthilfegruppe\, eine Erinnerungsaustauschgruppe zu gründen und gemeinsam mit anderen\, auch Heimortgruppen oder Landesgruppen zu gründen und/oder in einer solchen Gruppe mitzumachen.  In der Regel kommen die Aktiven monatlich zusammen\, tauschen sich aus und helfen einander. Anmelden unter: buko@verschickungsheime.de
URL:https://verschickungsheime.de/event/aktivenschalte-3/
END:VEVENT
BEGIN:VEVENT
DTSTART;TZID=Europe/Berlin:20220629T183000
DTEND;TZID=Europe/Berlin:20220629T203000
DTSTAMP:20260423T041958
CREATED:20220608T141056Z
LAST-MODIFIED:20220608T152045Z
UID:10000654-1656527400-1656534600@verschickungsheime.de
SUMMARY:Videotreffen- Rheinland- Pfalz  Thema: Scham
DESCRIPTION:Anmeldung unter: dausenau.austausch@web.de
URL:https://verschickungsheime.de/event/videotreffen-rheinland-pfalz-thema-scham/
END:VEVENT
END:VCALENDAR