BEGIN:VCALENDAR
VERSION:2.0
PRODID:-//Verschickungsheime - ECPv6.15.20//NONSGML v1.0//EN
CALSCALE:GREGORIAN
METHOD:PUBLISH
X-WR-CALNAME:Verschickungsheime
X-ORIGINAL-URL:https://verschickungsheime.de
X-WR-CALDESC:Veranstaltungen für Verschickungsheime
REFRESH-INTERVAL;VALUE=DURATION:PT1H
X-Robots-Tag:noindex
X-PUBLISHED-TTL:PT1H
BEGIN:VTIMEZONE
TZID:Europe/Berlin
BEGIN:DAYLIGHT
TZOFFSETFROM:+0100
TZOFFSETTO:+0200
TZNAME:CEST
DTSTART:20210328T010000
END:DAYLIGHT
BEGIN:STANDARD
TZOFFSETFROM:+0200
TZOFFSETTO:+0100
TZNAME:CET
DTSTART:20211031T010000
END:STANDARD
BEGIN:DAYLIGHT
TZOFFSETFROM:+0100
TZOFFSETTO:+0200
TZNAME:CEST
DTSTART:20220327T010000
END:DAYLIGHT
BEGIN:STANDARD
TZOFFSETFROM:+0200
TZOFFSETTO:+0100
TZNAME:CET
DTSTART:20221030T010000
END:STANDARD
BEGIN:DAYLIGHT
TZOFFSETFROM:+0100
TZOFFSETTO:+0200
TZNAME:CEST
DTSTART:20230326T010000
END:DAYLIGHT
BEGIN:STANDARD
TZOFFSETFROM:+0200
TZOFFSETTO:+0100
TZNAME:CET
DTSTART:20231029T010000
END:STANDARD
END:VTIMEZONE
BEGIN:VEVENT
DTSTART;TZID=Europe/Berlin:20220701T180000
DTEND;TZID=Europe/Berlin:20220701T200000
DTSTAMP:20260423T025520
CREATED:20220617T154823Z
LAST-MODIFIED:20220617T175411Z
UID:10000793-1656698400-1656705600@verschickungsheime.de
SUMMARY:Sonnentau - Videotreffen für Betroffene von sexualisierter Gewalt
DESCRIPTION:Betroffene können sich bei Birgit oberstdorf@verschickungsheime.de melden
URL:https://verschickungsheime.de/event/sonnentau-videotreffen-fuer-betroffene-von-sexualisierter-gewalt/
END:VEVENT
BEGIN:VEVENT
DTSTART;TZID=Europe/Berlin:20220704T180000
DTEND;TZID=Europe/Berlin:20220704T193000
DTSTAMP:20260423T025520
CREATED:20220611T175855Z
LAST-MODIFIED:20220611T175859Z
UID:10000660-1656957600-1656963000@verschickungsheime.de
SUMMARY:1. ZOOM-Meeting der WYK - Austauschgruppe
DESCRIPTION:Interessenten melden sich bei Stefan unter: wyk@verschickungsheime.de
URL:https://verschickungsheime.de/event/1-zoom-meeting-der-wyk-austauschgruppe/
END:VEVENT
BEGIN:VEVENT
DTSTART;TZID=Europe/Berlin:20220705T170000
DTEND;TZID=Europe/Berlin:20220705T190000
DTSTAMP:20260423T025520
CREATED:20220329T152203Z
LAST-MODIFIED:20220329T152206Z
UID:10000749-1657040400-1657047600@verschickungsheime.de
SUMMARY:Selbsthilfegruppe Verschickungskinder Köln
DESCRIPTION:
URL:https://verschickungsheime.de/event/selbsthilfegruppe-verschickungskinder-koeln-4/
END:VEVENT
BEGIN:VEVENT
DTSTART;TZID=Europe/Berlin:20220705T190000
DTEND;TZID=Europe/Berlin:20220705T210000
DTSTAMP:20260423T025520
CREATED:20220519T070701Z
LAST-MODIFIED:20220519T070723Z
UID:10000783-1657047600-1657054800@verschickungsheime.de
SUMMARY:HOK-Treffen Bad Sassendorf\, NRW
DESCRIPTION:Anmeldung bzw. Zoomlink zum Videotreffen über Isabelle Nünninghoff per Mail: isabelle.nuenninghoff@akv-nrw.de
URL:https://verschickungsheime.de/event/hok-treffen-bad-sassendorf-nrw-2/
CATEGORIES:NRW
END:VEVENT
BEGIN:VEVENT
DTSTART;TZID=Europe/Berlin:20220707T183000
DTEND;TZID=Europe/Berlin:20220707T183000
DTSTAMP:20260423T025520
CREATED:20220519T095754Z
LAST-MODIFIED:20220519T095812Z
UID:10000786-1657218600-1657218600@verschickungsheime.de
SUMMARY:Borkum-Austauschgruppe Online-Treffen
DESCRIPTION:
URL:https://verschickungsheime.de/event/borkum-austauschgruppe-online-treffen/
END:VEVENT
BEGIN:VEVENT
DTSTART;TZID=Europe/Berlin:20220713T180000
DTEND;TZID=Europe/Berlin:20220713T200000
DTSTAMP:20260423T025520
CREATED:20220609T071746Z
LAST-MODIFIED:20220609T071818Z
UID:10000656-1657735200-1657742400@verschickungsheime.de
SUMMARY:17. Videotreffen NRW
DESCRIPTION:Wir laden alle Betroffenen mit NRW-Relevanz (aus NRW in ein anderes Bundesland\, oder aus einem anderen Bundesland nach NRW verschickt\, oder keins von beiden\, jedoch aktueller Wohnort in NRW und interessiert) zum 17. Videotreffen am Mittwoch\, den 13.07.2022\, 18.00 – 20.00 Uhr ein.Wer den Einladungslink nicht per NRW-Verteiler automatisch erhält\, kann sich gerne unter detlef.lichtrauter@akv-nrw.de oder unter jutta.redecker@akv-nrw anmelden.
URL:https://verschickungsheime.de/event/17-videotreffen-nrw/
CATEGORIES:NRW
END:VEVENT
BEGIN:VEVENT
DTSTART;TZID=Europe/Berlin:20220713T180000
DTEND;TZID=Europe/Berlin:20220713T200000
DTSTAMP:20260423T025520
CREATED:20220610T083058Z
LAST-MODIFIED:20220610T083101Z
UID:10000658-1657735200-1657742400@verschickungsheime.de
SUMMARY:Onlinetreffen Orgagruppe St. Peter-Ording
DESCRIPTION:Bei Interesse bitte melden unter: Cl.johansson.HOK.SPO@gmx.de
URL:https://verschickungsheime.de/event/onlinetreffen-orgagruppe-st-peter-ording/
END:VEVENT
BEGIN:VEVENT
DTSTART;TZID=Europe/Berlin:20220714T180000
DTEND;TZID=Europe/Berlin:20220714T200000
DTSTAMP:20260423T025520
CREATED:20220616T110025Z
LAST-MODIFIED:20220707T134901Z
UID:10000792-1657821600-1657828800@verschickungsheime.de
SUMMARY:Berliner Aktivenschalte hat Sommerpause
DESCRIPTION:SOMMERPAUSE JULI und AUGUST:  Berlin@verschickungsheime.de
URL:https://verschickungsheime.de/event/berliner-aktivenschalte-7/
END:VEVENT
BEGIN:VEVENT
DTSTART;TZID=Europe/Berlin:20220714T183000
DTEND;TZID=Europe/Berlin:20220714T200000
DTSTAMP:20260423T025520
CREATED:20220610T083523Z
LAST-MODIFIED:20220610T083526Z
UID:10000659-1657823400-1657828800@verschickungsheime.de
SUMMARY:Online Gesprächsgruppe St. Peter-Ording
DESCRIPTION:Bei Interesse bitte melden bei Cl.johansson.HOK.SPO@gmx.de
URL:https://verschickungsheime.de/event/online-gespraechsgruppe-st-peter-ording/
END:VEVENT
BEGIN:VEVENT
DTSTART;TZID=Europe/Berlin:20220725T180000
DTEND;TZID=Europe/Berlin:20220725T200000
DTSTAMP:20260423T025520
CREATED:20220628T054840Z
LAST-MODIFIED:20220628T054843Z
UID:10000795-1658772000-1658779200@verschickungsheime.de
SUMMARY:Berliner Selbsthilfe Online
DESCRIPTION:In dieser Gruppe geben wir uns den Raum uns gegenseitig zuzuhören und in den Austausch über unsere eigenen Erlebnisse\, Erinnerungen und den Umgang damit zu gehen. Wir treffen uns erstmal wieder nur online am 3. Montag im Monat. Anmeldung und Link bei Valerie unter Selbsthilfe-Berlin@verschickungsheime.de
URL:https://verschickungsheime.de/event/berliner-selbsthilfe-online/
END:VEVENT
BEGIN:VEVENT
DTSTART;TZID=Europe/Berlin:20220726T180000
DTEND;TZID=Europe/Berlin:20220726T200000
DTSTAMP:20260423T025520
CREATED:20220719T070827Z
LAST-MODIFIED:20220719T071308Z
UID:10000801-1658858400-1658865600@verschickungsheime.de
SUMMARY:Aktivenschalte Juli
DESCRIPTION:Für alle Funktionsträger:innen bei uns (LKs\, HOKs\, HKs\, AKs und DDR-Gruppen) und solche\, die sich gern aktiv einbringen wollen. Wir treffen uns einmal im Monat zu einem Diskussions- und Austauschtreffen\, immer den letzten Dienstag im Monat. (August: PAUSE): Den link anfordern auf: buko@verschickungsheime.de. Die immer schon eingeladenen „alten Hasen“ brauchen das nicht mehr tun\, die sind schon im Verteiler. Wer voriges Mal nichts bekommen hat\, und den link nicht weiß\, der oder die melden sich bitte sofort. Es gab einige technische Probleme.
URL:https://verschickungsheime.de/event/aktivenschalte-juli/
END:VEVENT
END:VCALENDAR