BEGIN:VCALENDAR
VERSION:2.0
PRODID:-//Verschickungsheime - ECPv6.15.20//NONSGML v1.0//EN
CALSCALE:GREGORIAN
METHOD:PUBLISH
X-ORIGINAL-URL:https://verschickungsheime.de
X-WR-CALDESC:Veranstaltungen für Verschickungsheime
REFRESH-INTERVAL;VALUE=DURATION:PT1H
X-Robots-Tag:noindex
X-PUBLISHED-TTL:PT1H
BEGIN:VTIMEZONE
TZID:Europe/Berlin
BEGIN:DAYLIGHT
TZOFFSETFROM:+0100
TZOFFSETTO:+0200
TZNAME:CEST
DTSTART:20210328T010000
END:DAYLIGHT
BEGIN:STANDARD
TZOFFSETFROM:+0200
TZOFFSETTO:+0100
TZNAME:CET
DTSTART:20211031T010000
END:STANDARD
BEGIN:DAYLIGHT
TZOFFSETFROM:+0100
TZOFFSETTO:+0200
TZNAME:CEST
DTSTART:20220327T010000
END:DAYLIGHT
BEGIN:STANDARD
TZOFFSETFROM:+0200
TZOFFSETTO:+0100
TZNAME:CET
DTSTART:20221030T010000
END:STANDARD
BEGIN:DAYLIGHT
TZOFFSETFROM:+0100
TZOFFSETTO:+0200
TZNAME:CEST
DTSTART:20230326T010000
END:DAYLIGHT
BEGIN:STANDARD
TZOFFSETFROM:+0200
TZOFFSETTO:+0100
TZNAME:CET
DTSTART:20231029T010000
END:STANDARD
END:VTIMEZONE
BEGIN:VEVENT
DTSTART;TZID=Europe/Berlin:20221003T183000
DTEND;TZID=Europe/Berlin:20221003T200000
DTSTAMP:20260422T224247
CREATED:20220808T171514Z
LAST-MODIFIED:20220808T172831Z
UID:10000815-1664821800-1664827200@verschickungsheime.de
SUMMARY:3. Onlinetreffen der Wyk - Austauschgruppe
DESCRIPTION:
URL:https://verschickungsheime.de/event/wyk-austauschgruppe/
END:VEVENT
BEGIN:VEVENT
DTSTART;TZID=Europe/Berlin:20221004T170000
DTEND;TZID=Europe/Berlin:20221004T190000
DTSTAMP:20260422T224247
CREATED:20220329T152437Z
LAST-MODIFIED:20220329T152441Z
UID:10000752-1664902800-1664910000@verschickungsheime.de
SUMMARY:Selbsthilfegruppe Verschickungskinder Köln
DESCRIPTION:
URL:https://verschickungsheime.de/event/selbsthilfegruppe-verschickungskinder-koeln-7/
END:VEVENT
BEGIN:VEVENT
DTSTART;TZID=Europe/Berlin:20221005T183000
DTEND;TZID=Europe/Berlin:20221005T203000
DTSTAMP:20260422T224247
CREATED:20220909T075533Z
LAST-MODIFIED:20220909T075535Z
UID:10000678-1664994600-1665001800@verschickungsheime.de
SUMMARY:Videotreffen Rheinland- Pfalz    Thema: Familiengeschichte
DESCRIPTION:
URL:https://verschickungsheime.de/event/videotreffen-rheinland-pfalz-thema-familiengeschichte/
END:VEVENT
BEGIN:VEVENT
DTSTART;TZID=Europe/Berlin:20221006T183000
DTEND;TZID=Europe/Berlin:20221006T200000
DTSTAMP:20260422T224247
CREATED:20220826T081132Z
LAST-MODIFIED:20220826T081133Z
UID:10000821-1665081000-1665086400@verschickungsheime.de
SUMMARY:Borkum - Austauschgruppe\, Online-Treffen
DESCRIPTION:
URL:https://verschickungsheime.de/event/borkum-austauschgruppe-online-treffen-2/
END:VEVENT
BEGIN:VEVENT
DTSTART;TZID=Europe/Berlin:20221007T105500
DTEND;TZID=Europe/Berlin:20221007T115500
DTSTAMP:20260422T224247
CREATED:20220926T115120Z
LAST-MODIFIED:20221001T213242Z
UID:10000827-1665140100-1665143700@verschickungsheime.de
SUMMARY:Planet Wissen - Leid statt Erholung in der Kinderkur
DESCRIPTION:Eine einstündige Sendung über Gewalt in Verschickungsheimen wird am 7. Oktober im SWR um 10:55 Uhr ausgestrahlt. Die anderen Sendetermine finden sich auf der Homepage. Die Sendung findet sich ab dann auch auf planet-wissen.de und in der ARD-Mediathek.
URL:https://verschickungsheime.de/event/planet-wissen-ueber-gewalt-in-verschickungsheimen/
END:VEVENT
BEGIN:VEVENT
DTSTART;TZID=Europe/Berlin:20221007T190000
DTEND;TZID=Europe/Berlin:20221007T210000
DTSTAMP:20260422T224247
CREATED:20220924T193131Z
LAST-MODIFIED:20220924T193133Z
UID:10000825-1665169200-1665176400@verschickungsheime.de
SUMMARY:HeimWeh - im Thalia Theater in Hamburg
DESCRIPTION:Eine weitere Aufführung des Dokumentartheaters HeimWeh im Thalia Gaußstraße in Hamburg-Altona: https://www.thalia-theater.de/stueck/heim–weh-2021\, Nachgespräch mit Anja Röhl
URL:https://verschickungsheime.de/event/heimweh-im-thalia-theater-in-hamburg/
END:VEVENT
BEGIN:VEVENT
DTSTART;TZID=Europe/Berlin:20221008T190000
DTEND;TZID=Europe/Berlin:20221008T210000
DTSTAMP:20260422T224247
CREATED:20220924T193308Z
LAST-MODIFIED:20220924T193320Z
UID:10000826-1665255600-1665262800@verschickungsheime.de
SUMMARY:HeimWeh - Thalia Theater in Hamburg
DESCRIPTION:Eine weitere Aufführung des Dokumentartheaters HeimWeh im Thalia Gaußstraße in Hamburg-Altona: https://www.thalia-theater.de/stueck/heim–weh-2021\, Nachgespräch mit Anja Röhl
URL:https://verschickungsheime.de/event/heimweh-thalia-theater-in-hamburg/
END:VEVENT
BEGIN:VEVENT
DTSTART;TZID=Europe/Berlin:20221011T190000
DTEND;TZID=Europe/Berlin:20221011T190000
DTSTAMP:20260422T224247
CREATED:20220924T100647Z
LAST-MODIFIED:20220924T200333Z
UID:10000692-1665514800-1665514800@verschickungsheime.de
SUMMARY:KIEL: Vortrag\, Lesung und Diskussion: Das Elend der Verschickungskinder - mit Anja Röhl
DESCRIPTION:Im Kulturforum in Kiel\, in der Andreas-Gayk-Str. 31\, 24103 Kiel\, organisiert von der Landeskoordinatorin Schleswig-Holstein\, Präsenzgruppe Kiel der Initiative Verschickungskinder\, Susanne Dank: susanne.s-h@online.de
URL:https://verschickungsheime.de/event/kiel-vortrag-lesung-und-diskussion-das-elend-der-verschickungskinder-mit-anja-roehl/
END:VEVENT
BEGIN:VEVENT
DTSTART;TZID=Europe/Berlin:20221013T180000
DTEND;TZID=Europe/Berlin:20221013T200000
DTSTAMP:20260422T224247
CREATED:20221004T073757Z
LAST-MODIFIED:20221004T073758Z
UID:10000829-1665684000-1665691200@verschickungsheime.de
SUMMARY:Berliner Online-Aktivenschalte
DESCRIPTION:Einladung zur Berliner Aktivenschalte\, (immer jeden 2. Donnerstag im Monat). Für alle die sich in Berlin aktiv an der Umsetzung unserer Forderungen beteiligen wollen\, es gibt eine Recherchegruppe\, es wird versucht Veranstaltungen zu organisieren\, mit Presse und Politik werden Kontakte geknüpft\, für neue Ideen sind wir offen\, anmelden über Regina: LKBerlin@dreissig.net\, dann bekommt Ihr den Einwahllink
URL:https://verschickungsheime.de/event/berliner-online-aktivenschalte/
END:VEVENT
BEGIN:VEVENT
DTSTART;TZID=Europe/Berlin:20221018T170000
DTEND;TZID=Europe/Berlin:20221018T190000
DTSTAMP:20260422T224247
CREATED:20220908T191919Z
LAST-MODIFIED:20220908T191920Z
UID:10000676-1666112400-1666119600@verschickungsheime.de
SUMMARY:Rechercheworkshop Verschickung - Spurensuche zur Erholungsverschickung im Archiv.
DESCRIPTION:Landesverein Baden-Württemberg gibt bekannt: Unser Projektpartner Landesarchiv Baden-Württemberg\, vertreten von Nora Wohlfarth und Corinna Keunecke\, veranstaltet den obigen RECHERCHE-WORKSHOP \n\n\n\nDienstag\, 18.10.2022\, 17 – 19:00 Uhr \n\n\n\nAlle Informationen findet ihr hier: Online-Rechercheworkshop Verschickung – Landesarchiv Baden-Württemberg (landesarchiv-bw.de) \n\n\n\nBitte nehmt dieses kostenlose Angebot des Landesarchives BW unbedingt wahr und meldet euch dort rasch an. Die Anzahl der Teilnehmenden ist begrenzt. Mit der Bestätigungsmail bekommt ihr den Link für das Online-Meeting zugeschickt. \n\n\n\nEinen schönen Spätsommer wünscht \n\n\n\nDorothea Voith \n\n\n\nBürokommunikation \n\n\n\nAufarbeitung Kinderverschickungen Baden-Württemberg e.V. \n\n\n\nwww.verschickungsheime-bw.de * mail@verschickungsheime-bw.de * mobil: +49 178 7362824Facebook Gruppe: Verschickungsheime Baden-Württemberg \n\n\n\nBad Dürrheim Gruppe: Verschickungskinder Bad Dürrheim
URL:https://verschickungsheime.de/event/rechercheworkshop-verschickung-spurensuche-zur-erholungsverschickung-im-archiv/
END:VEVENT
BEGIN:VEVENT
DTSTART;TZID=Europe/Berlin:20221018T170000
DTEND;TZID=Europe/Berlin:20221018T190000
DTSTAMP:20260422T224247
CREATED:20221014T175152Z
LAST-MODIFIED:20221014T175418Z
UID:10000836-1666112400-1666119600@verschickungsheime.de
SUMMARY:Kiel - Endlich wieder: Offenes Treffen für Verschickungskinder
DESCRIPTION:Dienstag 18. Oktober 2022\, treffen wir uns endlich wieder um 17 Uhr im KulturForum Kiel im Neuen Rathaus\, wir freuen uns\, wenn viele neue Leute kommen. Werdet aktiv\, um die politische Anerkennung der Verschickungskinder als gleichberechtigte Opfergruppe in Schleswig-Holstein durchzusetzen. Kommt einfach\, keine Anmeldung nötig. Eure Susanne: susanne.s-h@online.de
URL:https://verschickungsheime.de/event/kiel-endlich-wieder-offenes-treffen-fuer-verschickungskinder/
END:VEVENT
BEGIN:VEVENT
DTSTART;TZID=Europe/Berlin:20221018T180000
DTEND;TZID=Europe/Berlin:20221018T200000
DTSTAMP:20260422T224247
CREATED:20220921T073053Z
LAST-MODIFIED:20220921T073054Z
UID:10000684-1666116000-1666123200@verschickungsheime.de
SUMMARY:22. Videotreffen Niedersachsen
DESCRIPTION:
URL:https://verschickungsheime.de/event/22-videotreffen-niedersachsen/
END:VEVENT
BEGIN:VEVENT
DTSTART;TZID=Europe/Berlin:20221020T180000
DTEND;TZID=Europe/Berlin:20221020T200000
DTSTAMP:20260422T224247
CREATED:20220907T050909Z
LAST-MODIFIED:20220907T050926Z
UID:10000824-1666288800-1666296000@verschickungsheime.de
SUMMARY:20. Videotreffen NRW
DESCRIPTION:Wir laden alle Betroffenen mit NRW-Relevanz (aus NRW in ein anderes Bundesland\, oder aus einem anderen Bundesland nach NRW verschickt\, oder keins von beiden\, jedoch aktueller Wohnort in NRW und interessiert) zum 20. Videotreffen am Donnerstag\, den 20.10.2022\, 18.00 – 20.00 Uhr ein.Wer den Einladungslink nicht per NRW-Verteiler automatisch erhält\, kann sich gerne unter detlef.lichtrauter@akv-nrw.de oder unter jutta.redecker@akv-nrw anmelden.Wir freuen uns über eure Teilnahme und grüßen ganz herzlich.Detlef LichtrauterMichael Millgramm
URL:https://verschickungsheime.de/event/20-videotreffen-nrw/
CATEGORIES:NRW
END:VEVENT
BEGIN:VEVENT
DTSTART;TZID=Europe/Berlin:20221020T183000
DTEND;TZID=Europe/Berlin:20221020T193000
DTSTAMP:20260422T224247
CREATED:20220917T135121Z
LAST-MODIFIED:20221016T181339Z
UID:10000682-1666290600-1666294200@verschickungsheime.de
SUMMARY:Videotreffen für Betroffene aus Haus Gutermann\, Oberstdorf
DESCRIPTION:Interessierte bitte anmelden bei Birgit oberstdorf@verschickungsheime.de
URL:https://verschickungsheime.de/event/vidotreffen-fuer-betroffene-aus-haus-gutermann-oberstdorf/
END:VEVENT
BEGIN:VEVENT
DTSTART;TZID=Europe/Berlin:20221025T180000
DTEND;TZID=Europe/Berlin:20221025T200000
DTSTAMP:20260422T224247
CREATED:20221001T210517Z
LAST-MODIFIED:20221001T212756Z
UID:10000828-1666720800-1666728000@verschickungsheime.de
SUMMARY:Aktivenschalte aller Landes- (LKs) und Heimortkoordinatoren (HOKs/HKs) und anderer\, die mit uns gemeinsam politisch etwas bewegen wollen (onlineveranstaltung)
DESCRIPTION:Aktivenschalte aller Landes- (LKs) und Heimortkoordinatoren (meist LK-Teams) und HOKs/HKs\, manchmal schon in Heimortgruppen. Gern auch für alle anderen\, auch Neue\, für alle\, die mit uns gemeinsam politisch etwas bewegen wollen. Wir werten diesmal den Kongress in Bad Sassendorf aus\, besprechen aktuelle Probleme und Strategien\, äußern Wünsche und tauschen Ideen aus. Die LK- und HOK-Gruppen können ihre Arbeit den anderen vorstellen. \n\n\n\nZur Erklärung:  \n\n\n\nLKs organisieren Selbsthilfe- und/oder Recherchegruppen in dem Ort\, in dem sie leben\, und versuchen den Kontakt zur örtlichen Presse und Politik herzustellen mit dem Ziel\, die individuelle und gesellschaftliche Aufarbeitung des Phänomens der Kinderverschickungen in ihrem Bundesland voranzutreiben. Die HOKs und HKs suchen andere Betroffene aus gleichem Heim und/oder Kurort und gründen mit ihnen Erinnerungsaustauschgruppen\, mit dem Ziel\, dass die oft dürftigen Erinnerungen jedes einzelnen Betroffenen sich zu einem Mosaik ergänzen. Auch wünschen sich viele\, Betroffene aus demselben Heim zu finden\, das gelingt gut auf der Heimortebene. LKs und HOKs/HKs arbeiten eng zusammen\, auch mit dem Ziel\, in Landesarchiven zu recherchieren\, Reisen an die Heimorte zu organisieren\, und in den Heimen und Heimorten Erinnerungsaustausch-Gedenkstätten zu errichten. Wer eine dieser Funktionen ergreifen will\, oder in einem Team mitarbeiten\, ist herzlich eingeladen: Es gibt noch viele Kurorte ohne HKs oder HOKs\, es gibt noch viele Länder\, die keine LKs haben oder wo nur eine Person allein agiert und dringend Unterstützung braucht. Die Bundeskoordination der Initiative (BUKO) koordiniert alles auf Bundesebene und sucht aktuell Juristen mit Verschickungshintergrund- oder Interesse und IT-Fachkräfte\, die zu ehrenamtlicher Mitarbeit im Webseitenteam Lust haben. Unterstützt auch die PETITION\, schon 40.000 haben unterschrieben\, ein toller Erfolg\, fast alle auch selbst Verschickungskinder:   www.change.org/Verschickungskinder\, Danke! Interessierte melden sich über Renate\, hier: buko@verschickungsheime.de\, sie bekommen dann den Einwahllink über ZOOM\, und sind herzlich willkommen!
URL:https://verschickungsheime.de/event/aktivenschalte-aller-landes-lks-und-heimortkoordinatoren-hoks-hks-und-anderer-die-mit-uns-gemeinsam-politisch-etwas-bewegen-wollen/
END:VEVENT
BEGIN:VEVENT
DTSTART;TZID=Europe/Berlin:20221028T180000
DTEND;TZID=Europe/Berlin:20221028T200000
DTSTAMP:20260422T224247
CREATED:20221016T182202Z
LAST-MODIFIED:20221016T182203Z
UID:10000838-1666980000-1666987200@verschickungsheime.de
SUMMARY:Sonnentau - Gruppe für Betroffene sexualisierter Gewalt
DESCRIPTION:Bitte bei Birgit verschickung-wessobrunn@svaiki.de anmelden
URL:https://verschickungsheime.de/event/sonnentau-gruppe-fuer-betroffene-sexualisierter-gewalt/
END:VEVENT
END:VCALENDAR