BEGIN:VCALENDAR
VERSION:2.0
PRODID:-//Verschickungsheime - ECPv6.15.20//NONSGML v1.0//EN
CALSCALE:GREGORIAN
METHOD:PUBLISH
X-ORIGINAL-URL:https://verschickungsheime.de
X-WR-CALDESC:Veranstaltungen für Verschickungsheime
REFRESH-INTERVAL;VALUE=DURATION:PT1H
X-Robots-Tag:noindex
X-PUBLISHED-TTL:PT1H
BEGIN:VTIMEZONE
TZID:Europe/Berlin
BEGIN:DAYLIGHT
TZOFFSETFROM:+0100
TZOFFSETTO:+0200
TZNAME:CEST
DTSTART:20210328T010000
END:DAYLIGHT
BEGIN:STANDARD
TZOFFSETFROM:+0200
TZOFFSETTO:+0100
TZNAME:CET
DTSTART:20211031T010000
END:STANDARD
BEGIN:DAYLIGHT
TZOFFSETFROM:+0100
TZOFFSETTO:+0200
TZNAME:CEST
DTSTART:20220327T010000
END:DAYLIGHT
BEGIN:STANDARD
TZOFFSETFROM:+0200
TZOFFSETTO:+0100
TZNAME:CET
DTSTART:20221030T010000
END:STANDARD
BEGIN:DAYLIGHT
TZOFFSETFROM:+0100
TZOFFSETTO:+0200
TZNAME:CEST
DTSTART:20230326T010000
END:DAYLIGHT
BEGIN:STANDARD
TZOFFSETFROM:+0200
TZOFFSETTO:+0100
TZNAME:CET
DTSTART:20231029T010000
END:STANDARD
END:VTIMEZONE
BEGIN:VEVENT
DTSTART;TZID=Europe/Berlin:20221109T183000
DTEND;TZID=Europe/Berlin:20221109T203000
DTSTAMP:20260422T212448
CREATED:20221014T095134Z
LAST-MODIFIED:20221014T095137Z
UID:10000835-1668018600-1668025800@verschickungsheime.de
SUMMARY:Videotreffen Rheinland- Pfalz
DESCRIPTION:Thema: Wie trage ich die dunklen Erfahrungen in mir weiter?
URL:https://verschickungsheime.de/event/videotreffen-rheinland-pfalz-5/
END:VEVENT
BEGIN:VEVENT
DTSTART;TZID=Europe/Berlin:20221110T193000
DTEND;TZID=Europe/Berlin:20221110T210000
DTSTAMP:20260422T212448
CREATED:20221008T170042Z
LAST-MODIFIED:20221008T170058Z
UID:10000834-1668108600-1668114000@verschickungsheime.de
SUMMARY:Anja Röhl kommt nach Rendsburg
DESCRIPTION:10.11.22 um 19.30 Uhr\, in der Stadtbücherei Rendsburg\, Arsenalstraße 2-10\, 24768 Rendsburg\, Lesung aus „Heimweh – Verschickungskinder erzählen“ mit Betroffenen aus dem Buch\, Anmeldungen unter: susspeck@gmail.com
URL:https://verschickungsheime.de/event/anja-roehl-kommt-nach-rendsburg/
END:VEVENT
BEGIN:VEVENT
DTSTART;TZID=Europe/Berlin:20221111T180000
DTEND;TZID=Europe/Berlin:20221111T200000
DTSTAMP:20260422T212448
CREATED:20221004T073909Z
LAST-MODIFIED:20221104T052223Z
UID:10000830-1668189600-1668196800@verschickungsheime.de
SUMMARY:Berliner Online-Aktivenschalte
DESCRIPTION:Einladung zur Berliner Aktivenschalte um einen Tag verschoben: Für alle\, die sich in Berlin aktiv an der Umsetzung unserer Forderungen beteiligen wollen\, anmelden momentan kommissarisch über: buko@verschickungsheime.de\, dann bekommt Ihr den Einwahllink.
URL:https://verschickungsheime.de/event/berliner-online-aktivenschalte-2/
END:VEVENT
BEGIN:VEVENT
DTSTART;TZID=Europe/Berlin:20221116T150000
DTEND;TZID=Europe/Berlin:20221116T170000
DTSTAMP:20260422T212448
CREATED:20221105T163154Z
LAST-MODIFIED:20221105T164116Z
UID:10000850-1668610800-1668618000@verschickungsheime.de
SUMMARY:Verschickt - Verdrängt - Vergessen
DESCRIPTION:Lesung von Regina Konstantinidis \n\n\n\nRegina Konstantinidis liest aus ihrem Buch „Verschickt – Verdrängt – Vergessen“. Darin beschreibt sie eindrucksvoll die erlebten Grausamkeiten\, die Gefühle und Ängste der damals sechsjährigen Autorin während ihrer Zeit im Kinderkurheim „Haus Ruhreck“ auf Borkum.  \n\n\n\nIm Anschluss an die Lesung besteht die Möglichkeit zum Gespräch mit der Buchautorin sowie dem Vorsitzenden des AKV NRW e.V.\, Detlef Lichtrauter. \n\n\n\nDer Eintritt ist frei.Infos und Anmeldung: 0201 – 8778990 \n\n\n\nMittwoch\, 16.11.202215:00 – 17:00 UhrZentrum 60plusMessings Garten 445147 Essen
URL:https://verschickungsheime.de/event/verschickt-verdraengt-vergessen/
CATEGORIES:NRW
END:VEVENT
BEGIN:VEVENT
DTSTART;TZID=Europe/Berlin:20221117T183000
DTEND;TZID=Europe/Berlin:20221117T200000
DTSTAMP:20260422T212448
CREATED:20221015T122616Z
LAST-MODIFIED:20221015T122617Z
UID:10000837-1668709800-1668715200@verschickungsheime.de
SUMMARY:Borkum-Austauschgruppe: 8. Online-Treffen
DESCRIPTION:
URL:https://verschickungsheime.de/event/borkum-austauschgruppe-8-online-treffen/
END:VEVENT
BEGIN:VEVENT
DTSTART;TZID=Europe/Berlin:20221122T183000
DTEND;TZID=Europe/Berlin:20221122T220000
DTSTAMP:20260422T212448
CREATED:20221024T123745Z
LAST-MODIFIED:20221024T123747Z
UID:10000840-1669141800-1669154400@verschickungsheime.de
SUMMARY:Anja Röhl in Hannover:  Das Trauma der Verschickungskinder
DESCRIPTION:Vortrag\, Lesung\, Gespräch und Diskussion zum Thema: Das vergessene Trauma der Verschickungskinder. Die Buchautorin und Sonderpädagogin Anja Röhl berichtet vom Phänomen der Verschickungen\, stellt den Forschungsstand dar und skizziert verschiedene Ursachenstränge\, die dringend näher erforscht werden sollten.   \n\n\n\nVeranstaltungsort\n\n\n\nFreizeitheim VahrenwaldVahrenwalder Str. 9230165 Hannover \n\n\n\nZeit\n\n\n\n22.11.2022\, 18:30 – 22:00 Uhr \n\n\n\nhttps://nds.rosalux.de/veranstaltung/es_detail/CE9VO/das-trauma-der-verschickungskinder?cHash=5b0f3faf60f4a51e110902ba8a302da8
URL:https://verschickungsheime.de/event/anja-roehl-in-hannover-das-trauma-der-verschickungskinder/
END:VEVENT
BEGIN:VEVENT
DTSTART;TZID=Europe/Berlin:20221123T180000
DTEND;TZID=Europe/Berlin:20221123T203000
DTSTAMP:20260422T212448
CREATED:20220729T105750Z
LAST-MODIFIED:20221108T210422Z
UID:10000807-1669226400-1669235400@verschickungsheime.de
SUMMARY:Verschickungskinder erzählen - Lesung mit Anja Röhl in Bielefeld
DESCRIPTION:Buchvorstellung\, Lesung und Vortrag zum Elend der Verschickungskinder mit Anja Röhl (Buchautorin\, Vorsitzende Bundes-Verein Aufarbeitung und Erforschung Kinderverschickung (AEKV e.V.) Dazu lädt herzlich der evangelische Kirchenkreis in Bielefeld ein: Mi 23.11.22 von 18 bis ca. 20.30 Uhr\, Anmeldung über: Kerstin Schachtsiek\, ORT: Im Haus der Kirche Bielefeld\, in der Markgrafenstraße 7\, in 33602 Bielefeld\, anmelden unter: 0521-5837198. Veranstalter ist die Ev. Erwachsenenbildung Bielefeld in Kooperation mit dem Verein Aufarbeitung Kinderverschickungen NRW und der Kath. Erwachsenen- und Familienbildung Bielefeld (kefb). (Der Eintrittspreis von 10.- Euro wird den Betroffenen von Kinderverschickung vom AKV-NRW erstattet.)Inhalt: Jahrzehntelang wurde nicht darüber gesprochen\, ab 1945 bis in die 1980er/auslaufend 90er Jahre wurden rund acht bis zwölf Millionen Kinder verschickt. Viele von ihnen kamen gedemütigt\, misshandelt und traumatisiert zurück. Die Autorin Anja Röhl hat viel zum Thema recherchiert. Unter anderem hat sie zwei Bücher dazu geschrieben. Inzwischen ist das Thema ein Politikum\, was auch die Landespolitik in NRW beschäftigt. An diesem Abend werden wir aus beiden Büchern hören und ins Gespräch kommen.
URL:https://verschickungsheime.de/event/verschickungskinder-erzaehlen-lesung-mit-anja-roehl/
END:VEVENT
BEGIN:VEVENT
DTSTART;TZID=Europe/Berlin:20221124T180000
DTEND;TZID=Europe/Berlin:20221124T200000
DTSTAMP:20260422T212448
CREATED:20221020T194844Z
LAST-MODIFIED:20221020T194906Z
UID:10000839-1669312800-1669320000@verschickungsheime.de
SUMMARY:21. Videotreffen NRW
DESCRIPTION:Wir laden alle Betroffenen mit NRW-Relevanz (aus NRW in ein anderes Bundesland\, oder aus einem anderen Bundesland nach NRW verschickt\, oder keins von beiden\, jedoch aktueller Wohnort in NRW und interessiert) zum 21. Videotreffen am Donnerstag\, den 24.11.2022\, 18.00 – 20.00 Uhr ein.Wer den Einladungslink nicht per NRW-Verteiler automatisch erhält\, kann sich gerne unter detlef.lichtrauter@akv-nrw.de oder unter jutta.redecker@akv-nrw anmelden.Wir freuen uns über eure Teilnahme und grüßen ganz herzlich.Detlef LichtrauterMichael Millgramm
URL:https://verschickungsheime.de/event/21-videotreffen-nrw/
CATEGORIES:NRW
END:VEVENT
BEGIN:VEVENT
DTSTART;TZID=Europe/Berlin:20221124T190000
DTEND;TZID=Europe/Berlin:20221124T213000
DTSTAMP:20260422T212448
CREATED:20220215T125019Z
LAST-MODIFIED:20221103T113512Z
UID:10000731-1669316400-1669325400@verschickungsheime.de
SUMMARY:Vortrag und Lesung zum Verschickungselend mit Anja Röhl in Detmold
DESCRIPTION:DETMOLD: 24.11.22 um 19 Uhr: Landesarchiv NRW Abteilung Ostwestfalen-Lippe\, in der Willi-Hofmann-Straße 2\, 32756 Detmold\, Vortrag und Lesung zum vergessenen Trauma der Verschickungskinder\, Anmeldung bei Katja Wiebe: Katja.Wiebe@lippische-landeskirche.de
URL:https://verschickungsheime.de/event/vortrag-und-lesung-zum-verschickungselend-mit-anja-roehl/
END:VEVENT
BEGIN:VEVENT
DTSTART;TZID=Europe/Berlin:20221126T160000
DTEND;TZID=Europe/Berlin:20221126T183000
DTSTAMP:20260422T212448
CREATED:20221008T152625Z
LAST-MODIFIED:20221008T152625Z
UID:10000833-1669478400-1669487400@verschickungsheime.de
SUMMARY:Anja Röhl kommt nach Koblenz
DESCRIPTION:Am Samstag\, 26.11.2022\, um 16.00 Uhr kommt Anja Röhl nach Koblenz zu einer Veranstaltung im Mittelrhein Museum\, Zentralplatz 1\, in 56068 Koblenz. Sie liest Ausschnitte aus ihren bewegenden Porträts: Heimweh – Verschickungskinder erzählen und hält einen lebendigen Vortrag zum Thema Verschickungen mit viel Zeit zum anschließenden Fragen stellen. Der Eintritt ist frei (keine Anmeldung erforderlich)
URL:https://verschickungsheime.de/event/anja-roehl-kommt-nach-koblenz/
END:VEVENT
BEGIN:VEVENT
DTSTART;TZID=Europe/Berlin:20221129T180000
DTEND;TZID=Europe/Berlin:20221129T200000
DTSTAMP:20260422T212448
CREATED:20221104T051402Z
LAST-MODIFIED:20221121T184318Z
UID:10000848-1669744800-1669752000@verschickungsheime.de
SUMMARY:Bundesweite Aktivenschalte
DESCRIPTION:Die Bundesweite AKTIVENSCHALTE findet seit 2020 i.d.R. monatlich\, jeden letzten Dienstag des Monats statt. Es sind dazu herzlich alle Menschen eingeladen\, die sich schon in irgendeiner Weise für die Initiative Verschickungskinder engagieren oder das noch tun wollen.  Wir brauchen aktive\, tatkräftige Menschen\, die sich auf verschiedene Weise für die Sache der Verschickungskinder im Sinne unseres Selbstverständnisses und unses Leitbildes stark machen. Wir freuen uns über neue Aktive! Anmelden unter: buko@verschickungsheime.de
URL:https://verschickungsheime.de/event/bundesweite-aktivenschalte-4/
END:VEVENT
BEGIN:VEVENT
DTSTART;TZID=Europe/Berlin:20221129T200000
DTEND;TZID=Europe/Berlin:20221129T223000
DTSTAMP:20260422T212448
CREATED:20221103T114539Z
LAST-MODIFIED:20221116T172151Z
UID:10000842-1669752000-1669761000@verschickungsheime.de
SUMMARY:Anja Röhl kommt nach Marburg- Lesung und Vortrag zum Thema Gewalt in Verschickungsheimen
DESCRIPTION:Dienstag\, den 29.11.22 um 20 Uhr\, im TTZ (Technologie- und Tagungszentrum) in Marburg. Anja Röhl kommt nach Marburg: Vortrag und Lesung zum vergessenen Trauma der Verschickungskinder. Veranstalter: Kulturelle Aktion Marburg – Strömungen e.V.\, Anmeldung bei: Manfred Paulsen\, paulsen@stroemungen.de\, Tel. 015253934563
URL:https://verschickungsheime.de/event/anja-roehl-kommt-nach-marburg-lesung-und-vortrag-zum-thema-gewalt-in-verschickungsheimen/
END:VEVENT
BEGIN:VEVENT
DTSTART;TZID=Europe/Berlin:20221130T180000
DTEND;TZID=Europe/Berlin:20221130T180000
DTSTAMP:20260422T212448
CREATED:20221103T114754Z
LAST-MODIFIED:20221103T114806Z
UID:10000844-1669831200-1669831200@verschickungsheime.de
SUMMARY:Heidelberg: Lesung mit Anja Röhl
DESCRIPTION:Am 30.11.22\, um 18 Uhr\, Lesung: Heimweh – Verschickungskinder erzählen in der Heidelberger Altstadt\, Friedrich-Ebert-Haus in Heidelberg (Pfaffengasse 18) Die Friedrich-Ebert-Gedenkstätte stellt ihr Atrium zur Verfügung
URL:https://verschickungsheime.de/event/heidelberg-lesung-mit-anja-roehl/
END:VEVENT
END:VCALENDAR