BEGIN:VCALENDAR
VERSION:2.0
PRODID:-//Verschickungsheime - ECPv6.15.20//NONSGML v1.0//EN
CALSCALE:GREGORIAN
METHOD:PUBLISH
X-WR-CALNAME:Verschickungsheime
X-ORIGINAL-URL:https://verschickungsheime.de
X-WR-CALDESC:Veranstaltungen für Verschickungsheime
REFRESH-INTERVAL;VALUE=DURATION:PT1H
X-Robots-Tag:noindex
X-PUBLISHED-TTL:PT1H
BEGIN:VTIMEZONE
TZID:Europe/Berlin
BEGIN:DAYLIGHT
TZOFFSETFROM:+0100
TZOFFSETTO:+0200
TZNAME:CEST
DTSTART:20220327T010000
END:DAYLIGHT
BEGIN:STANDARD
TZOFFSETFROM:+0200
TZOFFSETTO:+0100
TZNAME:CET
DTSTART:20221030T010000
END:STANDARD
BEGIN:DAYLIGHT
TZOFFSETFROM:+0100
TZOFFSETTO:+0200
TZNAME:CEST
DTSTART:20230326T010000
END:DAYLIGHT
BEGIN:STANDARD
TZOFFSETFROM:+0200
TZOFFSETTO:+0100
TZNAME:CET
DTSTART:20231029T010000
END:STANDARD
BEGIN:DAYLIGHT
TZOFFSETFROM:+0100
TZOFFSETTO:+0200
TZNAME:CEST
DTSTART:20240331T010000
END:DAYLIGHT
BEGIN:STANDARD
TZOFFSETFROM:+0200
TZOFFSETTO:+0100
TZNAME:CET
DTSTART:20241027T010000
END:STANDARD
END:VTIMEZONE
BEGIN:VEVENT
DTSTART;TZID=Europe/Berlin:20230301T183000
DTEND;TZID=Europe/Berlin:20230301T200000
DTSTAMP:20260422T155927
CREATED:20230113T081717Z
LAST-MODIFIED:20230113T081719Z
UID:10000873-1677695400-1677700800@verschickungsheime.de
SUMMARY:Borkum- Austauschgruppe: 10. Online-Treffen
DESCRIPTION:
URL:https://verschickungsheime.de/event/borkum-austauschgruppe-10-online-treffen/
END:VEVENT
BEGIN:VEVENT
DTSTART;TZID=Europe/Berlin:20230301T190000
DTEND;TZID=Europe/Berlin:20230301T210000
DTSTAMP:20260422T155927
CREATED:20230203T174828Z
LAST-MODIFIED:20230203T174901Z
UID:10000734-1677697200-1677704400@verschickungsheime.de
SUMMARY:Udo Evers liest aus seinem Buch "Verschickungskind. Ein Rinnsal in den Hinterhalt"
DESCRIPTION:Udo Evers war gerade mal fünf Jahre alt\, als er von Borken in den Schwarzwald verschickt wurde. Als er sich von seinen Eltern verabschiedete\, ging er fest davon aus\, am Abend wieder zu Hause zu sein. Aber es vergingen Tage und Wochen – alleine ohne Familie oder Freunde in der Fremde. „Ich war fest davon überzeugt\, nie wieder nach Hause zu kommen“\, sagt Udo Evers. \n\n\n\nWie sich ein Kind fühlt\, das aus seinem gewohnten Umfeld gerissen wird und wie die „Kur“ sein Leben verändert hat\, davon erzählt Udo Evers in seinem autobiografischen Buch „Verschickungskind. Ein Rinnsal in den Hinterhalt“\, erschienen im Laumann-Verlag\, Dülmen. \n\n\n\nAm Mittwoch\, 01.März 2023 liest Udo um 19 Uhr in der VHS Dülmen\, Alte Sparkasse\, Münsterstraße 29\, 48249 Dülmen. Der Eintritt ist frei. \n\n\n\nDetlef Lichtrauter vom AKV-NRW e.V. moderiert die Veranstaltung. Wir freuen uns auch\, dass Dr. Sylvia Wagner vor Ort sein wird. Die Dülmenerin hat ihre Promotion zum Thema Medikamentenmissbrauch bei Heim- und Verschickungskindern geschrieben und arbeitet mit an einer aktuellen NRW-Studie zum Thema. Im Anschluss an die Lesung gibt es noch Zeit für Gespräche. Wir freuen uns\, wenn viele von Euch kommen. Bringt gerne auch Freunde und Bekannte mit. Alle sind herzlich willkommen! Im Anschluss an die Lesung gibt es bei einem kostenlosen kleinen Umtrunk Gelegenheit zu persönlichem Austausch.
URL:https://verschickungsheime.de/event/udo-evers-liest-aus-seinem-buch-verschickungskind-ein-rinnsal-in-den-hinterhalt/
CATEGORIES:NRW
END:VEVENT
BEGIN:VEVENT
DTSTART;TZID=Europe/Berlin:20230306T170000
DTEND;TZID=Europe/Berlin:20230306T190000
DTSTAMP:20260422T155927
CREATED:20230124T194317Z
LAST-MODIFIED:20230124T194343Z
UID:10000723-1678122000-1678129200@verschickungsheime.de
SUMMARY:Workshop Achtsamkeitstraining mit Birgit Schönberger (Zoom)
DESCRIPTION:Unser 1. Angebot Resilienz-Training war ein großer Erfolg. Die Teilnehmer:innen waren begeistert von der Wirkung und der wohltuenden Atmosphäre. \n\n\n\nAnmeldung an: projekt@akv-nrw.de Stichwort: Birgit Neu \n\n\n\nWas euch im Workshop erwartet:Wenn belastende Erinnerungen hochkommen oder wir uns Sorgen machen\, landen wir manchmal in einer Grübelspirale und verlieren den Kontakt zu unseren Stärken. Das Weltgeschehen kann uns zusetzen\, belastende Erfahrungen in der Vergangenheit\, aber auch die kleinen und großen Herausforderungen des Alltags. Doch es gibt stärkende Body-Mind-Übungen\, mit denen wir wieder ins Gleichgewicht kommen. In dieser Workshop-Reihe lernen wir\, wie wir aus dem Kopfkino aussteigen und wieder im Hier und Jetzt landen. Wir üben\, die Gedanken zu beruhigen\, mit schwierigen Gefühlen umzugehen und uns wieder stabil zu fühlen. Wir erkunden\, was uns stärkt und uns hilft\, mit Herausforderungen umzugehen und daran zu wachsen. \n\n\n\nLeitung: Birgit Schönberger\, Coach\, Meditationslehrerin\, Autorin\, arbeitet mit Coaching-Kund:innen an den Themen: Umgang mit Stress und Belastungen\, Selbstmanagement\, Selbstfürsorge. \n\n\n\nVeröffentlichung:„Zen Power für Frauen. Innere Stärke und Gelassenheit entwickeln“\, O.W. Barth Verlag/Droemer Knaur GmbH\, München\, 2021. \n\n\n\nNähere Infos zur Person: www.birgit-schoenberger.de
URL:https://verschickungsheime.de/event/workshop-achtsamkeitstraining-mit-birgit-schoenberger-zoom-2/
CATEGORIES:NRW
END:VEVENT
BEGIN:VEVENT
DTSTART;TZID=Europe/Berlin:20230307T170000
DTEND;TZID=Europe/Berlin:20230307T190000
DTSTAMP:20260422T155927
CREATED:20230227T222416Z
LAST-MODIFIED:20230228T145249Z
UID:10000886-1678208400-1678215600@verschickungsheime.de
SUMMARY:Kölner Selbsthilfegruppe (Live)
DESCRIPTION:Live-Treffen im Bürgerzentrum in Köln-DeutzUte und Angelika Freuen sich auf eure Teilnahmen.. Wir freuen uns darauf\, euch bald einmal wieder zu sehen. \n\n\n\nMit herzlichen GrüßenUte und Angelika \n\n\n\nEinschränkungen durch Corona Bestimmungen gibt es zurzeit nicht\, wir bitten jedoch alle\, die an Live-Treffen teilnehmen möchten und Krankheitsanzeichen haben oder Kontakt zu an Covid 19 erkrankten Personen hatten\, vorher zur Sicherheit aller Teilnehmer einen Selbsttest durchzuführen.
URL:https://verschickungsheime.de/event/koelner-selbsthilfegruppe/
CATEGORIES:NRW
END:VEVENT
BEGIN:VEVENT
DTSTART;TZID=Europe/Berlin:20230309T180000
DTEND;TZID=Europe/Berlin:20230309T200000
DTSTAMP:20260422T155927
CREATED:20230210T151016Z
LAST-MODIFIED:20230210T151033Z
UID:10000878-1678384800-1678392000@verschickungsheime.de
SUMMARY:24. Videotreffen NRW
DESCRIPTION:Wir laden alle Betroffenen mit NRW-Relevanz (aus NRW in ein anderes Bundesland\, oder aus einem anderen Bundesland nach NRW verschickt\, oder keins von beiden\, jedoch aktueller Wohnort in NRW und interessiert) zum 24. Videotreffen am Donnerstag\, den 09.03.2023\, 18.00 – 20.00 Uhr ein.Wer den Einladungslink nicht per NRW-Verteiler automatisch erhält\, kann sich gerne unter detlef.lichtrauter@akv-nrw.de oder unter jutta.redecker@akv-nrw anmelden.Wir freuen uns über eure Teilnahme und grüßen ganz herzlich.Detlef LichtrauterMichael Millgramm
URL:https://verschickungsheime.de/event/24-videotreffen-nrw/
CATEGORIES:NRW
END:VEVENT
BEGIN:VEVENT
DTSTART;TZID=Europe/Berlin:20230313T170000
DTEND;TZID=Europe/Berlin:20230313T190000
DTSTAMP:20260422T155927
CREATED:20230214T062240Z
LAST-MODIFIED:20230214T062958Z
UID:10000880-1678726800-1678734000@verschickungsheime.de
SUMMARY:Online-Workshop: Dein Leben verdient Worte
DESCRIPTION:Biografische\, kreative Zoom-Schreibwerkstatt mit Sabine Samonig \n\n\n\nDu wolltest immer schon aufschreiben\, was du in der Verschickung erlebt hast und wusstest nicht genau\, wie? Ich unterstütze und begleite dich bei deinen Schritten\, denn: Schreiben kann befreien. Es packt in Worte\, was vielleicht im Kreisverkehr unserer Gedanken feststeckt. Schreiben ist auch wie eine liebevolle Umarmung\, voller Zuneigung. In jedem Fall macht biografisches\, kreatives Schreiben Mut. Es gibt kein richtig und falsch. Bringe deine Geschichte(n) ans Licht\, ohne jeden literarischen Anspruch. Bring‘ aufs Papier\, was dir wichtig ist\, was dich bewegt. Herzlich Willkommen in unserer Schreibwerkstatt! \n\n\n\nWas wir tun:Mithilfe von wertschätzenden vielfältigen Schreibimpulsen nähern wir uns gemeinsam behutsam deinen Erinnerungen. Du entscheidest\, was du inhaltlich anschauen und zu Papier bringen willst. In dieser Schreibwerkstatt geht es darum\, mit Offenheit die unterschiedlichen Facetten des Lebens in Worte zu fassen\, nicht nur die belastenden der Verschickung\, sondern auch die schönen.Freue dich darauf\, gemeinsam respektvoll\, stärkend und liebevoll deine Welt zu be-schreiben. Deine einzigartige Weise ist\, was zählt. Ich freue mich auf dich! \n\n\n\nAnmeldung bitte an: projekt@akv-nrw.deStichwort: Schreibwerkstatt Sabine \n\n\n\nAn allen Abenden dieses Angebots wird es bei Bedarf die Möglichkeit zu einem persönlichen Gespräch geben. Genaue Infos zu Beginn des Workshops. \n\n\n\nZoom-Termine:4 x 2 Digitale Workshop-Stunden\,jeweils montags\, 17.00 Uhr – ca. 19.00 Uhr:13.03.2023 / 20.03.2023 / 27.03.2023 / 03.04.2023 \n\n\n\nZur Referentin:Sabine Samonig hat den Master für Biografisches und Kreatives Schreiben an der ASH Berlin erworben und ist seit vielen Jahren Dozentin mit Lehraufträgen an der ‚Dresden International University‘ und ASH. Sie hat BWL und Sozialarbeit studiert und Menschen mit psychischer Einschränkung begleitet. Ihr Schwerpunkt ist die Familienberatung und der Kinderschutz.Ihre (Schreib-)Beratungskompetenz hat Sabine Samonig mit Ausbildungen in der ‚Integrierten Lösungsorientierten Psychologie‘ (ILP) und der Positiven Psychologie vertieft. Sie war Lehrcoach für ILP und ist von der Deutschen Gesellschaft für Positive Psychologie (DGPP) und dem Deutschen Coaching Verband als Systemischer Coach zertifiziert.Sabine ist Mutter von 4 Kindern und Unternehmerin in Berlin. \n\n\n\nVeröffentlichungen:2022Charakterstärken als Friedensstifterin: Ich bin Frieden\, Dr. C. Eule (Hrsg.) Alvin Verlag2014Aus dem Bauch herausin: Berliner Anthologie\, Essays rund um das Schreiben Ross & Reiter Verlag(Intuition und Kreativitätsmuster unterschiedlicher Persönlichkeitstypen)2011Liebes Zauberin: … und dann ging die Geschichte erst richtig los\, Ein Lesebuch\, Schibri Verlag (Kurzgeschichten)2010Checker dichten: Poetry Slam mit Jugendlichen\, Raben Stück Verlag(Persönlichkeitsentwicklung\, kreativer Ausdruck und Präsenztraining auf der Bühne)Interviews (Auswahl):2021Deutsche Welle TV\, Positive Psychologie: Die WOOP Methode2015Huffington Post\, Focus zur Integration und Coaching von geflüchteten Menschen
URL:https://verschickungsheime.de/event/online-workshop-dein-leben-verdient-worte/
CATEGORIES:NRW
END:VEVENT
BEGIN:VEVENT
DTSTART;TZID=Europe/Berlin:20230314T150000
DTEND;TZID=Europe/Berlin:20230314T180000
DTSTAMP:20260422T155927
CREATED:20230126T191217Z
LAST-MODIFIED:20230212T230006Z
UID:10000729-1678806000-1678816800@verschickungsheime.de
SUMMARY:Lesung Anja Röhl zum Thema Verschickungen\, mit moderiertem Publikumsgespräch in Hattingen
DESCRIPTION:Veranstalter: Ifak e.V. Partnerschaft für Demokratie Hattingen\, Heiko Koch\, Präsenzveranstaltung\, keine Anmeldung erforderlich. Veranstaltende:  \n\n\n\nEin KICK für HattingenBürgerzentrum HolschentorTalstr. 8 \n\n\n\n45525 Hattingen \n\n\n\nSprecherin des BegleitausschussPartnerschaft für Demokratie HattingenMobil 0178-8712534mail m.przygodda@kick-hattingen.de \n\n\n\n \n\n\n\n\nEin KICK für Hattingen
URL:https://verschickungsheime.de/event/lesung-anja-roehl-zum-thema-verschickungen-mit-moderiertem-publikumsgespraech-in-hattingen/
END:VEVENT
BEGIN:VEVENT
DTSTART;TZID=Europe/Berlin:20230315T183000
DTEND;TZID=Europe/Berlin:20230315T203000
DTSTAMP:20260422T155927
CREATED:20230223T134610Z
LAST-MODIFIED:20230223T134612Z
UID:10000887-1678905000-1678912200@verschickungsheime.de
SUMMARY:Videotreffen Rheinland- Pfalz\, Thema: "Krankheitsbilder nach der Kur"
DESCRIPTION:Anmeldung unter: dausenau.austausch@web.de
URL:https://verschickungsheime.de/event/videotreffen-rheinland-pfalz-thema-krankheitsbilder-nach-der-kur/
END:VEVENT
BEGIN:VEVENT
DTSTART;TZID=Europe/Berlin:20230316T190000
DTEND;TZID=Europe/Berlin:20230316T210000
DTSTAMP:20260422T155927
CREATED:20230302T110406Z
LAST-MODIFIED:20230302T110738Z
UID:10000890-1678993200-1679000400@verschickungsheime.de
SUMMARY:Berliner Gruppe Verschickungskinder März 2023
DESCRIPTION:Die Berliner Gruppe Verschickungskinder trifft sich ab jetzt monatlich\, an jedem 3. Donnerstag im Monat um 19 Uhr in den Räumen des Sekis e.V. in Berlin – Charlottenburg\, Bismarkstraße 101\, wir freuen uns auf neue Interessierte! Themenschwerpunkt: Vorbereitung der AKTION KINDERKOFFER am 19.4.23 vor dem Bundeskanzleramt. Anfragen dazu über: berlin@verschickungsheime.de
URL:https://verschickungsheime.de/event/berliner-gruppe-verschickungskinder-maerz-2023/
END:VEVENT
BEGIN:VEVENT
DTSTART;TZID=Europe/Berlin:20230320T170000
DTEND;TZID=Europe/Berlin:20230320T190000
DTSTAMP:20260422T155927
CREATED:20230214T062646Z
LAST-MODIFIED:20230214T063006Z
UID:10000881-1679331600-1679338800@verschickungsheime.de
SUMMARY:Online-Workshop: Dein Leben verdient Worte
DESCRIPTION:Biografische\, kreative Zoom-Schreibwerkstatt mit Sabine Samonig \n\n\n\nDu wolltest immer schon aufschreiben\, was du in der Verschickung erlebt hast und wusstest nicht genau\, wie? Ich unterstütze und begleite dich bei deinen Schritten\, denn: Schreiben kann befreien. Es packt in Worte\, was vielleicht im Kreisverkehr unserer Gedanken feststeckt. Schreiben ist auch wie eine liebevolle Umarmung\, voller Zuneigung. In jedem Fall macht biografisches\, kreatives Schreiben Mut. Es gibt kein richtig und falsch. Bringe deine Geschichte(n) ans Licht\, ohne jeden literarischen Anspruch. Bring‘ aufs Papier\, was dir wichtig ist\, was dich bewegt. Herzlich Willkommen in unserer Schreibwerkstatt! \n\n\n\nWas wir tun:Mithilfe von wertschätzenden vielfältigen Schreibimpulsen nähern wir uns gemeinsam behutsam deinen Erinnerungen. Du entscheidest\, was du inhaltlich anschauen und zu Papier bringen willst. In dieser Schreibwerkstatt geht es darum\, mit Offenheit die unterschiedlichen Facetten des Lebens in Worte zu fassen\, nicht nur die belastenden der Verschickung\, sondern auch die schönen.Freue dich darauf\, gemeinsam respektvoll\, stärkend und liebevoll deine Welt zu be-schreiben. Deine einzigartige Weise ist\, was zählt. Ich freue mich auf dich! \n\n\n\nAnmeldung bitte an: projekt@akv-nrw.deStichwort: Schreibwerkstatt Sabine \n\n\n\nAn allen Abenden dieses Angebots wird es bei Bedarf die Möglichkeit zu einem persönlichen Gespräch geben. Genaue Infos zu Beginn des Workshops. \n\n\n\nZoom-Termine:4 x 2 Digitale Workshop-Stunden\,jeweils montags\, 17.00 Uhr – ca. 19.00 Uhr:13.03.2023 / 20.03.2023 / 27.03.2023 / 03.04.2023 \n\n\n\nZur Referentin:Sabine Samonig hat den Master für Biografisches und Kreatives Schreiben an der ASH Berlin erworben und ist seit vielen Jahren Dozentin mit Lehraufträgen an der ‚Dresden International University‘ und ASH. Sie hat BWL und Sozialarbeit studiert und Menschen mit psychischer Einschränkung begleitet. Ihr Schwerpunkt ist die Familienberatung und der Kinderschutz.Ihre (Schreib-)Beratungskompetenz hat Sabine Samonig mit Ausbildungen in der ‚Integrierten Lösungsorientierten Psychologie‘ (ILP) und der Positiven Psychologie vertieft. Sie war Lehrcoach für ILP und ist von der Deutschen Gesellschaft für Positive Psychologie (DGPP) und dem Deutschen Coaching Verband als Systemischer Coach zertifiziert.Sabine ist Mutter von 4 Kindern und Unternehmerin in Berlin. \n\n\n\nVeröffentlichungen:2022Charakterstärken als Friedensstifterin: Ich bin Frieden\, Dr. C. Eule (Hrsg.) Alvin Verlag2014Aus dem Bauch herausin: Berliner Anthologie\, Essays rund um das Schreiben Ross & Reiter Verlag(Intuition und Kreativitätsmuster unterschiedlicher Persönlichkeitstypen)2011Liebes Zauberin: … und dann ging die Geschichte erst richtig los\, Ein Lesebuch\, Schibri Verlag (Kurzgeschichten)2010Checker dichten: Poetry Slam mit Jugendlichen\, Raben Stück Verlag(Persönlichkeitsentwicklung\, kreativer Ausdruck und Präsenztraining auf der Bühne)Interviews (Auswahl):2021Deutsche Welle TV\, Positive Psychologie: Die WOOP Methode2015Huffington Post\, Focus zur Integration und Coaching von geflüchteten Menschen
URL:https://verschickungsheime.de/event/online-workshop-dein-leben-verdient-worte-2/
CATEGORIES:NRW
END:VEVENT
BEGIN:VEVENT
DTSTART;TZID=Europe/Berlin:20230320T190000
DTEND;TZID=Europe/Berlin:20230320T203000
DTSTAMP:20260422T155927
CREATED:20230302T110927Z
LAST-MODIFIED:20230302T111357Z
UID:10000892-1679338800-1679344200@verschickungsheime.de
SUMMARY:Gruppentreffen Bürgerforschung
DESCRIPTION:Diejenigen\, die jetzt schon im Bereich Bürgerforschung bundesweit aktiv sind\, schon einiges zum Thema Verschickungen recherchiert haben\, schon in Archiven unterwegs waren und dazu Know How gesammelt haben\, oder sich noch weiter aneignen wollen\, treffen sich am 20.3. zu einem fruchtbaren Gedankenaustausch im Zoom. Anmeldung über: Info@verschickungsheime.de
URL:https://verschickungsheime.de/event/gruppetreffen-buergerforschung/
END:VEVENT
BEGIN:VEVENT
DTSTART;TZID=Europe/Berlin:20230321T180000
DTEND;TZID=Europe/Berlin:20230321T200000
DTSTAMP:20260422T155927
CREATED:20230301T102224Z
LAST-MODIFIED:20230301T102432Z
UID:10000888-1679421600-1679428800@verschickungsheime.de
SUMMARY:27. Videotreffen NDS
DESCRIPTION:
URL:https://verschickungsheime.de/event/27-videotreffen-nds/
END:VEVENT
BEGIN:VEVENT
DTSTART;TZID=Europe/Berlin:20230324T183000
DTEND;TZID=Europe/Berlin:20230324T200000
DTSTAMP:20260422T155927
CREATED:20230312T111503Z
LAST-MODIFIED:20230312T111504Z
UID:10000906-1679682600-1679688000@verschickungsheime.de
SUMMARY:Sonnentau\, Videogruppe für Betroffene sexueller Gewalt
DESCRIPTION:Interessierte können sich an Birgit verschickung-wessobrunn@svaiki.de wenden.
URL:https://verschickungsheime.de/event/sonnentau-videogruppe-fuer-betroffene-sexueller-gewalt/
END:VEVENT
BEGIN:VEVENT
DTSTART;TZID=Europe/Berlin:20230325T150000
DTEND;TZID=Europe/Berlin:20230325T170000
DTSTAMP:20260422T155927
CREATED:20230321T164816Z
LAST-MODIFIED:20230321T164846Z
UID:10000909-1679756400-1679763600@verschickungsheime.de
SUMMARY:DDR-Kurkindertreffen
DESCRIPTION:Liebe DDR-Kurkinder\, am 25.3. 23 findet das nächste DDR-Kurkindertreffen per Zoom statt\, anmelden und den Link erfragen hier: bei eurer Diana Mehmel\, DDR-Koordination:  email schreiben an: DDR-Kurkinder@verschickungsheime.de
URL:https://verschickungsheime.de/event/ddr-kurkindertreffen-2/
END:VEVENT
BEGIN:VEVENT
DTSTART;TZID=Europe/Berlin:20230327T170000
DTEND;TZID=Europe/Berlin:20230327T190000
DTSTAMP:20260422T155927
CREATED:20230214T062805Z
LAST-MODIFIED:20230214T063014Z
UID:10000882-1679936400-1679943600@verschickungsheime.de
SUMMARY:Online-Workshop: Dein Leben verdient Worte
DESCRIPTION:Biografische\, kreative Zoom-Schreibwerkstatt mit Sabine Samonig \n\n\n\nDu wolltest immer schon aufschreiben\, was du in der Verschickung erlebt hast und wusstest nicht genau\, wie? Ich unterstütze und begleite dich bei deinen Schritten\, denn: Schreiben kann befreien. Es packt in Worte\, was vielleicht im Kreisverkehr unserer Gedanken feststeckt. Schreiben ist auch wie eine liebevolle Umarmung\, voller Zuneigung. In jedem Fall macht biografisches\, kreatives Schreiben Mut. Es gibt kein richtig und falsch. Bringe deine Geschichte(n) ans Licht\, ohne jeden literarischen Anspruch. Bring‘ aufs Papier\, was dir wichtig ist\, was dich bewegt. Herzlich Willkommen in unserer Schreibwerkstatt! \n\n\n\nWas wir tun:Mithilfe von wertschätzenden vielfältigen Schreibimpulsen nähern wir uns gemeinsam behutsam deinen Erinnerungen. Du entscheidest\, was du inhaltlich anschauen und zu Papier bringen willst. In dieser Schreibwerkstatt geht es darum\, mit Offenheit die unterschiedlichen Facetten des Lebens in Worte zu fassen\, nicht nur die belastenden der Verschickung\, sondern auch die schönen.Freue dich darauf\, gemeinsam respektvoll\, stärkend und liebevoll deine Welt zu be-schreiben. Deine einzigartige Weise ist\, was zählt. Ich freue mich auf dich! \n\n\n\nAnmeldung bitte an: projekt@akv-nrw.deStichwort: Schreibwerkstatt Sabine \n\n\n\nAn allen Abenden dieses Angebots wird es bei Bedarf die Möglichkeit zu einem persönlichen Gespräch geben. Genaue Infos zu Beginn des Workshops. \n\n\n\nZoom-Termine:4 x 2 Digitale Workshop-Stunden\,jeweils montags\, 17.00 Uhr – ca. 19.00 Uhr:13.03.2023 / 20.03.2023 / 27.03.2023 / 03.04.2023 \n\n\n\nZur Referentin:Sabine Samonig hat den Master für Biografisches und Kreatives Schreiben an der ASH Berlin erworben und ist seit vielen Jahren Dozentin mit Lehraufträgen an der ‚Dresden International University‘ und ASH. Sie hat BWL und Sozialarbeit studiert und Menschen mit psychischer Einschränkung begleitet. Ihr Schwerpunkt ist die Familienberatung und der Kinderschutz.Ihre (Schreib-)Beratungskompetenz hat Sabine Samonig mit Ausbildungen in der ‚Integrierten Lösungsorientierten Psychologie‘ (ILP) und der Positiven Psychologie vertieft. Sie war Lehrcoach für ILP und ist von der Deutschen Gesellschaft für Positive Psychologie (DGPP) und dem Deutschen Coaching Verband als Systemischer Coach zertifiziert.Sabine ist Mutter von 4 Kindern und Unternehmerin in Berlin. \n\n\n\nVeröffentlichungen:2022Charakterstärken als Friedensstifterin: Ich bin Frieden\, Dr. C. Eule (Hrsg.) Alvin Verlag2014Aus dem Bauch herausin: Berliner Anthologie\, Essays rund um das Schreiben Ross & Reiter Verlag(Intuition und Kreativitätsmuster unterschiedlicher Persönlichkeitstypen)2011Liebes Zauberin: … und dann ging die Geschichte erst richtig los\, Ein Lesebuch\, Schibri Verlag (Kurzgeschichten)2010Checker dichten: Poetry Slam mit Jugendlichen\, Raben Stück Verlag(Persönlichkeitsentwicklung\, kreativer Ausdruck und Präsenztraining auf der Bühne)Interviews (Auswahl):2021Deutsche Welle TV\, Positive Psychologie: Die WOOP Methode2015Huffington Post\, Focus zur Integration und Coaching von geflüchteten Menschen
URL:https://verschickungsheime.de/event/online-workshop-dein-leben-verdient-worte-3/
CATEGORIES:NRW
END:VEVENT
BEGIN:VEVENT
DTSTART;TZID=Europe/Berlin:20230328T180000
DTEND;TZID=Europe/Berlin:20230328T193000
DTSTAMP:20260422T155927
CREATED:20230309T083644Z
LAST-MODIFIED:20230313T114946Z
UID:10000898-1680026400-1680031800@verschickungsheime.de
SUMMARY:Vortrag zur St.Peter-Ording-Studie in der Aktivenschalte (Zoom) der Initiative Verschickungskinder\, mit Prof. Dr. Peter Graeff
DESCRIPTION:Vortrag zur St. Peter-Ording Studie in der Aktivenschalte (Zoom) am 28.3.2023Jeden letzten Dienstag im Monat findet die Bundesvernetzungsrunde „Aktivenschalte“ mit öffentlichen Vorträgen statt. Am 28.3.2023 wird der Soziologe Prof. Dr. Peter Graeff von der Universität Kiel seine Studie zur Verschickung nach St. Peter Ording vorstellen\, für die er Daten aus unserer großen Verschickungskinder-Befragung ausgewertet hat. Der Vortrag ist öffentlich und findet per Zoom statt. Anmeldung und Link sind hier erhältlich: buko@verschickungsheime.de
URL:https://verschickungsheime.de/event/aktivenschalte-referat/
END:VEVENT
BEGIN:VEVENT
DTSTART;TZID=Europe/Berlin:20230329T190000
DTEND;TZID=Europe/Berlin:20230329T210000
DTSTAMP:20260422T155927
CREATED:20230321T091119Z
LAST-MODIFIED:20230321T095907Z
UID:10000908-1680116400-1680123600@verschickungsheime.de
SUMMARY:Vortrag zur Lehrausstellung von Marius Wilnat
DESCRIPTION:Marius Wilnat\, Archivinspektoranwärter\, hält einen Vortrag zu seinerLehrausstellung „Kurerfolg um jeden Preis – Kindererholung in Bayern von 1945 bis1990“ im Hauptstaatsarchiv München. Im Vortrag wird Herr Wilnat auf die Exponate unddie für die Ausstellung von ihm gesichteten Bestände im Bayerischen Hauptstaatsarchiv undStaatsarchiv München eingehen und anschließend unsere Fragen beantworten. \n\n\n\nInteressenten können sich über bayern@verschickungsheime.de anmelden
URL:https://verschickungsheime.de/event/vortrag-zur-lehrausstellung-von-marius-wilnat/
END:VEVENT
END:VCALENDAR