BEGIN:VCALENDAR
VERSION:2.0
PRODID:-//Verschickungsheime - ECPv6.15.20//NONSGML v1.0//EN
CALSCALE:GREGORIAN
METHOD:PUBLISH
X-WR-CALNAME:Verschickungsheime
X-ORIGINAL-URL:https://verschickungsheime.de
X-WR-CALDESC:Veranstaltungen für Verschickungsheime
REFRESH-INTERVAL;VALUE=DURATION:PT1H
X-Robots-Tag:noindex
X-PUBLISHED-TTL:PT1H
BEGIN:VTIMEZONE
TZID:Europe/Berlin
BEGIN:DAYLIGHT
TZOFFSETFROM:+0100
TZOFFSETTO:+0200
TZNAME:CEST
DTSTART:20220327T010000
END:DAYLIGHT
BEGIN:STANDARD
TZOFFSETFROM:+0200
TZOFFSETTO:+0100
TZNAME:CET
DTSTART:20221030T010000
END:STANDARD
BEGIN:DAYLIGHT
TZOFFSETFROM:+0100
TZOFFSETTO:+0200
TZNAME:CEST
DTSTART:20230326T010000
END:DAYLIGHT
BEGIN:STANDARD
TZOFFSETFROM:+0200
TZOFFSETTO:+0100
TZNAME:CET
DTSTART:20231029T010000
END:STANDARD
BEGIN:DAYLIGHT
TZOFFSETFROM:+0100
TZOFFSETTO:+0200
TZNAME:CEST
DTSTART:20240331T010000
END:DAYLIGHT
BEGIN:STANDARD
TZOFFSETFROM:+0200
TZOFFSETTO:+0100
TZNAME:CET
DTSTART:20241027T010000
END:STANDARD
END:VTIMEZONE
BEGIN:VEVENT
DTSTART;TZID=Europe/Berlin:20230601T180000
DTEND;TZID=Europe/Berlin:20230601T200000
DTSTAMP:20260422T120137
CREATED:20230427T182157Z
LAST-MODIFIED:20230427T182233Z
UID:10000773-1685642400-1685649600@verschickungsheime.de
SUMMARY:26. Videotreffen NRW
DESCRIPTION:Wir laden alle Betroffenen mit NRW-Relevanz (aus NRW in ein anderes Bundesland\, oder aus einem anderen Bundesland nach NRW verschickt\, oder keins von beiden\, jedoch aktueller Wohnort in NRW und interessiert) zum 26. Videotreffen am Donnerstag\, den 01.06.2023\, 18.00 – 20.00 Uhr ein. \n\n\n\nWer den Einladungslink nicht per NRW-Verteiler automatisch erhält\, kann sich gerne unter detlef.lichtrauter@akv-nrw.de oder unter jutta.redecker@akv-nrw anmelden. \n\n\n\nWir freuen uns über eure Teilnahme und grüßen ganz herzlich.Detlef LichtrauterMichael Millgramm
URL:https://verschickungsheime.de/event/26-videotreffen-nrw/
CATEGORIES:NRW
END:VEVENT
BEGIN:VEVENT
DTSTART;TZID=Europe/Berlin:20230605T180000
DTEND;TZID=Europe/Berlin:20230605T193000
DTSTAMP:20260422T120137
CREATED:20230417T084807Z
LAST-MODIFIED:20230503T081716Z
UID:10000919-1685988000-1685993400@verschickungsheime.de
SUMMARY:Zoom-Workshop: "Resilienz und Wohlbefinden"
DESCRIPTION:Stark im Hier und Jetzt: Positive Impulse für den Alltag \n\n\n\nZoom-Angebots-Reihe: Resilienz und Wohlbefinden \n\n\n\nStart: Montag\, 15. Mai\, 18:00 Uhr \n\n\n\nStefan Spiecker knüpft an das Resilienz-Seminar mit Birgit Schönberger an und setzt neue Impulse. Denn: Lebenszufriedenheit ist wichtig für unser Wohlbefinden. Das ist wissenschaftlich belegt\, ebenso wie die gesundheitsfördernde Wirkung einer langfristig positiven Beziehung zu sich selbst und anderen. \n\n\n\nMit zielgerichteten Übungen verbessern wir unsere Selbstwirksamkeit. Der Praxiskurs vermittelt wertvolle Denkanstöße und wirksame Interventionen. Er lädt zu einer spannenden Entdeckungsreise ein: \n\n\n\nInput\, Übungen und Austausch zu zweit und in der Gruppe.Maximal 10 Teilnehmer:innen.4 x montags von 18:00 Uhr bis 19:30 Uhr.Termine: 15.05. /22.05. /(Pfingsten)/ 05.06./ 12.06.Anmeldung an: projekt@akv-nrw.de Stochwort: „stefan“ \n\n\n\nTrainer:Stefan Spiecker: Zertifizierter Trainer Positive Psychologie (DGPP). Zertifizierter Outdoor-Guide\, Life-Coach. Erlebnispädagoge.
URL:https://verschickungsheime.de/event/zoom-workshop-resilienz-und-wohlbefinden-3/
CATEGORIES:NRW
END:VEVENT
BEGIN:VEVENT
DTSTART;TZID=Europe/Berlin:20230606T170000
DTEND;TZID=Europe/Berlin:20230606T190000
DTSTAMP:20260422T120137
CREATED:20230309T164723Z
LAST-MODIFIED:20230309T165943Z
UID:10000900-1686070800-1686078000@verschickungsheime.de
SUMMARY:Kölner Selbsthilfegruppe (Live)
DESCRIPTION:Live-Treffen im Bürgerzentrum in Köln-DeutzUte und Angelika Freuen sich auf eure Teilnahmen.. Wir freuen uns darauf\, euch bald einmal wieder zu sehen. \n\n\n\nMit herzlichen GrüßenUte und Angelika \n\n\n\nEinschränkungen durch Corona Bestimmungen gibt es zurzeit nicht\, wir bitten jedoch alle\, die an Live-Treffen teilnehmen möchten und Krankheitsanzeichen haben oder Kontakt zu an Covid 19 erkrankten Personen hatten\, vorher zur Sicherheit aller Teilnehmer einen Selbsttest durchzuführen.
URL:https://verschickungsheime.de/event/koelner-selbsthilfegruppe-2-2/
CATEGORIES:NRW
END:VEVENT
BEGIN:VEVENT
DTSTART;TZID=Europe/Berlin:20230606T180000
DTEND;TZID=Europe/Berlin:20230606T200000
DTSTAMP:20260422T120137
CREATED:20230523T140050Z
LAST-MODIFIED:20230523T140145Z
UID:10000924-1686074400-1686081600@verschickungsheime.de
SUMMARY:Buchvorstellung "Kur oder Verschickung? Die Kinderkuren der DAK zwischen Anspruch und Wirklichkeit“ von Hans-Walter Schmuhl
DESCRIPTION:Hans-Walter Schmuhl gilt in Fachkreisen als Koryphäe in der Aufarbeitung institutioneller Gewalt. In der ersten durch eine Krankenkasse beauftragten Studie untersucht der Historiker die Rolle der DAK in der Geschichte der Kinderverschickungen. Durch seine Befassung mit den Kinderkurheimen sei ihm erst bewusst geworden\, dass das Problem der gewaltförmigen Subkulturen eine viel größere Dimension hat als ursprünglich gedacht. \n\n\n\nDie Buchvorstellung bietet die einzigartige Gelegenheit\, direkt von Hans-Walter Schmuhl selbst zu erfahren\, welche Erkenntnisse er während seiner Forschung gewonnen hat. Die Veranstaltung verspricht einen tiefgründigen Einblick in das Thema der Kinderverschickungen. \n\n\n\nDatum: 06.06.2023Uhrzeit: 18-20 UhrOrt: Zoom \n\n\n\nAnmeldungen bitte unter projekt@akv-nrw.de mit dem Stichwort „DAK“ im Betreff. \n\n\n\nWir senden kurz vor der Veranstaltung einen Einladungslink.
URL:https://verschickungsheime.de/event/buchvorstellung-kur-oder-verschickung-die-kinderkuren-der-dak-zwischen-anspruch-und-wirklichkeit-von-hans-walter-schmuhl/
CATEGORIES:NRW
END:VEVENT
BEGIN:VEVENT
DTSTART;TZID=Europe/Berlin:20230608T081500
DTEND;TZID=Europe/Berlin:20230608T100000
DTSTAMP:20260422T120137
CREATED:20230605T204206Z
LAST-MODIFIED:20230608T100245Z
UID:10000930-1686212100-1686218400@verschickungsheime.de
SUMMARY:Vortrag und Lesung mit Anja Röhl in Kiel
DESCRIPTION:Am 8.6.23 kommt die Autorin Anja Röhl nach KIEL. Am Vormittag des 8.6.23 ist sie in die Kieler Universität zu einer Vorlesung vor Studierenden des Historischen Instituts der CAU eingeladen. Die Veranstaltung am Nachmittag des 8.6.23 fällt leider aus wegen Krankheit  \n\n\n\nAnja Röhl wird ihr Buch: Das Elend der Verschickungskinder – Kindererholungsheime als Orte der Gewalt\, vorstellen und aus Interviews des Buches: Heimweh-Verschickungskinder erzählen\, lesen. \n\n\n\nAnja Röhl macht seit 2019 das Trauma der Verschickungskinder in der breiten Öffentlichkeit publik. Die Buchautorin und Wissenschaftlerin gründete als Betroffene mit anderen ehemaligen Verschickungskindern die Initiative gleichen Namens. Mit ihrem Buch beschreibt Anja\, die auch zahlreiche andere Publikationen geschrieben hat\, die oft lebenslangen Auswirkungen der von Verschickung Betroffenen\, aber auch die ersten Schritte der Aufarbeitung. Das Thema ist in der Zwischenzeit u.a. von der Bundeszentrale für politische Bildung\, von Medien und von der Politik aufgenommen worden. Es betrifft nicht nur die (ehemaligen) Kinder selbst\, sondern es ist ein gesellschaftliches Problem\, denn es zeigt auch\, wie längst überholt geglaubte historische Kontinuitäten bis heute wirken. \n\n\n\nPressemitteilung \n\n\n\nAnmeldungen nicht nötig\, aber Fragen dazu gern an: 0176-24324947
URL:https://verschickungsheime.de/event/vortrag-und-lesung-in-kiel/
END:VEVENT
BEGIN:VEVENT
DTSTART;TZID=Europe/Berlin:20230609T190000
DTEND;TZID=Europe/Berlin:20230609T210000
DTSTAMP:20260422T120137
CREATED:20230602T091331Z
LAST-MODIFIED:20230605T214659Z
UID:10000928-1686337200-1686344400@verschickungsheime.de
SUMMARY:Abendveranstaltung: Vortrag und Lesung mit Anja Röhl in Kiel
DESCRIPTION:Am Abend des 9. 6.23 um 19 Uhr wird Anja Röhl in der Geschäftsstelle des LandesFrauenRates Schleswig-Holstein\, Auguste-Viktoria-Straße 16\, 24103 Kiel sein und zum Thema: Gewalt in Verschickungsheimen sprechen und mit Interessierten diskutieren.  \n\n\n\nAchtung! der Raum ist nicht barrierefrei\, ist aber mit einem Fahrstuhl zu erreichen und bis auf zwei ca. 1 cm hohe Absätze ebenerdig. Barrierefreie Toiletten gibt es leider keine\, sorry. \n\n\n\nAnja Röhl wird ihr Buch: Das Elend der Verschickungskinder – Kindererholungsheime als Orte der Gewalt\, vorstellen und aus Interviews des Buches: Heimweh-Verschickungskinder erzählen\, lesen. \n\n\n\nAnja Röhl macht seit 2019 das Trauma der Verschickungskinder in der breiten Öffentlichkeit publik. Die Buchautorin und Wissenschaftlerin gründete als Betroffene mit anderen ehemaligen Verschickungskindern die Initiative gleichen Namens. Mit ihrem Buch beschreibt Anja\, die auch zahlreiche andere Publikationen geschrieben hat\, die oft lebenslangen Auswirkungen der von Verschickung Betroffenen\, aber auch die ersten Schritte der Aufarbeitung. Das Thema ist in der Zwischenzeit u.a. von der Bundeszentrale für politische Bildung\, von Medien und von der Politik aufgenommen worden. Es betrifft nicht nur die (ehemaligen) Kinder selbst\, sondern es ist ein gesellschaftliches Problem\, denn es zeigt auch\, wie längst überholt geglaubte historische Kontinuitäten bis heute wirken. \n\n\n\nPressemitteilung \n\n\n\nAnmeldungen nicht nötig\, aber Fragen dazu gern an: 0176-24324947
URL:https://verschickungsheime.de/event/vortrag-und-lesung-mit-anja-roehl-in-kiel/
END:VEVENT
BEGIN:VEVENT
DTSTART;TZID=Europe/Berlin:20230612T180000
DTEND;TZID=Europe/Berlin:20230612T193000
DTSTAMP:20260422T120137
CREATED:20230417T084913Z
LAST-MODIFIED:20230503T081807Z
UID:10000920-1686592800-1686598200@verschickungsheime.de
SUMMARY:Zoom-Workshop: "Resilienz und Wohlbefinden"
DESCRIPTION:Stark im Hier und Jetzt: Positive Impulse für den Alltag \n\n\n\nZoom-Angebots-Reihe: Resilienz und Wohlbefinden \n\n\n\nStart: Montag\, 15. Mai\, 18:00 Uhr \n\n\n\nStefan Spiecker knüpft an das Resilienz-Seminar mit Birgit Schönberger an und setzt neue Impulse. Denn: Lebenszufriedenheit ist wichtig für unser Wohlbefinden. Das ist wissenschaftlich belegt\, ebenso wie die gesundheitsfördernde Wirkung einer langfristig positiven Beziehung zu sich selbst und anderen. \n\n\n\nMit zielgerichteten Übungen verbessern wir unsere Selbstwirksamkeit. Der Praxiskurs vermittelt wertvolle Denkanstöße und wirksame Interventionen. Er lädt zu einer spannenden Entdeckungsreise ein: \n\n\n\nInput\, Übungen und Austausch zu zweit und in der Gruppe.Maximal 10 Teilnehmer:innen.4 x montags von 18:00 Uhr bis 19:30 Uhr.Termine: 15.05. /22.05. /(Pfingsten)/ 05.06./ 12.06.Anmeldung an: projekt@akv-nrw.de Stichwort: „stefan“ \n\n\n\nTrainer:Stefan Spiecker: Zertifizierter Trainer Positive Psychologie (DGPP). Zertifizierter Outdoor-Guide\, Life-Coach. Erlebnispädagoge.
URL:https://verschickungsheime.de/event/zoom-workshop-resilienz-und-wohlbefinden-4/
CATEGORIES:NRW
END:VEVENT
BEGIN:VEVENT
DTSTART;TZID=Europe/Berlin:20230615T183000
DTEND;TZID=Europe/Berlin:20230615T200000
DTSTAMP:20260422T120137
CREATED:20230524T144454Z
LAST-MODIFIED:20230524T144833Z
UID:10000925-1686853800-1686859200@verschickungsheime.de
SUMMARY:12. Borkum - Austauschgruppe
DESCRIPTION:
URL:https://verschickungsheime.de/event/12-borkum-austauschgruppe/
END:VEVENT
BEGIN:VEVENT
DTSTART;TZID=Europe/Berlin:20230615T190000
DTEND;TZID=Europe/Berlin:20230615T200000
DTSTAMP:20260422T120137
CREATED:20230526T203718Z
LAST-MODIFIED:20230613T093959Z
UID:10000926-1686855600-1686859200@verschickungsheime.de
SUMMARY:Berliner Gruppe Verschickungskinder
DESCRIPTION:In Berlin treffen sich aktive Verschickungskinder\, die etwas bewegen wollen\, damit endlich auch alle Betroffenen aus Berlin davon erfahren\, dass sich Verschickungskinder gemeinsam in Selbsthilfe organisieren. Wir planen Veranstaltungen durchzuführen\, Aktionen zu organisieren\, Betroffene und ihre Geschichten zu sammeln\, einander zuzuhören. Ziel: Aufmerksamkeit auf das Thema der Gewalt in den Institutionen der Verschickungsindustrie zu lenken und zu erreichen\, dass sich auch die Bundespolitik um unser Thema kümmert. Jeden dritten Donnerstag im Monat treffen wir uns im Sekis e.V. um 19 Uhr\, Bismarkstraße 101\, U-Bhf. Deutsche Oper\, Hinterausgang. Einfach vorbeikommen\, keine Anmeldung nötig. Nachfragen am Tag des Treffens über: 0176-24324947
URL:https://verschickungsheime.de/event/berliner-gruppe-verschickungskinder-3/
END:VEVENT
BEGIN:VEVENT
DTSTART;TZID=Europe/Berlin:20230621T170000
DTEND;TZID=Europe/Berlin:20230621T190000
DTSTAMP:20260422T120137
CREATED:20230613T091532Z
LAST-MODIFIED:20230613T094141Z
UID:10000932-1687366800-1687374000@verschickungsheime.de
SUMMARY:Treffen Verschickungskinder Kiel
DESCRIPTION:Am 21. Juni  2023 um 17 Uhr findet ein Treffen für VERSCHICKUNGSKINDER in Kiel ( Mit Schleswig-Holstein-Bezug: Aus S.-H. oder nach S.-H. verschickt oder heute in S.-H. wohnhaft) statt. Anmeldung ist nicht nötig\, euer TEAM Schleswig-Holstein (Rückfragen: Schleswig-Holstein@verschickungsheime.de) \n\n\n\nWO?  Im KulturForum Kiel\, in der Stadtgalerie\, Andreas-Gayk-Straße 31\, 24103 Kiel
URL:https://verschickungsheime.de/event/treffen-verschickungskinder-kiel/
END:VEVENT
BEGIN:VEVENT
DTSTART;TZID=Europe/Berlin:20230626T170000
DTEND;TZID=Europe/Berlin:20230626T190000
DTSTAMP:20260422T120137
CREATED:20230424T135734Z
LAST-MODIFIED:20230616T064350Z
UID:10000767-1687798800-1687806000@verschickungsheime.de
SUMMARY:»Traumatisierung in der Kindheit verstehen\, bewältigen und aufarbeiten«
DESCRIPTION:Aufarbeitung Kinderverschickungen NRW lädt ein:Neuer Termin für die am 17.04.2023 ausgefallene Veranstaltung! \n\n\n\n„Werden Traumabetroffene adäquat unterstützt\, kann ihre Überlebenskraft und -kreativität beeindruckende Kräfte entfalten“ \n\n\n\n(Prof. Dr. Silke Birgitta Gahleitner) \n\n\n\nWas macht frühkindliche Traumatisierung besonders und wie wirkt sie sich auf das weitere Leben aus? Wie können Betroffene bei der Bewältigung und Aufarbeitung eines solchen Traumas unterstützt werden? \n\n\n\nFür Silke Birgitta Gahleitner spielen dabei nicht nur individuelle Therapie- und Beratungsformen eine Rolle\, sondern auch gesellschaftliche und politische Aufarbeitungsunterstützung. \n\n\n\nIhren Ansatz erläutert sie am Beispiel der Arbeit der Kommission zur Aufarbeitung sexuellen Kindesmissbrauchs und überträgt ihn auf die Situation der Verschickungskinder. \n\n\n\nAnmeldung bitte an: projekt@akv-nrw.de Stichwort: Zoom-Vortrag Gahleitner \n\n\n\nZoom-Termin:Montag\, 26.06.2023\, 17-19 Uhr \n\n\n\nZur Referentin: \n\n\n\nProf. Dr. Gahleitner lehrt und forscht an der Alice-Salomon-Hochschule in Berlin zu den Themen Trauma\, Bindung und Beziehung. \n\n\n\nIn ihrer Forschung untersucht sie Gewaltverhältnisse vornehmlich aus der Sicht Betroffener\, um ihnen über die Forschung eine Stimme zu verleihen und herauszufinden\, wie sie bei der Bewältigung unterstützt werden können. \n\n\n\nGahleitner ist seit 2022 Mitglied der Unabhängigen Kommission zur Aufarbeitung sexuellen Kindesmissbrauchs und Projektleiterin eines Teilprojekts des Forschungsverbundes TESTIMONY „Erfahrungen in DDR-Kinderheimen\, Bewältigung und Aufarbeitung“. Im Herbst 2022 nahm sie als Referentin am 4. Bundeskongress „Das Elend der Verschickungskinder“ in Bad Sassendorf teil. \n\n\n\nProf. Dr. phil. habil. Silke Birgitta Gahleitner \n\n\n\nProfessur für Klinische Psychologie und Sozialarbeit \n\n\n\nAlice-Salomon-Hochschule – University of Applied Sciences \n\n\n\nAlice Salomon Platz 5\, 12627 Berlin \n\n\n\nhttp://www.ash-berlin.eu/…/master-soziale…/profil/ \n\n\n\nwww.aufarbeitungskommission.de/
URL:https://verschickungsheime.de/event/traumatisierung-in-der-kindheit-verstehen-bewaeltigen-und-aufarbeiten/
CATEGORIES:NRW
END:VEVENT
BEGIN:VEVENT
DTSTART;TZID=Europe/Berlin:20230627T180000
DTEND;TZID=Europe/Berlin:20230627T193000
DTSTAMP:20260422T120137
CREATED:20230610T140955Z
LAST-MODIFIED:20230610T141440Z
UID:10000931-1687888800-1687894200@verschickungsheime.de
SUMMARY:Bundesweite Aktivenschalte: Thema Traumabewältigung
DESCRIPTION:Tipps und Ideen zur Traumabewältigung im Falle der Verschickung\, von Diana Mehmel\, Betroffene von Kinderverschickung\, Koordinierende der DDR-Kurkinder\, Traumatherapeutin. Die Veranstaltung läuft über Zoom\, es sind alle Funktionsträger und -Trägerinnen\, und alle\, die gern bei uns aktiv werden wollen\, aber auch neue Interessierte\, allerherzlichst eingeladen\, Anmeldung über: buko@verschickungsheime.de
URL:https://verschickungsheime.de/event/bundesweite-aktivenschalte-thema-traumabewaeltigung/
END:VEVENT
BEGIN:VEVENT
DTSTART;TZID=Europe/Berlin:20230629T180000
DTEND;TZID=Europe/Berlin:20230629T200000
DTSTAMP:20260422T120137
CREATED:20230614T063837Z
LAST-MODIFIED:20230616T064300Z
UID:10000933-1688061600-1688068800@verschickungsheime.de
SUMMARY:NRW-Selbsthilfegruppe per Zoom
DESCRIPTION:Aufarbeitung Kinderverschickungen NRW lädt ein:Neue NRW-Selbsthilfegruppe per Zoom mit Psychotherapeut Nando Belardi \n\n\n\nNicht jeder hat eine Selbsthilfegruppe\, die er gut erreichen kann. Manchmal ist das Verlassen des Hauses auch mühselig. Vielleicht habt auch ihr Lust\, andere Betroffene mit NRW-Bezug per Zoom kennenzulernen. Willkommen sind alle ehemaligen NRW-Verschickten\, wo auch immer sie jetzt wohnen. Einmal im Monat wird Nando Belardi euch im Rahmen einer moderierten Zoomkonferenz zusammenbringen. \n\n\n\nErster Termin:Donnerstag\, 29.06.2023\, 18-20 Uhr. \n\n\n\nAnmeldung unter:projekt@akv-nrw.deStichwort „NRW-Selbsthilfegruppe“ \n\n\n\nZur Person:Nando Belardi ist ehemaliger Hochschullehrer für Sozialpädagogik\, Gestalt-Psychotherapeut (FPI)\, seit 1989 zur Psychotherapie zugelassen nach dem Heilpraktikergesetz\, Supervisor (DGSv) und ehemaliges Verschickungskind.
URL:https://verschickungsheime.de/event/nrw-selbsthilfegruppe-per-zoom/
CATEGORIES:NRW
END:VEVENT
END:VCALENDAR