BEGIN:VCALENDAR
VERSION:2.0
PRODID:-//Verschickungsheime - ECPv6.15.20//NONSGML v1.0//EN
CALSCALE:GREGORIAN
METHOD:PUBLISH
X-ORIGINAL-URL:https://verschickungsheime.de
X-WR-CALDESC:Veranstaltungen für Verschickungsheime
REFRESH-INTERVAL;VALUE=DURATION:PT1H
X-Robots-Tag:noindex
X-PUBLISHED-TTL:PT1H
BEGIN:VTIMEZONE
TZID:Europe/Berlin
BEGIN:DAYLIGHT
TZOFFSETFROM:+0100
TZOFFSETTO:+0200
TZNAME:CEST
DTSTART:20220327T010000
END:DAYLIGHT
BEGIN:STANDARD
TZOFFSETFROM:+0200
TZOFFSETTO:+0100
TZNAME:CET
DTSTART:20221030T010000
END:STANDARD
BEGIN:DAYLIGHT
TZOFFSETFROM:+0100
TZOFFSETTO:+0200
TZNAME:CEST
DTSTART:20230326T010000
END:DAYLIGHT
BEGIN:STANDARD
TZOFFSETFROM:+0200
TZOFFSETTO:+0100
TZNAME:CET
DTSTART:20231029T010000
END:STANDARD
BEGIN:DAYLIGHT
TZOFFSETFROM:+0100
TZOFFSETTO:+0200
TZNAME:CEST
DTSTART:20240331T010000
END:DAYLIGHT
BEGIN:STANDARD
TZOFFSETFROM:+0200
TZOFFSETTO:+0100
TZNAME:CET
DTSTART:20241027T010000
END:STANDARD
END:VTIMEZONE
BEGIN:VEVENT
DTSTART;TZID=Europe/Berlin:20230902T150000
DTEND;TZID=Europe/Berlin:20230902T160000
DTSTAMP:20260420T103657
CREATED:20230714T090059Z
LAST-MODIFIED:20230714T090143Z
UID:10000942-1693666800-1693670400@verschickungsheime.de
SUMMARY:ZOOM-Treffen der DDR-Kurkinder
DESCRIPTION:Zum Thema:  Selbsthilfe und Arbeit an Petition\, trifft sich erneut die DDR-Kurkindergruppe\, gern können neue hinzukommen! Wir freuen uns! Bitte anmelden unter: ddr-kinderkur@verschickungsheime.de
URL:https://verschickungsheime.de/event/zoom-ddr-kurkinder-2-9-15-16-uhr/
END:VEVENT
BEGIN:VEVENT
DTSTART;TZID=Europe/Berlin:20230904T190000
DTEND;TZID=Europe/Berlin:20230904T210000
DTSTAMP:20260420T103657
CREATED:20230804T112622Z
LAST-MODIFIED:20230804T112624Z
UID:10000946-1693854000-1693861200@verschickungsheime.de
SUMMARY:Berliner Selbsthilfe Online-Treffen
DESCRIPTION:Hier gibt es die Möglichkeit sich über seine persönlichen Erfahrungen und deren Auswirkungen in einem geschützten Rahmen auszutauschen. Diese Gruppe besteht schon länger und zeichnet sich durch ein solidarisches und liebevolles Miteinander aus. Neue Verschickungskinder sind aber sehr willkommen und fühlen sich schnell wohl bei uns. Der Link für den Zugang bei Valerie unter Selbsthilfe-Berlin@verschickungsheime.de
URL:https://verschickungsheime.de/event/berliner-selbsthilfe-online-treffen-5/
END:VEVENT
BEGIN:VEVENT
DTSTART;TZID=Europe/Berlin:20230905T170000
DTEND;TZID=Europe/Berlin:20230905T190000
DTSTAMP:20260420T103657
CREATED:20230309T164723Z
LAST-MODIFIED:20230309T165254Z
UID:10000902-1693933200-1693940400@verschickungsheime.de
SUMMARY:Kölner Selbsthilfegruppe (Live)
DESCRIPTION:Live-Treffen im Bürgerzentrum in Köln-DeutzUte und Angelika Freuen sich auf eure Teilnahmen.. Wir freuen uns darauf\, euch bald einmal wieder zu sehen. \n\n\n\nMit herzlichen GrüßenUte und Angelika \n\n\n\nEinschränkungen durch Corona Bestimmungen gibt es zurzeit nicht\, wir bitten jedoch alle\, die an Live-Treffen teilnehmen möchten und Krankheitsanzeichen haben oder Kontakt zu an Covid 19 erkrankten Personen hatten\, vorher zur Sicherheit aller Teilnehmer einen Selbsttest durchzuführen.
URL:https://verschickungsheime.de/event/koelner-selbsthilfegruppe-2-4/
CATEGORIES:NRW
END:VEVENT
BEGIN:VEVENT
DTSTART;TZID=Europe/Berlin:20230906T183000
DTEND;TZID=Europe/Berlin:20230906T203000
DTSTAMP:20260420T103657
CREATED:20230817T145334Z
LAST-MODIFIED:20230817T145336Z
UID:10000954-1694025000-1694032200@verschickungsheime.de
SUMMARY:Videotreffen Rheinland- Pfalz
DESCRIPTION:
URL:https://verschickungsheime.de/event/videotreffen-rheinland-pfalz-9/
END:VEVENT
BEGIN:VEVENT
DTSTART;TZID=Europe/Berlin:20230911T180000
DTEND;TZID=Europe/Berlin:20230911T193000
DTSTAMP:20260420T103657
CREATED:20230731T141623Z
LAST-MODIFIED:20230731T145555Z
UID:10000947-1694455200-1694460600@verschickungsheime.de
SUMMARY:Wyk - Austauschgruppe\, 10. Online-Treffen
DESCRIPTION:Die Wyk – Austauschgruppe ist ein Zusammenschluss von Verschickungskindern oder Angehörigen\, die auf die Insel Föhr verschickt wurden. Sie wird derzeit von Stefan\, einem Angehörigen\, als HOK betreut. \n\n\n\nMittlerweile sind über 60 Mitglieder in der Gruppe. \n\n\n\nAlle haben sich verpflichtet\, über die ihnen bekannten persönlichen Daten der Gruppenmitglieder nur in der Gruppe zu sprechen! Für Nicht – Gruppenmitglieder sind diese Daten tabu. \n\n\n\nWir veranstalten regelmäßig Zoomtreffen und teilen unsere Erlebnisse und Erfahrungen und tauschen uns über Rechercheergebnisse aus. Derzeit planen wir eine gemeinsame Reise nach Wyk\, die voraussichtlich im Frühjahr 2024 stattfinden wird. \n\n\n\nWer an einem Zoom – Treffen teilnehmen möchte\, wendet sich rechtzeitig vorher an Wyk@Verschickungsheime.de
URL:https://verschickungsheime.de/event/wyk-austauschgruppe-10-online-treffen/
CATEGORIES:Schleswig-Holstein
END:VEVENT
BEGIN:VEVENT
DTSTART;TZID=Europe/Berlin:20230913T180000
DTEND;TZID=Europe/Berlin:20230913T200000
DTSTAMP:20260420T103657
CREATED:20230816T192027Z
LAST-MODIFIED:20230910T093813Z
UID:10000953-1694628000-1694635200@verschickungsheime.de
SUMMARY:29. Videotreffen NRW
DESCRIPTION:Liebe Verschickungskinder\,wir laden alle Betroffenen mit NRW-Relevanz (aus NRW in ein anderes Bundesland\, oder aus einem anderen Bundesland nach NRW verschickt\, oder keins von beiden\, jedoch aktueller Wohnort in NRW und interessiert) zum 29. Videotreffen am Mittwoch\, den 13.09.2023\, 18.00 – 20.00 Uhr ein.Wer den Einladungslink nicht per NRW-Verteiler automatisch erhält\, kann sich gerne unter detlef.lichtrauter@akv-nrw.de oder unter jutta.redecker@akv-nrw anmelden.Wir freuen uns über eure Teilnahme und grüßen ganz herzlich.Detlef LichtrauterMichael Millgramm
URL:https://verschickungsheime.de/event/29-videotreffen-nrw/
CATEGORIES:NRW
ATTACH;FMTTYPE=image/png:https://verschickungsheime.de/wp-content/uploads/2023/08/Quotes-Instagram-Post.png
END:VEVENT
BEGIN:VEVENT
DTSTART;TZID=Europe/Berlin:20230914T180000
DTEND;TZID=Europe/Berlin:20230914T200000
DTSTAMP:20260420T103657
CREATED:20230914T200706Z
LAST-MODIFIED:20230914T200707Z
UID:10000814-1694714400-1694721600@verschickungsheime.de
SUMMARY:Berliner Gruppe Verschickungskinder
DESCRIPTION:
URL:https://verschickungsheime.de/event/berliner-gruppe-verschickungskinder-7/
END:VEVENT
BEGIN:VEVENT
DTSTART;TZID=Europe/Berlin:20230920T183000
DTEND;TZID=Europe/Berlin:20230920T200000
DTSTAMP:20260420T103657
CREATED:20230912T133851Z
LAST-MODIFIED:20230912T170444Z
UID:10000808-1695234600-1695240000@verschickungsheime.de
SUMMARY:Berliner Gruppe Verschickungskinder
DESCRIPTION:Die Berliner Gruppe Verschickungskinder trifft sich diesmal im Sekis e.V. schon am Mittwoch\, 20.9.23 um 18.30 Uhr\, da der Raum\, den wir Donnerstags immer hatten\, anderweitig vergeben ist. Der Termin im Oktober muss daher leider entfallen\, oder findet im La Batea statt\, wenn viele Interesse haben. Unser Termin wird dann ab November wieder neu beginnen und immer der erste Montag im Monat sein. Wir hoffen\, ihr könnt da auch. Wir freuen uns auf euch! Berliner Gruppe Verschickungskinder im Sekis e.V.\, Bismarkstraße 101\, in Berlin-Charlottenburg. Anmelden und Kontakt: berlin@verschickungsheime.de
URL:https://verschickungsheime.de/event/berliner-gruppe-verschickungskinder-6/
END:VEVENT
BEGIN:VEVENT
DTSTART;TZID=Europe/Berlin:20230926T180000
DTEND;TZID=Europe/Berlin:20230926T200000
DTSTAMP:20260420T103657
CREATED:20230912T170812Z
LAST-MODIFIED:20230915T220426Z
UID:10000810-1695751200-1695758400@verschickungsheime.de
SUMMARY:Aktivenschalte
DESCRIPTION:Seit 2020 bietet die BUNDESKOORDINATION\, (inzwischen der Vorstand des Bundesvereins „Initiative Verschickungskinder e.V.)\, die AKTIVENSCHALTE an. Dort treffen sich die Landeskoordinator:innen der Bundesländer\, die Heimortkoordinierenden und die nur für ein Heim Zuständigen\, um sich miteinander zu beraten und auszutauschen. Dazu sind auch immer wieder andere gekommen\, die auch bei uns gern aktiv sein wollen. Dafür waren und sind wir offen. Seit 2023 haben wir dieses monatliche (Jeden letzten Dienstag im Monat) Treffen mit Referenten besetzt\, das wurde sehr gern angenommen. Wir arbeiten alle ehrenamtlich und die Referenten ebenso\, großen Dank an alle Aktiven für ihre Mühe! \n\n\n\nAm 26.9.23 wird Prof. Dr. Johannes Richter unser Gast sein: Thema: Zentrale Ergebnisse der Hamburger Studie als Beispiel für eine gelungene Aufarbeitung von früheren Verschickungserfahrungen\, das eigentliche Referat beginnt erst um 18.30 Uhr\, vorher wird es eine Vorstellungsrunde in lockerer Atmosphäre geben\, und noch neues zum Kongress mitgeteilt. Anmeldung über: buko@verschickungsheime.de
URL:https://verschickungsheime.de/event/aktivenschalte-6/
END:VEVENT
END:VCALENDAR