BEGIN:VCALENDAR
VERSION:2.0
PRODID:-//Verschickungsheime - ECPv6.15.20//NONSGML v1.0//EN
CALSCALE:GREGORIAN
METHOD:PUBLISH
X-ORIGINAL-URL:https://verschickungsheime.de
X-WR-CALDESC:Veranstaltungen für Verschickungsheime
REFRESH-INTERVAL;VALUE=DURATION:PT1H
X-Robots-Tag:noindex
X-PUBLISHED-TTL:PT1H
BEGIN:VTIMEZONE
TZID:Europe/Berlin
BEGIN:DAYLIGHT
TZOFFSETFROM:+0100
TZOFFSETTO:+0200
TZNAME:CEST
DTSTART:20230326T010000
END:DAYLIGHT
BEGIN:STANDARD
TZOFFSETFROM:+0200
TZOFFSETTO:+0100
TZNAME:CET
DTSTART:20231029T010000
END:STANDARD
BEGIN:DAYLIGHT
TZOFFSETFROM:+0100
TZOFFSETTO:+0200
TZNAME:CEST
DTSTART:20240331T010000
END:DAYLIGHT
BEGIN:STANDARD
TZOFFSETFROM:+0200
TZOFFSETTO:+0100
TZNAME:CET
DTSTART:20241027T010000
END:STANDARD
BEGIN:DAYLIGHT
TZOFFSETFROM:+0100
TZOFFSETTO:+0200
TZNAME:CEST
DTSTART:20250330T010000
END:DAYLIGHT
BEGIN:STANDARD
TZOFFSETFROM:+0200
TZOFFSETTO:+0100
TZNAME:CET
DTSTART:20251026T010000
END:STANDARD
END:VTIMEZONE
BEGIN:VEVENT
DTSTART;TZID=Europe/Berlin:20240102T170000
DTEND;TZID=Europe/Berlin:20240102T200000
DTSTAMP:20260420T042357
CREATED:20231211T140914Z
LAST-MODIFIED:20231211T141946Z
UID:10000984-1704214800-1704225600@verschickungsheime.de
SUMMARY:Bawü: Dienstags-Austauschtreffen und weitere Termine
DESCRIPTION:Jeden ersten Dienstag im Monat von 17:00 bis 20:00 Uhr treffen wir\, Verschickungskinder aus Bawü\, uns im Alten Rathaus in Reutlingen\, Rathausstraße 6\, 72764 Reutlingen\, zur Erinnerungs-Austauschgruppe in Präsenz. Alle\, die in Bawü wohnen und aus Bawü verschickt wurden\, sind herzlich willkommen. \n\n\n\n Weitere Information für alle\, die aus Bawü verschickt wurden und heute in Bawü wohnen:  \n\n\n\nViermal im Monat bieten wir (Aufarbeitung Kinderverschickung Bawü/AKVBW e.V.) die Möglichkeit\, sich in einer Austauschgruppe\, Erlebnisse während und nach der Verschickung auszutauschen und diese zu teilen. .Die aktuellen Termine findet ihr hier. Der Rahmen ist vertraulich\, wertschätzend und emphatisch. Egal\, ob du einmal oder regelmäßig daran teilnimmst\, negative oder positive oder auch nur wenige Erinnerungen hast\, jede*r ist willkommen. Die eigene Geschichte zu erzählen\, Resonanz von anderen zu bekommen schafft die Möglichkeit\, das Erlebte einzuordnen. \n\n\n\nJeden zweiten Samstag im Monat von 11:00 bis 14:00 Uhr treffen wir uns im KISS www.kiss-stuttgart.de in Stuttgart\, Tübinger Straße 15\, in Präsenz. \n\n\n\nJeden dritten Mittwoch im Monat von 20:00 bis 22:00 Uhr treffen wir uns im Selbsthilfebüro in Freiburg\, Schwabentorring 2\, in Präsenz. \n\n\n\nJeden letzten Dienstag im Monat von 19:00 bis 21:00 Uhr treffen wir uns online. Nach deiner Anmeldung unter mail@verschickungsheime-bw.de erhältst du einen Link zur Einwahl. \n\n\n\nAlle Gruppen werden von einem oder zwei Mitgliedern des Vereins moderiert. Inhalt und Themen orientieren sich an den Teilnehmer*innen. Die Austauschgruppe kann den persönlichen Prozess der Auseinandersetzung mit der eigenen Verschickung unterstützen. Da die Teilnehmer*innen keine feste Gruppe bilden\, ist für erstmalige Teilnehmer*innen ein Einstieg leicht möglich. Geschwister oder Eltern von Verschickungskindern sind ebenfalls willkommen. Nach vorheriger Rücksprache können auch ehemalige Mitarbeitende daran teilnehmen
URL:https://verschickungsheime.de/event/bawue-austauschtreffen/
END:VEVENT
BEGIN:VEVENT
DTSTART;TZID=Europe/Berlin:20240106T150000
DTEND;TZID=Europe/Berlin:20240106T163000
DTSTAMP:20260420T042357
CREATED:20231215T184034Z
LAST-MODIFIED:20231215T184326Z
UID:10000989-1704553200-1704558600@verschickungsheime.de
SUMMARY:DDR-Kurkindertreffen
DESCRIPTION:6.1.24 ZOOM: DDR-ORGA – Treffen und Austausch zur aktuellen DDR-Kurkinder-Petition: „Aufarbeitung der DDR Kinderkuren“ 15-16.30 Uhr\, kommt gern\, wir freuen uns\, anmelden und Link hier per Mail anfordern: ddr-kinderkur@verschickungsheime.de\, diesmal mit Gast: Anja Röhl (Buch: Das Elend der Verschickungskinder)\, gibt ein kurzes (10 Minuten) Input: Die Unterschiede\, aber auch Gemeinsamkeiten zwischen den Erfahrungen der westdeutschen Verschickungskinder und den DDR-Kurkindern sind sehr wichtig herauszuarbeiten\, nur so kann es eine wahrheitsgetreue Aufarbeitung der Geschichte (zwischen 1949-89) in den damals beiden deutschen Staaten geben.
URL:https://verschickungsheime.de/event/ddr-kurkindertreffen-3/
END:VEVENT
BEGIN:VEVENT
DTSTART;TZID=Europe/Berlin:20240108T180000
DTEND;TZID=Europe/Berlin:20240108T200000
DTSTAMP:20260420T042357
CREATED:20231211T145718Z
LAST-MODIFIED:20231211T145834Z
UID:10000986-1704736800-1704744000@verschickungsheime.de
SUMMARY:Langeoog-Heimortgruppe
DESCRIPTION:Verschickungskinder\, die seinerzeit nach Langeoog verschickt wurden\, treffen sich per ZOOM-Veranstaltung immer am 8. des jeweiligen Monats zu einer Erinnerungs-Austauschgruppe\,  neue Verschickungskinder sind herzlich dazu eingeladen. Anmelden unter: langeoog@verschickungsheime.de
URL:https://verschickungsheime.de/event/langeoog-heimortgruppe/
END:VEVENT
BEGIN:VEVENT
DTSTART;TZID=Europe/Berlin:20240110T170000
DTEND;TZID=Europe/Berlin:20240110T190000
DTSTAMP:20260420T042357
CREATED:20231215T181109Z
LAST-MODIFIED:20231215T181159Z
UID:10000988-1704906000-1704913200@verschickungsheime.de
SUMMARY:Schleswig-Holstein: Verschickungskinder treffen sich in Kiel
DESCRIPTION:Liebe Verschickungskinder aus Schleswig-Holstein\, am Mittwoch 10. Januar 2024 treffen wir uns in Kiel erneut im KULTURFORUM KIEL\, um 17 Uhr in der Andreas-Gayk-Str. 31\, 24103 Kiel. Menschen\, die aus Schleswig-Holstein und Kiel verschickt wurden oder heute in Schleswig-Holstein / Kiel wohnen\, sind herzlich eingeladen zu kommen. \n\n\n\nZiele des Treffens: \n\n\n\nErinnerungsaustausch\, Selbsthilfe mobilisieren\, Rechercheergebnisse zusammentragen. Gemeinsam die Vorträge der Nachlese des Bundeskongresses anschauen und austauschen. Referenten für nächste Treffen überlegen. Nächste Vorhaben\, vielleicht die Ausstellung der Bilder von Heike Fischer-Nagel nach Kiel holen? Ideen sammeln. Informationen über die geplante Reise der Verschickungskinder nach Wyk zusammentragen und weitergeben. Kommt gern vorbei\, wir gehen wertschätzend miteinander um\, wir achten unsere unterschiedlichen Erfahrungen und Erlebnisse\, wir hören einander zu \n\n\n\nGrüße aus dem S.-H.-Team\, von Susanne Dank und Susanne Speck
URL:https://verschickungsheime.de/event/schleswig-holstein-verschickungskinder-treffen-sich-in-kiel/
END:VEVENT
BEGIN:VEVENT
DTSTART;TZID=Europe/Berlin:20240110T180000
DTEND;TZID=Europe/Berlin:20240110T193000
DTSTAMP:20260420T042357
CREATED:20240101T155756Z
LAST-MODIFIED:20240101T160052Z
UID:10000999-1704909600-1704915000@verschickungsheime.de
SUMMARY:13. Onlinetreffen der Wyk- (Föhr-) Austauschgruppe
DESCRIPTION:Die Wyk – Austauschgruppe ist ein Zusammenschluss von Verschickungskindern oder Angehörigen\, die auf die Insel Föhr verschickt wurden. Sie wird derzeit von Stefan\, einem Angehörigen\, als HOK betreut. \n\n\n\nMittlerweile sind etwa 70 Mitglieder in der Gruppe. \n\n\n\nAlle haben sich verpflichtet\, über die ihnen bekannten persönlichen Daten der Gruppenmitglieder nur in der Gruppe zu sprechen! Für Nicht – Gruppenmitglieder sind diese Daten tabu. \n\n\n\nWir veranstalten regelmäßig Zoomtreffen und teilen unsere Erlebnisse und Erfahrungen und tauschen uns über Rechercheergebnisse aus. \n\n\n\nWer an einem Zoom – Treffen teilnehmen möchte\, wendet sich rechtzeitig vorher an:    Wyk@Verschickungsheime.de
URL:https://verschickungsheime.de/event/13-onlinetreffen-der-wyk-foehr-austauschgruppe/
CATEGORIES:Schleswig-Holstein
END:VEVENT
BEGIN:VEVENT
DTSTART;TZID=Europe/Berlin:20240111T180000
DTEND;TZID=Europe/Berlin:20240111T193000
DTSTAMP:20260420T042357
CREATED:20240101T162152Z
LAST-MODIFIED:20240101T234553Z
UID:10000841-1704996000-1705001400@verschickungsheime.de
SUMMARY:1. Onlinetreffen der Austauschgruppe Bad Kreuznach / Bad Münster
DESCRIPTION:Wer sich für dieses Treffen interessiert\, wendet sich frühzeitig an die Gruppe unter: Bad-Kr-Bad-Mue@Verschickungsheime.de
URL:https://verschickungsheime.de/event/1-onlinetreffen-der-austauschgruppe-bad-kreuznach-bad-muenster-2/
CATEGORIES:Rheinland- Pfalz
END:VEVENT
BEGIN:VEVENT
DTSTART;TZID=Europe/Berlin:20240111T180000
DTEND;TZID=Europe/Berlin:20240111T193000
DTSTAMP:20260420T042357
CREATED:20240111T170050Z
LAST-MODIFIED:20240101T161930Z
UID:10000843-1704996000-1705001400@verschickungsheime.de
SUMMARY:1. Onlinetreffen der Austauschgruppe Bad Kreuznach / Bad Münster
DESCRIPTION:Wr sich für die Veranstaltung interessiert\, wendet sich rechtzeitig an: Bad-Kr-Bad-Mue@Verschickungsheime.de
URL:https://verschickungsheime.de/event/1-onlinetreffen-der-austauschgruppe-bad-kreuznach-bad-muenster/
CATEGORIES:Rheinland- Pfalz
END:VEVENT
BEGIN:VEVENT
DTSTART;TZID=Europe/Berlin:20240113T110000
DTEND;TZID=Europe/Berlin:20240113T140000
DTSTAMP:20260420T042357
CREATED:20231211T141623Z
LAST-MODIFIED:20231211T141740Z
UID:10000982-1705143600-1705154400@verschickungsheime.de
SUMMARY:Bawü: Samstags-Austauschgruppe
DESCRIPTION:Jeden zweiten Samstag im Monat von 11:00 bis 14:00 Uhr treffen wir uns im KISS www.kiss-stuttgart.de in Stuttgart\, Tübinger Straße 15\, in Präsenz. Alle Betroffenen von Kinderverschickung\, die in Bawü wohnen und aus Bawü verschickt wurden\, sind herzlich willkommen!
URL:https://verschickungsheime.de/event/bawue-austauschgruppe/
END:VEVENT
BEGIN:VEVENT
DTSTART;TZID=Europe/Berlin:20240117T190000
DTEND;TZID=Europe/Berlin:20240117T210000
DTSTAMP:20260420T042357
CREATED:20231211T154522Z
LAST-MODIFIED:20231211T155731Z
UID:10000987-1705518000-1705525200@verschickungsheime.de
SUMMARY:Hamburger Gruppe Verschickungskinder trifft sich auf Finissage
DESCRIPTION:Die Hamburg Gruppe trifft sich das nächste Mal am 17.1.24 zur Finissage der Ausstellung von Heike Fischer-Nagel mit anschließendem Theaterstück mit Willi Schmidt\, Neue sind herzlich willkommen\, Infos und Kontakt zur HH-Gruppe über Jan: Hamburg-LK@verschickungsheime.de \n\n\n\nUm 19 Uhr \n\n\n\nMartinistraße 44a20251 Hamburg
URL:https://verschickungsheime.de/event/hamburg-gruppe/
END:VEVENT
BEGIN:VEVENT
DTSTART;TZID=Europe/Berlin:20240117T190000
DTEND;TZID=Europe/Berlin:20240117T210000
DTSTAMP:20260420T042357
CREATED:20231219T014717Z
LAST-MODIFIED:20231219T014719Z
UID:10000994-1705518000-1705525200@verschickungsheime.de
SUMMARY:NRW: Wie wollen wir im Alter wohnen?
DESCRIPTION:Immer wieder erreichen uns aus der Community Fragen nach alternativen Wohnformen\, denn viele von uns möchten im Alter nicht ins Seniorenheim. Welche anderen Möglichkeiten gibt es? \n\n\n\nExpert:innen werden uns ein großes Spektrum an Versorgungsformen vorstellen – von traumasensibler Pflege zuhause bis zum mehrgenerationellen Wohnprojekt. \n\n\n\nDie ZOOM-Veranstaltung von Umsteuern! Robin Sisterhood e.V. und AKV-NRW e.V. richtet sich gleichermaßen an ehemalige Heim- wie Verschickungskinder. \n\n\n\nAnmeldung unter: projekt@akv-nrw.deBetreff: Wohnen
URL:https://verschickungsheime.de/event/wie-wollen-wir-im-alter-wohnen/
CATEGORIES:NRW
ATTACH;FMTTYPE=image/png:https://verschickungsheime.de/wp-content/uploads/2023/11/Wohnen-im-Alter-IG.png
END:VEVENT
BEGIN:VEVENT
DTSTART;TZID=Europe/Berlin:20240117T190000
DTEND;TZID=Europe/Berlin:20240117T210000
DTSTAMP:20260420T042357
CREATED:20231222T124915Z
LAST-MODIFIED:20231222T124917Z
UID:10000998-1705518000-1705525200@verschickungsheime.de
SUMMARY:HH: Abschlussveranstaltung zur Ausstellung „Ungeborgen“ in der Kunstklinik in Hamburg Eppendorf
DESCRIPTION:Abschlussveranstaltung zur Ausstellung „Ungeborgen“ in der Kunstklinik Hamburg Eppendorf  \n\n\n\n„Ungeborgen“ – eine Szenische Lesung mit performativen und künstlerischen Elementen zur Thematik der Verschickungskinder mit Willi Schmidt und Heike Fischer-Nagel. Gemeinsam möchten sie an diesem Abend über die Kunst einen Zugang offerieren\, Begegnungen ermöglichen sowie den gesellschaftlichen Dialog öffnen.  \n\n\n\nMusikalische Untermalung: Duo Faltenreich (Regine Münchow-Mommsen: Akkordeon\, Helmut Stuarnig: Violine)\, mehr Infos unter diesem Link:  hier
URL:https://verschickungsheime.de/event/finissage-ausstellung-ungeborgen-mit-theater-in-der-kunstklinik-in-hamburg-eppendorf/
END:VEVENT
BEGIN:VEVENT
DTSTART;TZID=Europe/Berlin:20240117T200000
DTEND;TZID=Europe/Berlin:20240117T220000
DTSTAMP:20260420T042357
CREATED:20231211T142102Z
LAST-MODIFIED:20231211T142406Z
UID:10000985-1705521600-1705528800@verschickungsheime.de
SUMMARY:Bawü: Mittwochs-Austauschgruppe
DESCRIPTION:Jeden dritten Mittwoch im Monat von 20:00 bis 22:00 Uhr treffen wir\, Verschickungskinder in Freiburg\, uns im Selbsthilfebüro in Freiburg\, Schwabentorring 2\, in Präsenz. Alle\, die in Freiburg wohnen\, sind herzlich dazu eingeladen\, einfach vorbeikommen!
URL:https://verschickungsheime.de/event/bawue-mittwochs-austauschgruppe/
END:VEVENT
BEGIN:VEVENT
DTSTART;TZID=Europe/Berlin:20240118T184500
DTEND;TZID=Europe/Berlin:20240118T193000
DTSTAMP:20260420T042357
CREATED:20231216T190430Z
LAST-MODIFIED:20231216T191042Z
UID:10000991-1705603500-1705606200@verschickungsheime.de
SUMMARY:Austausch- und Beratungsgespräch mit LKs und LVs und Vorstand der Initiative Verschickungskinder e.V.
DESCRIPTION:Am 18.1.2024 um 18:45-19:30 Uhr lädt der Vorstand der „Initiative Verschickungskinder e.V.“ zu einem Austausch- und Beratungsgespräch ein: Eingeladen sind:  LKs\, LVs sowie der Vorstand der Initiative Verschickungskinder e.V.\, der Zoomlink kann hier angefordert werden: buko@verschickungsheime.de
URL:https://verschickungsheime.de/event/20738/
END:VEVENT
BEGIN:VEVENT
DTSTART;TZID=Europe/Berlin:20240124T180000
DTEND;TZID=Europe/Berlin:20240124T200000
DTSTAMP:20260420T042357
CREATED:20231221T100221Z
LAST-MODIFIED:20231221T100245Z
UID:10000997-1706119200-1706126400@verschickungsheime.de
SUMMARY:33. Videotreffen NRW
DESCRIPTION:Liebe Verschickungskinder\,wir laden alle Betroffenen mit NRW-Relevanz (aus NRW in ein anderes Bundesland\, oder aus einem anderen Bundesland nach NRW verschickt\, oder keins von beiden\, jedoch aktueller Wohnort in NRW und interessiert) zum 33. Videotreffen am Mittwoch\, den 24.01.2024\, 18.00 – 20.00 Uhr ein.Wer den Einladungslink nicht per NRW-Verteiler automatisch erhält\, kann sich gerne unter detlef.lichtrauter@akv-nrw.de oder unter jutta.redecker@akv-nrw anmelden.
URL:https://verschickungsheime.de/event/33-videotreffen-nrw/
CATEGORIES:NRW
ATTACH;FMTTYPE=image/png:https://verschickungsheime.de/wp-content/uploads/2023/12/33-Videotreffen-IG-B.png
END:VEVENT
BEGIN:VEVENT
DTSTART;TZID=Europe/Berlin:20240125T180000
DTEND;TZID=Europe/Berlin:20240125T193000
DTSTAMP:20260420T042357
CREATED:20231031T104901Z
LAST-MODIFIED:20231211T132808Z
UID:10000973-1706205600-1706211000@verschickungsheime.de
SUMMARY:NRW: Positive Impulse für den Alltag
DESCRIPTION:Wir freuen uns sehr\, dass Stefan Spiecker auf Euren Wunsch hin für uns einen regelmäßigen Workshop anbieten wird. \n\n\n\n„Positive Impulse für den Alltag“ findet ab Herbst einmal im Monat statt. Immer am letzten Donnerstag im Monat. \n\n\n\nHier sind die Termine: \n\n\n\n26.10.23 / 30.11.23 / 28.12.23 \n\n\n\n25.01.24 / 29.02.24 / 28.03.24 \n\n\n\nJeweils Donnerstag\, 18:00 – 19:30 Uhr per Zoom. \n\n\n\nStefan Spieker\, unser Trainer für Positive Psychologie\, Life-Coach und Erlebnispädagoge. In seinen mitreißenden Workshops setzt er Impulse für Lebenszufriedenheit und Gesundheitsförderung. Wohlbefinden lässt sich durch zielgerichtete Übungen verbessern. Ein wichtiges Ziel ist die Stärkung der Selbstwirksamkeit. Der Praxiskurs vermittelt dazu wertvolle Denkanstöße und wirksame Interventionen. \n\n\n\n1. Meine Stärken: Stärken entdecken und mit Schwächen umgehen \n\n\n\n2. Meine Werte: Werte erkennen und wertorientiert im Alltag leben \n\n\n\n3. Mehr Verbundenheit: Beziehungen stärken\, Loslassen\, positive Kommunikation \n\n\n\n4. Mehr Alltagsglück: Momente von Glück erleben\, die Kraft der Dankbarkeit \n\n\n\nAnmeldungen bitte per E-Mail unter: \n\n\n\nprojekt@akv-nrw.de \n\n\n\nStichwort: positive Impulse
URL:https://verschickungsheime.de/event/positive-impulse-fuer-den-alltag-4/
CATEGORIES:NRW
ATTACH;FMTTYPE=image/jpeg:https://verschickungsheime.de/wp-content/uploads/2023/10/395705391_308050195310192_3778229922870796591_n.jpg
END:VEVENT
BEGIN:VEVENT
DTSTART;TZID=Europe/Berlin:20240130T180000
DTEND;TZID=Europe/Berlin:20240130T190000
DTSTAMP:20260420T042357
CREATED:20231219T011923Z
LAST-MODIFIED:20231219T095023Z
UID:10000993-1706637600-1706641200@verschickungsheime.de
SUMMARY:Bundesweit: Aktivenschalte mit Prof. Dr. Ilona YIM aus den USA
DESCRIPTION:Unsere erste Aktivenschalte findet am 30. Januar um 18 Uhr statt – Professor Ilona Yim wird hier aktuell über Ihre Studien zu Stress und Gesundheit von Verschickungskindern berichten. Hier dazu direkt der Einwahl-Link\, (bitte erst am 30.1.24 um 18 Uhr aktivieren) wir freuen uns über Euer Kommen\, alle Interessierten sind willkommen!
URL:https://verschickungsheime.de/event/aktivenschalte-mit-prof-dr-ilona-yim-aus-den-usa/
END:VEVENT
END:VCALENDAR