BEGIN:VCALENDAR
VERSION:2.0
PRODID:-//Verschickungsheime - ECPv6.15.20//NONSGML v1.0//EN
CALSCALE:GREGORIAN
METHOD:PUBLISH
X-ORIGINAL-URL:https://verschickungsheime.de
X-WR-CALDESC:Veranstaltungen für Verschickungsheime
REFRESH-INTERVAL;VALUE=DURATION:PT1H
X-Robots-Tag:noindex
X-PUBLISHED-TTL:PT1H
BEGIN:VTIMEZONE
TZID:Europe/Berlin
BEGIN:DAYLIGHT
TZOFFSETFROM:+0100
TZOFFSETTO:+0200
TZNAME:CEST
DTSTART:20230326T010000
END:DAYLIGHT
BEGIN:STANDARD
TZOFFSETFROM:+0200
TZOFFSETTO:+0100
TZNAME:CET
DTSTART:20231029T010000
END:STANDARD
BEGIN:DAYLIGHT
TZOFFSETFROM:+0100
TZOFFSETTO:+0200
TZNAME:CEST
DTSTART:20240331T010000
END:DAYLIGHT
BEGIN:STANDARD
TZOFFSETFROM:+0200
TZOFFSETTO:+0100
TZNAME:CET
DTSTART:20241027T010000
END:STANDARD
BEGIN:DAYLIGHT
TZOFFSETFROM:+0100
TZOFFSETTO:+0200
TZNAME:CEST
DTSTART:20250330T010000
END:DAYLIGHT
BEGIN:STANDARD
TZOFFSETFROM:+0200
TZOFFSETTO:+0100
TZNAME:CET
DTSTART:20251026T010000
END:STANDARD
END:VTIMEZONE
BEGIN:VEVENT
DTSTART;TZID=Europe/Berlin:20240304T190000
DTEND;TZID=Europe/Berlin:20240304T203000
DTSTAMP:20260420T011152
CREATED:20240221T071635Z
LAST-MODIFIED:20240221T072538Z
UID:10001010-1709578800-1709584200@verschickungsheime.de
SUMMARY:Berliner Gruppe Verschickungskinder im Sekis e.V.
DESCRIPTION:Für alle\, die in Berlin wohnen: Schon seit 2019 trifft sich die Berliner Gruppe Verschickungskinder im Sekis e.V.\, einmal monatlich in Berlin Charlottenburg\, in der Bismarkstrasse 101\, dierekt am U-Bhf. Deutsche Oper\, Hinterausgang. Themen sind: Austausch über unsere Erlebnisse und Ideen sammeln für politische Wirksamkeit in Berlin\, kommt gern vorbei\, Ihr seid herzlich willkommen\, Susanne\, Bea\, Anja\, Joachim u.a.
URL:https://verschickungsheime.de/event/berliner-gruppe-verschickungskinder-im-sekis-e-v-3/
END:VEVENT
BEGIN:VEVENT
DTSTART;TZID=Europe/Berlin:20240310T180000
DTEND;TZID=Europe/Berlin:20240310T193000
DTSTAMP:20260420T011152
CREATED:20240211T091411Z
LAST-MODIFIED:20240217T092259Z
UID:10001007-1710093600-1710099000@verschickungsheime.de
SUMMARY:Wyk-Austauschgruppe: 15. ZOOM-Online-Treffen
DESCRIPTION:Die Wyk – Austauschgruppe ist ein Zusammenschluss von Verschickungskindern oder Angehörigen\, die auf die Insel Föhr verschickt wurden. Sie wird derzeit von Stefan\, einem Angehörigen\, als HOK betreut. \n\n\n\nMittlerweile sind etwa 70 Mitglieder in der Gruppe. \n\n\n\nAlle haben sich verpflichtet\, über die ihnen bekannten persönlichen Daten der Gruppenmitglieder nur in der Gruppe zu sprechen! Für Nicht – Gruppenmitglieder sind diese Daten tabu. \n\n\n\nWir veranstalten regelmäßig Zoomtreffen und teilen unsere Erlebnisse und Erfahrungen und tauschen uns über Rechercheergebnisse aus. \n\n\n\nWer an einem Zoom – Treffen teilnehmen möchte\, wendet sich rechtzeitig vorher an Wyk@Verschickungsheime.de
URL:https://verschickungsheime.de/event/wyk-austauschgruppe-15-zoom-online-treffen/
CATEGORIES:Schleswig-Holstein
END:VEVENT
BEGIN:VEVENT
DTSTART;TZID=Europe/Berlin:20240311T170000
DTEND;TZID=Europe/Berlin:20240311T180000
DTSTAMP:20260420T011152
CREATED:20240223T142010Z
LAST-MODIFIED:20240228T192854Z
UID:10001012-1710176400-1710180000@verschickungsheime.de
SUMMARY:NRW: Achtsamkeits-Training mit Birgit Schönberger
DESCRIPTION:Birgit Schönberger bietet endlich wieder einen Achtsamkeits-Workshop für uns im März/April an. \n\n\n\nHier sind die Daten:11.03. / 18.03. / 25.03. / 08.04.2024immer Montags von 17:00 – 18:00 Uhr per Zoom \n\n\n\nAnmeldungen bitte unter:projekt@akv-nrw.deStichwort: Achtsamkeit Birgit 5
URL:https://verschickungsheime.de/event/achtsamkeits-training-mit-birgit-schoenberger-2/
CATEGORIES:NRW
ATTACH;FMTTYPE=image/png:https://verschickungsheime.de/wp-content/uploads/2024/02/Achtsamkeit-Fruehjahr-2024-IG-B.png
END:VEVENT
BEGIN:VEVENT
DTSTART;TZID=Europe/Berlin:20240311T180000
DTEND;TZID=Europe/Berlin:20240311T193000
DTSTAMP:20260420T011152
CREATED:20240211T091000Z
LAST-MODIFIED:20240217T093049Z
UID:10001006-1710180000-1710185400@verschickungsheime.de
SUMMARY:Bad Kreuznach und Bad Münster am Stein: ZOOM-Treffen der Austauschgruppe
DESCRIPTION:Die Bad Kreuznach / Bad Münster am Stein – Austauschgruppe ist ein Zusammenschluss von Verschickungskindern oder Angehörigen\, die in diese Orte verschickt wurden. \n\n\n\nWir suchen noch neue Mitglieder in der Gruppe. \n\n\n\nAlle haben sich verpflichtet\, über die ihnen bekannten persönlichen Daten der Gruppenmitglieder nur in der Gruppe zu sprechen! Für Nicht – Gruppenmitglieder sind diese Daten tabu. \n\n\n\nWir veranstalten regelmäßig Zoomtreffen und teilen unsere Erlebnisse und Erfahrungen und tauschen uns über Rechercheergebnisse aus. \n\n\n\nWer an einem Zoom – Treffen teilnehmen möchte\, wendet sich rechtzeitig vorher an Bad-Kr-Bad-Mue@Verschickungsheime.de
URL:https://verschickungsheime.de/event/bad-kreuznach-und-bad-muenster-am-stein-zoom-treffen-der-austauschgruppe/
CATEGORIES:Rheinland- Pfalz
END:VEVENT
BEGIN:VEVENT
DTSTART;TZID=Europe/Berlin:20240312T183000
DTEND;TZID=Europe/Berlin:20240312T193000
DTSTAMP:20260420T011152
CREATED:20240220T151907Z
LAST-MODIFIED:20240312T091413Z
UID:10001009-1710268200-1710271800@verschickungsheime.de
SUMMARY:NRW: "Gestärkt durch den Alltag!" - Info-Abend
DESCRIPTION:Exklusives Fortbildungs-Angebot von Aufarbeitung Kinderverschickungen NRW e.V.:Gestärkt durch den Alltag! Mit Positiver Psychologie zu mehr Wohlbefinden und ZuversichtIm Alltag werden wir immer wieder mit Situationen konfrontiert\, die uns belasten\, nicht schlafen lassen\, schlechte Laune machen\, verunsichern\, überfordern. Wer sich nicht damit abfinden will\, für den ist unser Fortbildungsangebot gedacht. Es ist für Betroffene von Kinderverschickung und ehrenamtlich Engagierte kostenfrei. Fundament des Angebots sind Erkenntnisse der Neurowissenschaften und evidenzbasierte wissenschaftliche Studien.Intensiv-Basis-/Trainingskurs mit Maria und Stefan. Wir üben alltagsbezogen und in kleiner Gruppe. Die Interventionen sind wunderbar anwendbar in Beruf\, Familie\, ehrenamtlicher Arbeit und vor allem hilfreich fürs eigene Leben. Basiskurs I: 4 x Sa/So im Jahr 2024Ort : Kölner ProjektbüroStart : 05/2024Ihr wollt mehr wissen? Ihr habt Fragen? Euch interessiert eine offizielle Zertifizierung für berufliche Zwecke? Dann meldet euch bitte bis 07.03. zum  \n\n\n\nZoom-Info-Abend am 12.03.2024\, 18:30-19:30 Uhr an:maria.dickmeis@akv-nrw.deWir freuen uns auf euch!Maria Dickmeis/Stefan SpieckerZertifizierte Trainer der Deutschen Gesellschaft für Positive Psychologie\, (DGPP).
URL:https://verschickungsheime.de/event/nrw-gestaerkt-durch-den-alltag-info-abend/
CATEGORIES:NRW
ATTACH;FMTTYPE=image/png:https://verschickungsheime.de/wp-content/uploads/2024/02/Gestaerkt-durch-den-Alltag-IG-B-1.png
END:VEVENT
BEGIN:VEVENT
DTSTART;TZID=Europe/Berlin:20240312T190000
DTEND;TZID=Europe/Berlin:20240312T210000
DTSTAMP:20260420T011152
CREATED:20240121T174713Z
LAST-MODIFIED:20240121T174715Z
UID:10000853-1710270000-1710277200@verschickungsheime.de
SUMMARY:Berliner Selbsthilfe Online-Treffen
DESCRIPTION:Hier gibt es die Möglichkeit sich über seine persönlichen Erfahrungen und deren Auswirkungen in einem geschützten Rahmen auszutauschen. Diese Gruppe besteht schon länger und zeichnet sich durch ein solidarisches und liebevolles Miteinander aus. Neue Verschickungskinder sind aber sehr willkommen und fühlen sich schnell wohl bei uns. Der Link für den Zugang bei Valerie unter Selbsthilfe-Berlin@verschickungsheime.de
URL:https://verschickungsheime.de/event/berliner-selbsthilfe-online-treffen-10/
END:VEVENT
BEGIN:VEVENT
DTSTART;TZID=Europe/Berlin:20240314T190000
DTEND;TZID=Europe/Berlin:20240314T203000
DTSTAMP:20260420T011152
CREATED:20240208T134720Z
LAST-MODIFIED:20240208T141239Z
UID:10001004-1710442800-1710448200@verschickungsheime.de
SUMMARY:NRW: Verschickungskinder – Eine neue Perspektive auf die Kindererholungskuren des 20. Jahrhunderts
DESCRIPTION:Detlef Lichtrauter (1. Vorsitzender des AKV NRW e.V.) hält einen Vortrag zum Thema “Verschickungskinder – Eine neue Perspektive auf die Kindererholungskuren des 20. Jahrhunderts”.Alle sind herzlich willkommen!Datum: 14.03.2024 (Donnerstag)Zeit: 19:00-20:30 UhrOrt: VHS Moers / Alter Sitzungssaal .Altes LandratsamtKastell 5b47441 MoersAnreise: H 3 – Haltestelle Königlicher Hof: alle LinienEintritt: 5\,00 €
URL:https://verschickungsheime.de/event/verschickungskinder-eine-neue-perspektive-auf-die-kindererholungskuren-des-20-jahrhunderts-2/
CATEGORIES:NRW
ATTACH;FMTTYPE=image/png:https://verschickungsheime.de/wp-content/uploads/2024/02/Vortrag-Lichtrauter-Moers-IG-B.png
END:VEVENT
BEGIN:VEVENT
DTSTART;TZID=Europe/Berlin:20240314T190000
DTEND;TZID=Europe/Berlin:20240314T210000
DTSTAMP:20260420T011152
CREATED:20240229T221047Z
LAST-MODIFIED:20240229T221206Z
UID:10001015-1710442800-1710450000@verschickungsheime.de
SUMMARY:"Das Elend der Verschickungskinder" Eine Zoom-Veranstaltung von Anja Röhl in München
DESCRIPTION:Anja Röhl spricht über “Das Elend der Verschickungskinder” im Münchner Bildungswerk im ZOOM\, Teilnahme ist für alle möglich\, (9.- TN-Gebühr) Näheres und Anmeldung über diesen link: \n\n\n\nMünchner Bildungswerk: Das Elend der Verschickungskinder – 146850online (muenchner-bildungswerk.de)
URL:https://verschickungsheime.de/event/das-elend-der-verschickungskinder-zoom-veranstaltung-von-anja-roehl-in-muenchen/
END:VEVENT
BEGIN:VEVENT
DTSTART;TZID=Europe/Berlin:20240316T140000
DTEND;TZID=Europe/Berlin:20240316T170000
DTSTAMP:20260420T011152
CREATED:20231216T193049Z
LAST-MODIFIED:20240316T091348Z
UID:10000992-1710597600-1710608400@verschickungsheime.de
SUMMARY:Einweihung der ersten Erinnerungsstele für die Verschickungskinder in Bad Salzdetfurth durch die Diakonie Niedersachsen
DESCRIPTION:Am heutigen Tag\, dem 16.3.2024 wird es um 14 Uhr in Bad Salzdetfurth zu einer ersten feierlichen Einweihung einer Erinnerungsstele an drei in dortigen Einrichtungen der Kinderverschickungen 1969 zu Tode gekommenen Kinder\, durch das Diakonische Werk in Bad Salzdetfurth kommen. Besucher und Besucherinnen sind herzlich dazu eingeladen! Es handelt sich um die erste Einweihung einer Erinnerungsskulptur überhaupt. Eine zweite wird am 9.4.24 in Bad Sassendorf (Westfälische Salzwelten) eingeweiht. Dort wird eine Bronze-Skulptur der Hamburger Künstlerin Heike Fischer-Nagel aufgestellt.  \n\n\n\nGedenkstelen an jedem der 350 Kinderkurorte wären ein erstes wichtiges Ziel historischer Aufarbeitung des Leid der Verschickungskinder. Wir freuen uns sehr\, dass der Ort Bad Salzdetfurth mit diesem öffentlichen Gedenken einen ersten Schritt in diese Richtung gemacht hat. Das Leid der Kinder in den Verschickungsheimen: Den Kinderkurheimen und Kinderkurheilstätten\, darf nicht vergessen\, sondern muss dringend historisch aufgearbeitet werden! In allen Bundesländern und in allen Kinderkurorten und Heilbädern. \n\n\n\n       (Hintergründe zur Bad Salzdetfzurther Verschickungsproblematik finden Sie in der Dokumentation: Erinnerungen (Sabine Schwemm\, Anja Röhl und Heimortgruppe Bad Salzdetfurth\, November 2023\, 2. Auflage\, zu bestellen bei: info@verschickungsheime.de)
URL:https://verschickungsheime.de/event/einweihung-einer-erinnerungsstele-in-bad-salzdetfurth-durch-die-diakonie-niedersachsen/
END:VEVENT
BEGIN:VEVENT
DTSTART;TZID=Europe/Berlin:20240318T163000
DTEND;TZID=Europe/Berlin:20240318T183000
DTSTAMP:20260420T011152
CREATED:20240208T135325Z
LAST-MODIFIED:20240208T152305Z
UID:10001005-1710779400-1710786600@verschickungsheime.de
SUMMARY:NRW: Workshop und Rundgang im Historischen Archiv Köln
DESCRIPTION:Eine Veranstaltung von Aufarbeitung Kinderverschickungen NRW e.V.Am 18. März 2024 erwartet uns Archivarin Hanna Kannengießer zu einem exklusiven Rundgang und bietet im Anschluss einen Workshop zum Thema “Kinderkur-Recherche” an.  \n\n\n\nHanna Kannengießer ist eine hochengagierte Kölner Archivarin. Sie erarbeitet derzeit einen Recherche-Leitfaden für ehemalige Verschickungskinder\, hat bereits letztes Jahr einen Zoomvortrag für den Verein Aufarbeitung Kinderverschickungen NRW e.V. gehalten und unterstützt die Arbeit der Recherchegruppe des Bürgerforschungsprojektes (CSP-KV NRW).  \n\n\n\nNun wird sie erstmals an ihrem Arbeitsort einen Workshop zur “Kinderkur-Recherche” und einen exklusiven Rundgang durch das neue Historische Archiv Köln anbieten. Das Angebot richtet sich an ehemalige Verschickungskinder\, ein Köln-Bezug ist für eine Teilnahme nicht zwingend. \n\n\n\nInteressenten melden sich bitte unter projekt@akv-nrw.de mit dem Betreff: “Archiv-Workshop” an. \n\n\n\nArchiv-Workshop Köln mit Hanna Kannengießer \n\n\n\n18. März 2024 \n\n\n\n16:30-18:30 Uhr \n\n\n\nHistorisches Archiv KölnEifelwall 550674 Köln
URL:https://verschickungsheime.de/event/workshop-und-rundgang-im-historischen-archiv-koeln/
CATEGORIES:NRW
ATTACH;FMTTYPE=image/png:https://verschickungsheime.de/wp-content/uploads/2024/02/Archiv-Workshop-IG-B-1.png
END:VEVENT
BEGIN:VEVENT
DTSTART;TZID=Europe/Berlin:20240318T170000
DTEND;TZID=Europe/Berlin:20240318T180000
DTSTAMP:20260420T011152
CREATED:20240223T142142Z
LAST-MODIFIED:20240228T193028Z
UID:10001013-1710781200-1710784800@verschickungsheime.de
SUMMARY:NRW: Achtsamkeits-Training mit Birgit Schönberger
DESCRIPTION:Birgit Schönberger bietet endlich wieder einen Achtsamkeits-Workshop für uns im März/April an. \n\n\n\nHier sind die Daten:11.03. / 18.03. / 25.03. / 08.04.2024immer Montags von 17:00 – 18:00 Uhr per Zoom \n\n\n\nAnmeldungen bitte unter:projekt@akv-nrw.deStichwort: Achtsamkeit Birgit 5
URL:https://verschickungsheime.de/event/nrw-achtsamkeits-training-mit-birgit-schoenberger/
CATEGORIES:NRW
ATTACH;FMTTYPE=image/png:https://verschickungsheime.de/wp-content/uploads/2024/02/Achtsamkeit-Fruehjahr-2024-IG-B.png
END:VEVENT
BEGIN:VEVENT
DTSTART;TZID=Europe/Berlin:20240320T110000
DTEND;TZID=Europe/Berlin:20240320T120000
DTSTAMP:20260420T011152
CREATED:20240319T154404Z
LAST-MODIFIED:20240319T154712Z
UID:10001019-1710932400-1710936000@verschickungsheime.de
SUMMARY:Erste öffentliche Anhörung vor dem Familienausschuss im Bundestag
DESCRIPTION:Am Mittwoch\, den 20.März 2024\, 11:00 Uhrim Paul-Löbe-HausKonrad-Adenauer-Straße 1\, 10557 BerlinSitzungssaal PLH 2.200 \n\n\n\nGäste können sich im Familienausschussbüro unter folgender Mailadresse\, mit der Angabe Ihres Vor- und Zunamens\, und des Geburtsdatums\, schriftlich für einen Galeriebesuchanmelden: familienausschuss@bundestag.de\, westlicher Eingang Paul-Löbe-Haus. \n\n\n\nDer Livestream der Sitzung wird erst 10 Minuten vorher auf der Webseite: www.bundestag.de\, unter: Familienausschuss-Sitzung veröffentlicht. \n\n\n\nAusführlich dazu hier
URL:https://verschickungsheime.de/event/erste-oeffentliche-anhoerung-vor-dem-familienausschuss-im-bundestag/
END:VEVENT
BEGIN:VEVENT
DTSTART;TZID=Europe/Berlin:20240320T190000
DTEND;TZID=Europe/Berlin:20240320T200000
DTSTAMP:20260420T011152
CREATED:20240319T161846Z
LAST-MODIFIED:20240319T163352Z
UID:10001020-1710961200-1710964800@verschickungsheime.de
SUMMARY:Verschickungskinder - Fürs Leben gezeichnet in Leipzig
DESCRIPTION:Im Zentrum Frauenkultur in Leipzig: Anja Röhl stellt das Buch von Jari Banas anlässlich der Buchmesse in Leipzig vor. Jari Banas hat zu 200 ausgewählten Berichten über traumatische Erlebnisse in Verschickungsheimen\, die an Anja Röhl geschickt wurden\, Zeichnungen angefertigt. Zeichnungen\, die verstören und Angst machen\, Zeichnungen\, die anklagen\, Zeichnungen\, die sich aber auch mit der Gegenwehr beschäftigen\, die Verschickungskinder jetzt\, nach 50 Jahren\, begonnen haben. Anja Röhl erklärt das Phänomen der besonderen Gewalt der Verschickungen in Kinderkurkliniken: \n\n\n\nFrauenkultur e. V. Leipzig04277 Leipzig | Windscheidstr. 51Fon: 0341 – 21 300 30Fax: 0341 – 21 300 31www.frauenkultur-leipzig.dehallo[at]frauenkultur-leipzig.de \n\n\n\nWebseite der Veranstalterin
URL:https://verschickungsheime.de/event/verschickungskinder-leben-gezeichnet/
END:VEVENT
BEGIN:VEVENT
DTSTART;TZID=Europe/Berlin:20240325T170000
DTEND;TZID=Europe/Berlin:20240325T180000
DTSTAMP:20260420T011152
CREATED:20240223T142504Z
LAST-MODIFIED:20240228T193216Z
UID:10001014-1711386000-1711389600@verschickungsheime.de
SUMMARY:NRW: Achtsamkeits-Training mit Birgit Schönberger
DESCRIPTION:Birgit Schönberger bietet endlich wieder einen Achtsamkeits-Workshop für uns im März/April an. \n\n\n\nHier sind die Daten:11.03. / 18.03. / 25.03. / 08.04.2024immer Montags von 17:00 – 18:00 Uhr per Zoom \n\n\n\nAnmeldungen bitte unter:projekt@akv-nrw.deStichwort: Achtsamkeit Birgit 5
URL:https://verschickungsheime.de/event/nrw-achtsamkeits-training-mit-birgit-schoenberger-2/
CATEGORIES:NRW
ATTACH;FMTTYPE=image/png:https://verschickungsheime.de/wp-content/uploads/2024/02/Achtsamkeit-Fruehjahr-2024-IG-B.png
END:VEVENT
BEGIN:VEVENT
DTSTART;TZID=Europe/Berlin:20240326T180000
DTEND;TZID=Europe/Berlin:20240326T193000
DTSTAMP:20260420T011152
CREATED:20240317T083025Z
LAST-MODIFIED:20240319T075140Z
UID:10001017-1711476000-1711481400@verschickungsheime.de
SUMMARY:Bundesweite Aktivenschalte mit Johanna Christ: Kinderverschickung als Gewalt - Analyse der abgelegten Zeugnisse
DESCRIPTION:Zoom-Veranstaltung\,Thema: Kinderverschickung als Gewalt in generationalen Ordnungen – eine kindheitstheoretische Analyse der öffentlich abgelegten Zeugnisse“\, Referentin: Johanna Christ\, Universität Frankfurt/Main \n\n\n\nHier der  Einwahl-Link\, gern können Sie sich aber auch anmelden unter: buko@verschickungsheime.de\, dann bekommen Sie/Ihr immer wieder die Einladungen
URL:https://verschickungsheime.de/event/bundesweite-aktivenschalte-mit-johanna-christ-als-referentin/
END:VEVENT
BEGIN:VEVENT
DTSTART;TZID=Europe/Berlin:20240326T180000
DTEND;TZID=Europe/Berlin:20240326T200000
DTSTAMP:20260420T011153
CREATED:20240306T132959Z
LAST-MODIFIED:20240306T133029Z
UID:10001016-1711476000-1711483200@verschickungsheime.de
SUMMARY:35. Videotreffen NRW
DESCRIPTION:Liebe Verschickungskinder\,wir laden alle Betroffenen mit NRW-Relevanz (aus NRW in ein anderes Bundesland\, oder aus einem anderen Bundesland nach NRW verschickt\, oder keins von beiden\, jedoch aktueller Wohnort in NRW und interessiert) zum 35. Videotreffen am Dienstag\, den 26.03.2024\, 18.00 – 20.00 Uhr ein.Wer den Einladungslink nicht per NRW-Verteiler automatisch erhält\, kann sich gerne unter detlef.lichtrauter@akv-nrw.de oder unter jutta.redecker@akv-nrw anmelden.
URL:https://verschickungsheime.de/event/35-videotreffen-nrw/
CATEGORIES:NRW
ATTACH;FMTTYPE=image/png:https://verschickungsheime.de/wp-content/uploads/2024/03/35-Videotreffen-IG-B.png
END:VEVENT
BEGIN:VEVENT
DTSTART;TZID=Europe/Berlin:20240328T180000
DTEND;TZID=Europe/Berlin:20240328T193000
DTSTAMP:20260420T011153
CREATED:20231031T105125Z
LAST-MODIFIED:20231221T145911Z
UID:10000975-1711648800-1711654200@verschickungsheime.de
SUMMARY:NRW: Positive Impulse für den Alltag
DESCRIPTION:Wir freuen uns sehr\, dass Stefan Spiecker auf Euren Wunsch hin für uns einen regelmäßigen Workshop anbieten wird. \n\n\n\n„Positive Impulse für den Alltag“ findet ab Herbst einmal im Monat statt. Immer am letzten Donnerstag im Monat. \n\n\n\nHier sind die Termine: \n\n\n\n26.10.23 / 30.11.23 / 28.12.23 \n\n\n\n25.01.24 / 29.02.24 / 28.03.24 \n\n\n\nJeweils Donnerstag\, 18:00 – 19:30 Uhr per Zoom. \n\n\n\nStefan Spieker\, unser Trainer für Positive Psychologie\, Life-Coach und Erlebnispädagoge. In seinen mitreißenden Workshops setzt er Impulse für Lebenszufriedenheit und Gesundheitsförderung. Wohlbefinden lässt sich durch zielgerichtete Übungen verbessern. Ein wichtiges Ziel ist die Stärkung der Selbstwirksamkeit. Der Praxiskurs vermittelt dazu wertvolle Denkanstöße und wirksame Interventionen. \n\n\n\n1. Meine Stärken: Stärken entdecken und mit Schwächen umgehen \n\n\n\n2. Meine Werte: Werte erkennen und wertorientiert im Alltag leben \n\n\n\n3. Mehr Verbundenheit: Beziehungen stärken\, Loslassen\, positive Kommunikation \n\n\n\n4. Mehr Alltagsglück: Momente von Glück erleben\, die Kraft der Dankbarkeit \n\n\n\nAnmeldungen bitte per E-Mail unter: \n\n\n\nprojekt@akv-nrw.de \n\n\n\nStichwort: positive Impulse
URL:https://verschickungsheime.de/event/positive-impulse-fuer-den-alltag-6/
CATEGORIES:NRW
ATTACH;FMTTYPE=image/jpeg:https://verschickungsheime.de/wp-content/uploads/2023/10/395705391_308050195310192_3778229922870796591_n.jpg
END:VEVENT
END:VCALENDAR