BEGIN:VCALENDAR
VERSION:2.0
PRODID:-//Verschickungsheime - ECPv6.15.20//NONSGML v1.0//EN
CALSCALE:GREGORIAN
METHOD:PUBLISH
X-ORIGINAL-URL:https://verschickungsheime.de
X-WR-CALDESC:Veranstaltungen für Verschickungsheime
REFRESH-INTERVAL;VALUE=DURATION:PT1H
X-Robots-Tag:noindex
X-PUBLISHED-TTL:PT1H
BEGIN:VTIMEZONE
TZID:Europe/Berlin
BEGIN:DAYLIGHT
TZOFFSETFROM:+0100
TZOFFSETTO:+0200
TZNAME:CEST
DTSTART:20240331T010000
END:DAYLIGHT
BEGIN:STANDARD
TZOFFSETFROM:+0200
TZOFFSETTO:+0100
TZNAME:CET
DTSTART:20241027T010000
END:STANDARD
BEGIN:DAYLIGHT
TZOFFSETFROM:+0100
TZOFFSETTO:+0200
TZNAME:CEST
DTSTART:20250330T010000
END:DAYLIGHT
BEGIN:STANDARD
TZOFFSETFROM:+0200
TZOFFSETTO:+0100
TZNAME:CET
DTSTART:20251026T010000
END:STANDARD
BEGIN:DAYLIGHT
TZOFFSETFROM:+0100
TZOFFSETTO:+0200
TZNAME:CEST
DTSTART:20260329T010000
END:DAYLIGHT
BEGIN:STANDARD
TZOFFSETFROM:+0200
TZOFFSETTO:+0100
TZNAME:CET
DTSTART:20261025T010000
END:STANDARD
END:VTIMEZONE
BEGIN:VEVENT
DTSTART;TZID=Europe/Berlin:20250401T160000
DTEND;TZID=Europe/Berlin:20250401T170000
DTSTAMP:20260421T143122
CREATED:20250320T153033Z
LAST-MODIFIED:20250320T160423Z
UID:10001379-1743523200-1743526800@verschickungsheime.de
SUMMARY:Umgang mit der Technik
DESCRIPTION:Jan\, der Webmaster\, stellt sich den Verschickungskindern und beantwortet Fragen zur Webseite oder erklärt\, wie man technische Probleme mit der Webseite am einfachsten behebt. Egal welche technischen Fragen du hast – hier findest du einen Ansprechpartner.. Am 1.4.2025 von 16-17.00 Uhr\, hier der Zoomlink
URL:https://verschickungsheime.de/event/tee/
CATEGORIES:Bundesweit,Hamburg
ATTACH;FMTTYPE=image/jpeg:https://verschickungsheime.de/wp-content/uploads/2025/03/robot-3038833-scaled.jpg
END:VEVENT
BEGIN:VEVENT
DTSTART;TZID=Europe/Berlin:20250401T193000
DTEND;TZID=Europe/Berlin:20250401T210000
DTSTAMP:20260421T143122
CREATED:20250325T102257Z
LAST-MODIFIED:20250325T103251Z
UID:10001380-1743535800-1743541200@verschickungsheime.de
SUMMARY:Treffen der Heimortgruppe Norderney am 01.04.2025
DESCRIPTION:Hiermit lädt die Heimortgruppe Norderney ganz herzlich alle Betroffenen\, die nach Norderney verschickt wurden\, zu einer Zoomtreffen ein. Es ist schon das 13. Treffen der Heimortgruppe Norderney\, es wird am 01.04.2025 um 19.30 Uhr bis 21.00 Uhr stattfinden\, bitte meldet euch bei KIRSTEN an: Norderney@verschickungsheime.de\, dann bekommt ihr den Link\, wir freuen uns auf euch! \n\n\n\nHeimortgruppe Norderney
URL:https://verschickungsheime.de/event/treffen-der-heimortgruppe-norderney-am-01-04-2025/
CATEGORIES:Landeskoordination,Niedersachsen
END:VEVENT
BEGIN:VEVENT
DTSTART;TZID=Europe/Berlin:20250407T170000
DTEND;TZID=Europe/Berlin:20250407T180000
DTSTAMP:20260421T143122
CREATED:20241106T141658Z
LAST-MODIFIED:20241107T121442Z
UID:10001194-1744045200-1744048800@verschickungsheime.de
SUMMARY:NRW: Innerlich ruhig und stabil - Achtsamkeits-Training mit Birgit Schönberger
DESCRIPTION:Aufarbeitung Kinderverschickungen NRW e.V. präsentiert:Online-Achtsamkeitskurs einmal im Monat montags von 17.00 bis 18.00 Uhr \n\n\n\nMit Birgit Schönberger \n\n\n\nWenn das Leben gerade verrücktspielt\, unser Alltag anstrengend ist oder belastende Erinnerungen hochkommen\, landen wir manchmal in einer Grübelspirale. Wir verlieren den Mut und den Kontakt zu unseren Stärken. Doch es gibt in uns einen inneren Kraftort und einen Ruhepol\, der immer da ist\, egal\, wieviel Turbulenzen wir erleben. Mit einfachen stärkenden Body-Mind- und Stressregulations-Übungen können wir wieder ins Gleichgewicht kommen. In dieser Workshop-Reihe üben wir\, die Gedanken zu beruhigen\, mit schwierigen Gefühlen umzugehen und uns wieder stabil zu fühlen. Wir erkunden\, was uns stärkt und uns hilft\, mit Herausforderungen umzugehen und daran zu wachsen. Gemeinsam in einer Gruppe in einem geschützten Raum zu üben\, wirkt bereits beruhigend und unterstützend. In jedem Workshop ist am Ende Raum für Austausch zu zweit. Es sind keine Vorkenntnisse nötig. \n\n\n\nHier die neuen Termine: \n\n\n\n25.11.2024/16.12.2024/03.02.2025/03.03.2025/07.04.2025/05.05.2025/02.06.2025 \n\n\n\nAnmeldungen an: Projekt@akv-nrw.deStichwort: Achtsamkeit Birgit \n\n\n\nDieses Angebot wird vom CSP-KV-NRW (Citizen Science Projekt-Kinderverschickungen-NRW) finanziert. Ein Projekt des AKV-NRW e.V.\, gefördert vom MAGS (Ministerium für Arbeit\, Gesundheit und Soziales)\, NRW. Es ist für Verschickungskinder mit NRW-Bezug kostenfrei. Das CSP-KV-NRW hat sich zum Ziel gesetzt\, die unheilvolle Geschichte der Kinderverschickungen aus NRW-Perspektive aufzuarbeiten und Betroffene zu unterstützen.
URL:https://verschickungsheime.de/event/innerlich-ruhig-und-stabil-achtsamkeits-training-mit-birgit-schoenberger/2025-04-07/
CATEGORIES:NRW
ATTACH;FMTTYPE=image/png:https://verschickungsheime.de/wp-content/uploads/2024/11/Achtsamkeit-2024-2025-IG-B.png
END:VEVENT
BEGIN:VEVENT
DTSTART;TZID=Europe/Berlin:20250407T180000
DTEND;TZID=Europe/Berlin:20250407T200000
DTSTAMP:20260421T143122
CREATED:20250404T092027Z
LAST-MODIFIED:20250404T093150Z
UID:10001393-1744048800-1744056000@verschickungsheime.de
SUMMARY:Treffen der Berliner Gruppe Verschickungskinder im Sekis am 7.4.25 um 18 Uhr
DESCRIPTION:Montag\, den 7. 4. 25 lädt die Berliner Gruppe der ehemaligen Verschickungskinder alle Betroffenen\, die heute in Berlin wohnen\, zu einem Präsenztreffen nach Berlin\, in Die Bismarckstraße 101\, ins Sekis e.V. ein. Die Gruppe trifft sich jetzt nur noch einmal im Frühjahr und einmal im Herbst im Sekis. Hier wird sich ausgetauscht und gemeinsam überlegt\, wie wir unser Thema noch weiter voranbringen können.  Zu jeweils bestimmten Themen werden dann aus der Gruppe heraus Veranstaltungen und Unternehmungen geplant\, monatlich wird dazu von Berlin aus immer eine Selbsthilfegruppe im Zoom angeboten. (auch hier unter TERMINE) Kommt einfach auch spontan vorbei\, wir freuen uns: berlin@verschickungsheime.de ( Hier könnt ihr euch anmelden\, wenn ihr regelmäßig über Berliner Veranstaltungen informiert werden wollt) Nächste Veranstaltung am 26. April im Nachbarschaftsheim Schöneberg.
URL:https://verschickungsheime.de/event/treffen-der-berliner-gruppe-verschickungskinder-im-sekis-am-7-4-25-um-18-uhr/
CATEGORIES:Berlin,Brandenburg
ATTACH;FMTTYPE=image/jpeg:https://verschickungsheime.de/wp-content/uploads/2024/01/Kofferaktion.jpeg
END:VEVENT
BEGIN:VEVENT
DTSTART;TZID=Europe/Berlin:20250409T180000
DTEND;TZID=Europe/Berlin:20250409T210000
DTSTAMP:20260421T143122
CREATED:20250404T070448Z
LAST-MODIFIED:20250404T194640Z
UID:10001392-1744221600-1744232400@verschickungsheime.de
SUMMARY:Transgenerationale Weitergabe von NS-Erziehung - Anja Röhl
DESCRIPTION:9.4.25 um 18 Uhr Zoom-Vortrag: \n\n\n\nTransgenerationale Weitergabe von NS-Erziehung und ihre Wirkung auf Deutschland zwischen 1949 bis 1989: Anja Röhl geht in ihrem Vortrag der Frage nach\, in welcher Weise sich NS-Erziehung auf das Leben dieser Kinder nach 1945\, auf ihre Elternkompetenz und ihre Berufstätigkeit (1949 bis 1989 in beiden deutschen Staaten) ausgewirkt hat. Sie erläutert\, dass transgenerationale Weitergabe von NS-Erziehung eine unbewusste Angelegenheit ist\, die sich durch eine besondere\, in Teilen zerstörte Emotionalität vermittelt\, für die die nachkommenden Generationen keine Erklärungen finden können. Daher sollen in dem Vortrag zunächst die Schäden der NS-Kindergeneration zwischen 33 und 45 in den Blick genommen und anschließend der Fokus auf die Auswirkungen dieser Schäden auf die nächste Generation gerichtet werden.
URL:https://verschickungsheime.de/event/transgenerationale-weitergabe-von-ns-erziehung/
CATEGORIES:Bundesweit
ATTACH;FMTTYPE=image/jpeg:https://verschickungsheime.de/wp-content/uploads/2024/07/unnamed.jpg
END:VEVENT
BEGIN:VEVENT
DTSTART;TZID=Europe/Berlin:20250412T173000
DTEND;TZID=Europe/Berlin:20250412T183000
DTSTAMP:20260421T143122
CREATED:20250401T113141Z
LAST-MODIFIED:20250401T113914Z
UID:10001390-1744479000-1744482600@verschickungsheime.de
SUMMARY:NRW: Soul Cooking mit Didi
DESCRIPTION:Präsentiert von Aufarbeitung Kinderverschickungen NRW e.V.:Soul Cooking mit Didi \n\n\n\nNeuer Termin im April! Koch-Workshop online mit Dietmar Schmitz \n\n\n\nEssen kann Trost und Freude spenden. Kochen kann helfen\, den Kopf zu entspannen und innere Ruhe zu finden. Dietmar nahm im vergangenen Jahr an unserer Fortbildung „Positive Psychologie fürs Ehrenamt“ teil. Dabei vertiefte er Themen wie Achtsamkeit\, Selbstwirksamkeit und die Frage nach dem „Warum“ im Leben. Diese wertvollen Erkenntnisse wird er beim gemeinsamen Kochen mit Euch teilen. \n\n\n\nJeder Angemeldete bekommt vorab die Zutaten mitgeteilt. \n\n\n\nWann: Samstag\, 12.04.2025\, 17:30-18:30 Uhr \n\n\n\nAnmeldungen an: projekt@akv-nrw.de \n\n\n\nStichwort: KochenDieses Angebot wird vom CSP-KV-NRW (Citizen Science Projekt-Kinderverschickungen-NRW) finanziert. Ein Projekt des AKV-NRW e.V.\, gefördert vom MAGS (Ministerium für Arbeit\, Gesundheit und Soziales)\, NRW. Es ist für Verschickungskinder mit NRW-Bezug kostenfrei. Das CSP-KV-NRW hat sich zum Ziel gesetzt\, die unheilvolle Geschichte der Kinderverschickungen aus NRW-Perspektive aufzuarbeiten und Betroffene zu unterstützen.
URL:https://verschickungsheime.de/event/nrw-soul-cooking-mit-didi/
CATEGORIES:NRW
ATTACH;FMTTYPE=image/png:https://verschickungsheime.de/wp-content/uploads/2025/02/Soul-Cooking-mit-Didi-Fruehjahr-2025-IG-B.png
END:VEVENT
BEGIN:VEVENT
DTSTART;TZID=Europe/Berlin:20250414T170000
DTEND;TZID=Europe/Berlin:20250414T190000
DTSTAMP:20260421T143122
CREATED:20250221T185836Z
LAST-MODIFIED:20250221T205121Z
UID:10001366-1744650000-1744657200@verschickungsheime.de
SUMMARY:NRW: Schreibwerkstatt mit Sabine Samonig
DESCRIPTION:Präsentiert von Aufarbeitung Kinderverschickungen NRW e.V.:Neue Schreibwerkstatt Frühjahr 2025Aufgrund der begeisterten Rückmeldungen unserer bisherigen Teilnehmerinnen und Teilnehmer freuen wir uns sehr\, erneut eine Schreibwerkstatt mit Sabine Samonig anbieten zu können! \n\n\n\nLasst Euch von Sabines kreativer Energie und Expertise mitreißen und entdeckt die Freude am Schreiben in einer motivierenden Atmosphäre. Ob als Einsteiger:in oder mit Vorkenntnissen – diese Schreibwerkstatt bietet Euch die Möglichkeit\, Eure Fähigkeiten zu vertiefen\, neue Impulse zu gewinnen und sich mit anderen Schreibbegeisterten auszutauschen. \n\n\n\nSabine Samonig unterstützt und begleitet Dich bei Deinen Schritten\, denn: Schreiben kann befreien. Es packt in Worte\, was vielleicht im Kreisverkehr unserer Gedanken feststeckt. Schreiben ist auch wie eine liebevolle Umarmung\, voller Zuneigung. In jedem Fall macht biografisches\, kreatives Schreiben Mut. Es gibt kein richtig und falsch. Bringe Deine Geschichte(n) ans Licht\, ohne jeden literarischen Anspruch. Bring‘ aufs Papier\, was Dir wichtig ist\, was Dich bewegt. Herzlich Willkommen in unserer vierten Schreibwerkstatt! \n\n\n\nWas wir tun: Mithilfe von wertschätzenden vielfältigen Schreibimpulsen nähern wir uns gemeinsam behutsam Deinen Erinnerungen. Du entscheidest\, was Du inhaltlich anschauen und zu Papier bringen willst. In dieser Schreibwerkstatt geht es darum\, mit Offenheit die unterschiedlichen Facetten des Lebens in Worte zu fassen\, nicht nur die belastenden der Verschickung\, sondern auch die schönen. \n\n\n\nFreue Dich darauf\, gemeinsam respektvoll\, stärkend und liebevoll deine Welt zu be-schreiben. Deine einzigartige Weise ist\, was zählt. Sabine Samonig freut sich auf Dich!An allen Abenden dieses Angebots wird es bei Bedarf die Möglichkeit zu einem persönlichen Gespräch geben. Genaue Infos zu Beginn des Workshops. \n\n\n\nZoom-Termine:24.02.2025 (Mo.)10.03.2025 (Mo.)24.03.2025 (Mo.)14.04.2025 (Mo.)Uhrzeit: 17.00 Uhr – ca. 19.00 Uhr \n\n\n\nAnmeldung bitte an: projekt@akv-nrw.deStichwort: „Schreibwerkstatt Sabine“ \n\n\n\nDieses Angebot wird vom CSP-KV-NRW (Citizen Science Projekt-Kinderverschickungen-NRW) finanziert. Ein Projekt des AKV-NRW e.V.\, gefördert vom MAGS (Ministerium für Arbeit\, Gesundheit und Soziales)\, NRW. Es ist für Verschickungskinder mit NRW-Bezug kostenfrei. Das CSP-KV-NRW hat sich zum Ziel gesetzt\, die unheilvolle Geschichte der Kinderverschickungen aus NRW-Perspektive aufzuarbeiten und Betroffene zu unterstützen.
URL:https://verschickungsheime.de/event/schreibwerkstatt-mit-sabine-samonig/2025-04-14/
CATEGORIES:NRW
ATTACH;FMTTYPE=image/png:https://verschickungsheime.de/wp-content/uploads/2025/02/Schreibwerkstatt-2025-IG-B.png
END:VEVENT
BEGIN:VEVENT
DTSTART;TZID=Europe/Berlin:20250415T180000
DTEND;TZID=Europe/Berlin:20250415T200000
DTSTAMP:20260421T143122
CREATED:20250401T113817Z
LAST-MODIFIED:20250401T113858Z
UID:10001391-1744740000-1744747200@verschickungsheime.de
SUMMARY:48. Videotreffen NRW
DESCRIPTION:Liebe Verschickungskinder\, \n\n\n\nwir laden alle Betroffenen mit NRW-Relevanz (aus NRW in ein anderes Bundesland\, oder aus einem anderen Bundesland nach NRW verschickt\, oder keins von beiden\, jedoch aktueller Wohnort in NRW und interessiert) zum 48. Videotreffen am Dienstag\, den 15.04.2025\, 18.00 – 20.00 Uhr ein. \n\n\n\nWer den Einladungslink nicht per NRW-Verteiler automatisch erhält\, kann sich gerne unter detlef.lichtrauter@akv-nrw.de oder unter jutta.redecker@akv-nrw anmelden.
URL:https://verschickungsheime.de/event/48-videotreffen-nrw/
CATEGORIES:NRW
ATTACH;FMTTYPE=image/png:https://verschickungsheime.de/wp-content/uploads/2025/04/48-Videotreffen-IG-B.png
END:VEVENT
BEGIN:VEVENT
DTSTART;TZID=Europe/Berlin:20250416T150000
DTEND;TZID=Europe/Berlin:20250416T160000
DTSTAMP:20260421T143122
CREATED:20250311T145519Z
LAST-MODIFIED:20250311T203753Z
UID:10001375-1744815600-1744819200@verschickungsheime.de
SUMMARY:Sprechstunde mit Anja Röhl
DESCRIPTION:Sprechstunde mit Anja Röhl: Fragen beantworten zum Thema Kinderverschickungen\, Lesungsanfragen\, Erstinfos\, Hilfe bei Recherche zum Heim\, hier der Zoomlink zur Sprechstunde
URL:https://verschickungsheime.de/event/sprechstunde-mit-anja-roehl/
CATEGORIES:Bundesweit
END:VEVENT
BEGIN:VEVENT
DTSTART;TZID=Europe/Berlin:20250420T180000
DTEND;TZID=Europe/Berlin:20250420T193000
DTSTAMP:20260421T143122
CREATED:20250413T152303Z
LAST-MODIFIED:20250413T152506Z
UID:10001397-1745172000-1745177400@verschickungsheime.de
SUMMARY:4. Online-Treffen Verschickungskinder Sylt
DESCRIPTION:hiermit laden wir herzlich alle Betroffenen ein\, die auf Sylt in Verschickungsheime geschickt wurden und sich gerne mit anderen darüber austauschen möchten. \n\n\n\nHier der Link zur Veranstaltung: \n\n\n\nhttps://meet.jit.si/Sylt-Verschickung-HeimortgruppeHOK
URL:https://verschickungsheime.de/event/4-online-treffen-verschickungskinder-sylt/
CATEGORIES:Bundesweit
END:VEVENT
BEGIN:VEVENT
DTSTART;TZID=Europe/Berlin:20250426T160000
DTEND;TZID=Europe/Berlin:20250426T183000
DTSTAMP:20260421T143122
CREATED:20250422T073842Z
LAST-MODIFIED:20250422T073908Z
UID:10001398-1745683200-1745692200@verschickungsheime.de
SUMMARY:Das Elend der Verschickungskinder - Veranstaltung im Nachbarschaftsheim Schöneberg mit Stadtrat Oliver Schworck
DESCRIPTION:Hiermit laden ehemalige Verschickungskinder herzlich zu einer Präsenz-Veranstaltung im NBH Schöneberg\, am 26.4.25 um 16 Uhr zum Thema: Das Elend der Verschickungskinder – Wie kann die individuelle und gesellschaftliche Aufarbeitung aussehen? Referentin Anja Röhl\, als Gast Oliver Schworck
URL:https://verschickungsheime.de/event/das-elend-der-verschickungskinder-veranstaltung-im-nachbarschaftsheim-schoeneberg-mit-stadtrat-oliver-schworck/
CATEGORIES:Berlin,Brandenburg,Bundesweit
END:VEVENT
BEGIN:VEVENT
DTSTART;TZID=Europe/Berlin:20250427T153000
DTEND;TZID=Europe/Berlin:20250427T163000
DTSTAMP:20260421T143122
CREATED:20250221T210800Z
LAST-MODIFIED:20250221T210820Z
UID:10001371-1745767800-1745771400@verschickungsheime.de
SUMMARY:NRW: Ein Tee mit ... Frauke
DESCRIPTION:Präsentiert von Aufarbeitung Kinderverschickungen NRW e.V.:Ein Tee mit … Frauke \n\n\n\nBewegte Meditationen 2 \n\n\n\nEin ZOOM-Workshop von Frauke Kretzer \n\n\n\nNach einem erfolgreichen ersten Workshop bietet Frauke\, Verschickungskind und Yogalehrerin\, auch im März eine Stunde „bewegte Meditation“ an. \n\n\n\nBewegte Meditationen bieten eine schöne Möglichkeit\, bei sich selbst anzukommen und beruhigen das Nervensystem. \n\n\n\nWann: \n\n\n\n30.03.2025\, 15:30-16:30 Uhr \n\n\n\n27.04.2025\, 15:30-16:30 Uhr \n\n\n\nAnmeldungen an: projekt@akv-nrw.de \n\n\n\nStichwort: FraukeDieses Angebot wird vom CSP-KV-NRW (Citizen Science Projekt-Kinderverschickungen-NRW) finanziert. Ein Projekt des AKV-NRW e.V.\, gefördert vom MAGS (Ministerium für Arbeit\, Gesundheit und Soziales)\, NRW. Es ist für Verschickungskinder mit NRW-Bezug kostenfrei. Das CSP-KV-NRW hat sich zum Ziel gesetzt\, die unheilvolle Geschichte der Kinderverschickungen aus NRW-Perspektive aufzuarbeiten und Betroffene zu unterstützen.
URL:https://verschickungsheime.de/event/nrw-ein-tee-mit-frauke/2025-04-27/
CATEGORIES:NRW
ATTACH;FMTTYPE=image/png:https://verschickungsheime.de/wp-content/uploads/2025/02/Tee-mit-Frauke-2025-IG-B.png
END:VEVENT
BEGIN:VEVENT
DTSTART;TZID=Europe/Berlin:20250429T180000
DTEND;TZID=Europe/Berlin:20250429T180000
DTSTAMP:20260421T143122
CREATED:20241209T135246Z
LAST-MODIFIED:20250428T094157Z
UID:10001223-1745949600-1745949600@verschickungsheime.de
SUMMARY:Lesung aus dem Buch: HEIMGESPERRT mit Sylvia Wagner
DESCRIPTION:Referentin: Dr. Sylvia Wagner \n\n\n\nLesung aus dem Buch: heimgesperrt von Sylvia Wagner\, hier dazu ein eindrucksvolles Interview zum Einlesen. es geht um das Aufdecken eines bislang in der Bundesrepublik unbekannten Skandals\, Sylvia Wagner war die erste\, die über illegale Medikamentengaben und -testungen in Verschickungsheimen wissenschaftlich veröffentlicht hat. Davor hatte sie schon entdeckt\, dass dasselbe mit Heimkindern passiert ist. Anmelden über: buko@verschickungsheime.de oder hier gleich über den  \n\n\n\nZoomlink: \n\n\n\nhttps://us06web.zoom.us/j/84615429536?pwd=UXMwSzg0Sm1mVEg1eXdjR2djWHRFUT09 \n\n\n\nMeeting-ID: 846 1542 9536 Kenncode: 883822
URL:https://verschickungsheime.de/event/lesung-aus-dem-buch-heimgesperrt-mit-sylvia-wagner/
CATEGORIES:Bundesweit
END:VEVENT
END:VCALENDAR