BEGIN:VCALENDAR
VERSION:2.0
PRODID:-//Verschickungsheime - ECPv6.15.20//NONSGML v1.0//EN
CALSCALE:GREGORIAN
METHOD:PUBLISH
X-ORIGINAL-URL:https://verschickungsheime.de
X-WR-CALDESC:Veranstaltungen für Verschickungsheime
REFRESH-INTERVAL;VALUE=DURATION:PT1H
X-Robots-Tag:noindex
X-PUBLISHED-TTL:PT1H
BEGIN:VTIMEZONE
TZID:Europe/Berlin
BEGIN:DAYLIGHT
TZOFFSETFROM:+0100
TZOFFSETTO:+0200
TZNAME:CEST
DTSTART:20250330T010000
END:DAYLIGHT
BEGIN:STANDARD
TZOFFSETFROM:+0200
TZOFFSETTO:+0100
TZNAME:CET
DTSTART:20251026T010000
END:STANDARD
BEGIN:DAYLIGHT
TZOFFSETFROM:+0100
TZOFFSETTO:+0200
TZNAME:CEST
DTSTART:20260329T010000
END:DAYLIGHT
BEGIN:STANDARD
TZOFFSETFROM:+0200
TZOFFSETTO:+0100
TZNAME:CET
DTSTART:20261025T010000
END:STANDARD
BEGIN:DAYLIGHT
TZOFFSETFROM:+0100
TZOFFSETTO:+0200
TZNAME:CEST
DTSTART:20270328T010000
END:DAYLIGHT
BEGIN:STANDARD
TZOFFSETFROM:+0200
TZOFFSETTO:+0100
TZNAME:CET
DTSTART:20271031T010000
END:STANDARD
END:VTIMEZONE
BEGIN:VEVENT
DTSTART;TZID=Europe/Berlin:20260303T193000
DTEND;TZID=Europe/Berlin:20260303T210000
DTSTAMP:20260420T024053
CREATED:20260227T122459Z
LAST-MODIFIED:20260227T122502Z
UID:10001571-1772566200-1772571600@verschickungsheime.de
SUMMARY:Treffen der Heimortgruppe Norderney
DESCRIPTION:Die Heimortgruppe Norderney trifft sich per ZOOM an jedem ersten Dienstag im Monat. Wenn Ihr dorthin verschickt wurdet\, seid Ihr herzlich willkommen um Euch untereinander auszutauschen. Dieses Mal wird Hr. Gottfried Labhuhn\, der Missbrauchsbeauftragte der Landeskirche Braunschweig zu Gast sein. \n\n\n\nInformationen und Anmeldung bei Kirsten über: \n\n\n\nNorderney@verschickungsheime.de
URL:https://verschickungsheime.de/event/treffen-der-heimortgruppe-norderney-7/
CATEGORIES:Niedersachsen
ATTACH;FMTTYPE=image/png:https://verschickungsheime.de/wp-content/uploads/2025/04/niedersachsen.png
END:VEVENT
BEGIN:VEVENT
DTSTART;TZID=Europe/Berlin:20260307T110000
DTEND;TZID=Europe/Berlin:20260307T130000
DTSTAMP:20260420T024053
CREATED:20260118T094500Z
LAST-MODIFIED:20260118T095431Z
UID:10001551-1772881200-1772888400@verschickungsheime.de
SUMMARY:BaWü: Selbsthilfegruppe Verschickungskinder in Stuttgart
DESCRIPTION:Jeden 2. Samstag im Monat trifft sich um 11:00 Uhr im Kiss auf der Tübinger Straße 15\, in 70178 Stuttgart die langjährig bestehende „Selbsthilfegruppe Verschickungskinder“ des Bundeslandes Baden-Württemberg. Dort treffen sich Betroffene von Kinderverschickung aus dem Bundesland Baden-Württemberg und tauschen sich miteinaner in Präsenz aus. Neue sind herzlich will kommen! Unsere Kontakt- E-Mail lautet: vk.stuttgart@gmail.com\, kommt einfach vorbei\, Ihr seid willkommen!  \n\n\n\nEure Trudel – Landeskoordination – für die Aktiven der Landesgruppe Bawü und Heike für die SHG
URL:https://verschickungsheime.de/event/30944/
END:VEVENT
BEGIN:VEVENT
DTSTART;TZID=Europe/Berlin:20260310T183000
DTEND;TZID=Europe/Berlin:20260310T200000
DTSTAMP:20260420T024053
CREATED:20260111T113217Z
LAST-MODIFIED:20260111T113218Z
UID:10001529-1773167400-1773172800@verschickungsheime.de
SUMMARY:29. Online-Treffen der BORKUM - Austauschgruppe
DESCRIPTION:Die Borkumaustauschgruppe wurde im November 2021 auf dem 3. Fachkongress „Das Elend der Verschickungskinder “ von den HOKs Silke\, Regina und Uwe ins Leben gerufen. \n\n\n\nMittlerweile sind über 120 Mitglieder dabei\, die alle in Borkumer Heime verschickt waren. \n\n\n\nWir veranstalten regelmäßig Zoomtreffen und teilen unsere Erlebnisse\,  Erfahrungen und tauschen uns über Rechercheergebnisse aus. \n\n\n\nGern könnt Ihr dabei sein. Wir freuen uns darauf Euch kennenzulernen. Bitte schreibt an  \n\n\n\nborkum@verschickungsheime.de
URL:https://verschickungsheime.de/event/29-online-treffen-der-borkum-austauschgruppe/
CATEGORIES:Niedersachsen
ATTACH;FMTTYPE=image/png:https://verschickungsheime.de/wp-content/uploads/2022/07/Wappen_von_Niedersachsen.svg_.png
END:VEVENT
BEGIN:VEVENT
DTSTART;TZID=Europe/Berlin:20260313T180000
DTEND;TZID=Europe/Berlin:20260313T193000
DTSTAMP:20260420T024053
CREATED:20260218T165228Z
LAST-MODIFIED:20260312T065948Z
UID:10001557-1773424800-1773430200@verschickungsheime.de
SUMMARY:Selbsthilfegruppe Berlin
DESCRIPTION:Die Berliner Gruppe bietet Zoom-Treffen für Verschickungskinder mit Berlinbezug an. Wenn Ihr von Berlin aus verschickt wurdet oder jetzt in Berlin wohnt\, seid Ihr herzlich willkommen. Wir sind eine Selbsthilfegruppe\, tauschen unsere Geschichten aus und überlegen\, welche Veranstaltungen wir im Jahre 2026 in Berlin planen. Informationen und Anmeldung über:   Berlin@verschickungsheime.de
URL:https://verschickungsheime.de/event/selbsthilfegruppe-berlin-8/
CATEGORIES:Berlin,Selbsthilfegruppe
ATTACH;FMTTYPE=image/png:https://verschickungsheime.de/wp-content/uploads/2022/07/800px-Coat_of_arms_of_Berlin.svg_.png
END:VEVENT
BEGIN:VEVENT
DTSTART;TZID=Europe/Berlin:20260314T100000
DTEND;TZID=Europe/Berlin:20260314T110000
DTSTAMP:20260420T024053
CREATED:20260112T200044Z
LAST-MODIFIED:20260112T200047Z
UID:10001535-1773482400-1773486000@verschickungsheime.de
SUMMARY:Bund: Neuentreff
DESCRIPTION:Neue Interessenten am Thema Kinder-Verschickungen\, Betroffene\, Angehörige\, Interessierte Wissenschaftler – Anja Röhl\, erste Infos zum Thema\, Anmeldung unter: info@verschickungsheime.de
URL:https://verschickungsheime.de/event/bund-neuentreff/
END:VEVENT
BEGIN:VEVENT
DTSTART;TZID=Europe/Berlin:20260320T090000
DTEND;TZID=Europe/Berlin:20260320T183000
DTSTAMP:20260420T024053
CREATED:20260319T080608Z
LAST-MODIFIED:20260319T080610Z
UID:10001584-1773997200-1774031400@verschickungsheime.de
SUMMARY:Vortrag Transgenerationale Weitergabe von NS-Ideologie und NS-Erziehung - Anja Röhl in Paris
DESCRIPTION:Vortrag von Anja Röhl zum Thema: 12 Millionen „Verschickungskinder“ –  Ein Phänomen von Transgenerationaler Weitergabe von Nazi-Ideologie und Nazi-Erziehung? PARIS auf einer Tagung der Association francaise de psychiatrie: „Colloque 20.03.2026 : Transmission transgénérationnelle  \n\n\n\n\nparASSOCIATION FRANCAISE DE PSYCHIATRIE\n\n\n\n\n Le 20 mars 2026\, de 09h à 18h30 \n\n\n\nTransmission transgénérationnelle : déclinaisons génétique\, familiale et historique Salle de Conférence Notre Dame – 92bis Boulevard du Montparnasse\, Paris 75014
URL:https://verschickungsheime.de/event/vortrag-transgenerationale-weitergabe-von-ns-ideologie-und-ns-erziehung-anja-roehl-in-paris-2/
CATEGORIES:Bundesweit
ATTACH;FMTTYPE=image/jpeg:https://verschickungsheime.de/wp-content/uploads/2026/03/IMG_4483-scaled.jpg
END:VEVENT
BEGIN:VEVENT
DTSTART;TZID=Europe/Berlin:20260325T190000
DTEND;TZID=Europe/Berlin:20260325T203000
DTSTAMP:20260420T024053
CREATED:20251222T144448Z
LAST-MODIFIED:20251225T120759Z
UID:10001513-1774465200-1774470600@verschickungsheime.de
SUMMARY:LK-Treffen / Aktivenschalte im März
DESCRIPTION:LK-Treffen im Zoom: Austauschtreffen der Landeskoordinatoren auf Bundesländerebene. Anmelden bei Renate Brueser vom Vorstand: buko@verschickungsheime.de
URL:https://verschickungsheime.de/event/aktivenschalte-im-maerz/
CATEGORIES:Bundesweit
ATTACH;FMTTYPE=image/jpeg:https://verschickungsheime.de/wp-content/uploads/2025/05/IMG_0038.jpeg
END:VEVENT
BEGIN:VEVENT
DTSTART;TZID=Europe/Berlin:20260326T110000
DTEND;TZID=Europe/Berlin:20260326T120000
DTSTAMP:20260420T024053
CREATED:20260113T113719Z
LAST-MODIFIED:20260113T113732Z
UID:10001544-1774522800-1774526400@verschickungsheime.de
SUMMARY:BUND: Sprechstunde mit Renate (Vorstandsmitglied der Initiative verschickungskinder e.V.)
DESCRIPTION:„Du bist neu in der Initiative\, möchtest deine Geschichte erzählen und/oder du hättest gerne Infos über unsere Arbeit.“ dann bist du hier richtig\, melde dich gern an unter: buko@verschickungsheime.de\, dann bekommst du den Zoomlink zugeschickt.
URL:https://verschickungsheime.de/event/bund-sprechstunde-mit-renate-vorstandsmitglied-der-initiative-verschickungskinder-e-v/
CATEGORIES:Bundesweit
END:VEVENT
BEGIN:VEVENT
DTSTART;TZID=Europe/Berlin:20260326T173000
DTEND;TZID=Europe/Berlin:20260326T183000
DTSTAMP:20260420T024053
CREATED:20260116T122303Z
LAST-MODIFIED:20260224T105830Z
UID:10001568-1774546200-1774549800@verschickungsheime.de
SUMMARY:NRW: Sanftes Yoga - 45 Minuten online mit Frauke Kretzer
DESCRIPTION:Aufarbeitung Kinderverschickungen NRW e.V. präsentiert:Sanftes Yoga – 45 Minuten online mit Frauke Kretzer \n\n\n\nOb auf der Matte oder auf dem Stuhl – mit sanften Yogaübungen bringst du Bewegung und Entspannung in deinen Abend. Du kannst ganz einfach in deinem geschützten Raum von Zuhause aus mitmachen. Alles\, was du brauchst\, sind ein Online-Zugang und ein bequemer Platz zum Üben. \n\n\n\nWir bewegen uns etwa 40 Minuten und gehen dann in eine kurze Entspannung. Mit Ankommen und Feedback-Runde plane bitte in etwa eine Stunde ein! \n\n\n\nDu kannst dich direkt für alle vier Veranstaltungen anmelden oder zu einzelnen Stunden dazukommen. \n\n\n\nFrauke ist selbst Verschickungskind und nebenberuflich Yogalehrerin. Seit 2024 ist sie bei uns im Verein dabei und unterrichtete z.B. auch auf unserem Begegnungstag in Dorsten. \n\n\n\nImmer am letzten Donnerstag im Monat von 17:30-18:30 Uhr. \n\n\n\nNächste Termine:29.01.2026\, 26.02.2026\, 26.03.2026\, 30.04.2026 \n\n\n\nAnmeldung bitte unter projekt@akv-nrw.deStichwort „Yoga“ \n\n\n\nDieses Angebot wird vom CSP-KV-NRW (Citizen Science Projekt-Kinderverschickungen-NRW) finanziert. Ein Projekt des AKV-NRW e.V.\, gefördert vom MAGS (Ministerium für Arbeit\, Gesundheit und Soziales)\, NRW. Es ist für Verschickungskinder mit NRW-Bezug kostenfrei. Das CSP-KV-NRW hat sich zum Ziel gesetzt\, die unheilvolle Geschichte der Kinderverschickungen aus NRW-Perspektive aufzuarbeiten und Betroffene zu unterstützen.
URL:https://verschickungsheime.de/event/nrw-sanftes-yoga-45-minuten-online-mit-frauke-kretzer/2026-03-26/
CATEGORIES:NRW
ATTACH;FMTTYPE=image/png:https://verschickungsheime.de/wp-content/uploads/2026/01/Sanftes-Yoga-mit-Frauke-Fruehjahr-2026-Rev-A-IG-B.png
END:VEVENT
BEGIN:VEVENT
DTSTART;TZID=Europe/Berlin:20260330T170000
DTEND;TZID=Europe/Berlin:20260330T190000
DTSTAMP:20260420T024053
CREATED:20260317T120349Z
LAST-MODIFIED:20260317T120351Z
UID:10001583-1774890000-1774897200@verschickungsheime.de
SUMMARY:Schleswig-Holstein: Treffen Selbsthilfegruppe Kiel
DESCRIPTION:Start Aufbau einer Selbsthilfegruppe (SHG) Ehemalige Verschickungskinder treffen sich zum Erfahrungsaustausch\, der Verschickungsort spielt keine Rolle\, keine Therapiegruppe. Präsenztreffen im KulturForum\,   Andreas-Gayk-Str.31\,   24103 Kiel \n\n\n\nKontakt: Susanne Dank:  susanne.s-h@online.de
URL:https://verschickungsheime.de/event/schleswig-holstein-treffen-selbsthilfegruppe-kiel-2/
CATEGORIES:Schleswig-Holstein
ATTACH;FMTTYPE=image/png:https://verschickungsheime.de/wp-content/uploads/2022/07/DEU_Schleswig-Holstein_COA.svg_.png
END:VEVENT
END:VCALENDAR